From mboxrd@z Thu Jan 1 00:00:00 1970 Return-Path: Received: from mails.dpdk.org (mails.dpdk.org [217.70.189.124]) by inbox.dpdk.org (Postfix) with ESMTP id 8C97A48B51 for ; Thu, 20 Nov 2025 03:21:41 +0100 (CET) Received: from mails.dpdk.org (localhost [127.0.0.1]) by mails.dpdk.org (Postfix) with ESMTP id 75BF840262; Thu, 20 Nov 2025 03:21:41 +0100 (CET) Received: from mail-oo1-f100.google.com (mail-oo1-f100.google.com [209.85.161.100]) by mails.dpdk.org (Postfix) with ESMTP id 1A2AD40262 for ; Thu, 20 Nov 2025 03:21:40 +0100 (CET) Received: by mail-oo1-f100.google.com with SMTP id 006d021491bc7-657044fea68so590729eaf.0 for ; Wed, 19 Nov 2025 18:21:40 -0800 (PST) DKIM-Signature: v=1; a=rsa-sha256; c=relaxed/relaxed; d=iol.unh.edu; s=unh-iol; t=1763605299; x=1764210099; darn=dpdk.org; h=references:in-reply-to:cc:to:from:subject:message-id:date:from:to :cc:subject:date:message-id:reply-to; bh=k+btiKAHPTKY32qIATE5I4LSOuNrXDOFNaAvmDrBb+s=; b=e1mjAo6GheK9felRUYlM+5g7llnSwI0T13PuuiQSspdxowaG8Wne76K6CSELQPloEG tXiNfR0EImA+w13CbS4G1xbedJGn6bpVEUy9d36neZ/dxaEvgnB+QURkBz5FZYhHGUr3 n71ZyswTSptqsq879W8qCVL9jKEjE/smnQYtw= X-Google-DKIM-Signature: v=1; a=rsa-sha256; c=relaxed/relaxed; d=1e100.net; s=20230601; t=1763605299; x=1764210099; h=references:in-reply-to:cc:to:from:subject:message-id:date:x-gm-gg :x-gm-message-state:from:to:cc:subject:date:message-id:reply-to; bh=k+btiKAHPTKY32qIATE5I4LSOuNrXDOFNaAvmDrBb+s=; b=jBXA+a9iAYx3VywvZZvfBpAA/a++AVWWzDc/zPrlz1WNUIKLb1ND6tZH3r9ITgFRKR kjzzhzN7/1NxKJdTJd0MjuThRcLEolRYaEWGhpJff9P6nJVfnHffl+V3PfX24RQwiqWH d2nIELur94JcRedHH6Mm02WoZ5Iwm42XnMJ5OGf4Mq6ZdGRyR2RWhzwww/jd83pnkXqk 5OvcPcsH0ee8jeGzu5i2kPPSSKSmQxAGmjlP2jED2LzRl7JlUcj9NJC0bLugudtdfSw/ FpJINtASMRikjjnAJdyzvBPt39LZXS+boVh6zb8oye8Jri77ytNaRYKZl+cvmHFEIh5/ nZlQ== X-Gm-Message-State: AOJu0Ywi4pfm0Gu4rPXF2NBgeEYvJDRQ5rEWOxrYnzYYpyNB/kvjEjhb rHZpIEMFfTh/2qfCQjBYwD+cjdHlV+xyfMGOCPvqXBlnbneOWIyB4kscKMI99lX+jh/pPSmQpqB CS2bOVzHg1ZlcLNi2YMXfT2HVFssFgUewplv6jpMGTmov X-Gm-Gg: ASbGncvemaFBY9zI9vu/3sAbQXCcNsYBmoyyzROKzs/t+mdvrLIwE6EZ/9K5/M3UkQU +Uuqkn3TaP/fNNr/vR3BUilvPxgBmwNEcxBoY+OdB+ZDXHxuYoTbWmMU+233xuLM/8f0/pgYiCN tSkK8RBvTO6GM0PRNWYomoMcQDX9fMGeYhzC6tEuZ25+wMXeud/XVjhdzQswxHcoyoj76p1cu6T obDO8WAlKflJYdw4nRS7F03eSycF/HNYGOwyRjIym5W19vrQLnAIRnHo6a4RewnpJWnB59QiiM2 cEk9SCmOJH8OW7yE7UNqCBoaBm37tRAA4Ouko/gi9K7XTpfm+sheniDVSrGOJ6hcBtxsUxsZbKs pcIOCc79L0H19HR5GHzUH5tjYOfTqcvbt8UuchLWfbA== X-Google-Smtp-Source: AGHT+IGp4PhWyCG9DfQ1rpCgz2zy3U580jjHzbreICC7NuqORTQFXtJC5VACCMN9gUXF0fHE6xekv6gz3YuR X-Received: by 2002:a05:6808:148b:b0:450:b92c:aaa2 with SMTP id 5614622812f47-45101e3095cmr399345b6e.18.1763605299063; Wed, 19 Nov 2025 18:21:39 -0800 (PST) Received: from postal.iol.unh.edu (postal.iol.unh.edu. [132.177.123.84]) by smtp-relay.gmail.com with ESMTPS id 586e51a60fabf-3ec9dc63cdesm99789fac.13.2025.11.19.18.21.38 (version=TLS1_2 cipher=ECDHE-ECDSA-AES128-GCM-SHA256 bits=128/128); Wed, 19 Nov 2025 18:21:39 -0800 (PST) X-Relaying-Domain: iol.unh.edu Date: Wed, 19 Nov 2025 18:21:39 -0800 (PST) Message-ID: <691e7b33.050a0220.5813.588fSMTPIN_ADDED_MISSING@mx.google.com> Received: from [172.21.0.3] (unknown [172.18.0.240]) by postal.iol.unh.edu (Postfix) with ESMTP id 8FB9F6051830; Wed, 19 Nov 2025 21:21:38 -0500 (EST) Subject: |SUCCESS| pw158932 [PATCH] mbuf: fix packet copy From: dpdklab@iol.unh.edu To: Test Report Cc: dpdk-test-reports@iol.unh.edu In-Reply-To: <20251119120403.907511-1-mb@smartsharesystems.com> References: <20251119120403.907511-1-mb@smartsharesystems.com> Content-Type: text/plain X-BeenThere: test-report@dpdk.org X-Mailman-Version: 2.1.29 Precedence: list List-Id: automatic DPDK test reports List-Unsubscribe: , List-Archive: List-Post: List-Help: List-Subscribe: , Errors-To: test-report-bounces@dpdk.org Test-Label: iol-unit-arm64-testing Test-Status: SUCCESS http://dpdk.org/patch/158932 _Testing PASS_ Submitter: Morten Brorup Date: Wednesday, November 19 2025 12:04:03 DPDK git baseline: Repo:dpdk Branch: master CommitID:ef98b88455bf4a7c8b7aa3106a761c9e9270d6a3 158932 --> testing pass Upstream job id: Generic-Unit-Test-DPDK#394505 Test environment and result as below: +------------------------------+--------------+----------------+------------------------------+---------------------------+ | Environment | lpm_autotest | dpdk_unit_test | cryptodev_sw_snow3g_autotest | cryptodev_sw_zuc_autotest | +==============================+==============+================+==============================+===========================+ | Ubuntu 20.04 | PASS | PASS | SKIPPED | SKIPPED | +------------------------------+--------------+----------------+------------------------------+---------------------------+ | CentOS Stream 9 | SKIPPED | PASS | SKIPPED | SKIPPED | +------------------------------+--------------+----------------+------------------------------+---------------------------+ | Fedora Linux 40 | SKIPPED | PASS | SKIPPED | SKIPPED | +------------------------------+--------------+----------------+------------------------------+---------------------------+ | CentOS Stream 10 | SKIPPED | PASS | SKIPPED | SKIPPED | +------------------------------+--------------+----------------+------------------------------+---------------------------+ | Fedora Linux 41 | SKIPPED | PASS | SKIPPED | SKIPPED | +------------------------------+--------------+----------------+------------------------------+---------------------------+ | Debian GNU/Linux 12 | SKIPPED | PASS | SKIPPED | SKIPPED | +------------------------------+--------------+----------------+------------------------------+---------------------------+ | Fedora Linux 42 | SKIPPED | PASS | SKIPPED | SKIPPED | +------------------------------+--------------+----------------+------------------------------+---------------------------+ | Ubuntu 22.04 | SKIPPED | PASS | SKIPPED | SKIPPED | +------------------------------+--------------+----------------+------------------------------+---------------------------+ | Red Hat Enterprise Linux 9.5 | SKIPPED | PASS | SKIPPED | SKIPPED | +------------------------------+--------------+----------------+------------------------------+---------------------------+ | Ubuntu 24.04 | SKIPPED | PASS | SKIPPED | SKIPPED | +------------------------------+--------------+----------------+------------------------------+---------------------------+ | Debian 12 (arm) | SKIPPED | SKIPPED | PASS | PASS | +------------------------------+--------------+----------------+------------------------------+---------------------------+ Ubuntu 20.04 Kernel: 5.4 Compiler: gcc gcc (Ubuntu 9.4.0-1ubuntu1~20.04.2) 9.4.0 CentOS Stream 9 Kernel: 5.4 Compiler: gcc gcc (GCC) 11.5.0 20240719 (Red Hat 11.5.0-11) Fedora Linux 40 Kernel: 5.4 Compiler: gcc gcc (GCC) 14.2.1 20240912 (Red Hat 14.2.1-3) CentOS Stream 10 Kernel: 5.4 Compiler: gcc gcc (GCC) 14.2.1 20250110 (Red Hat 14.2.1-8) Fedora Linux 41 Kernel: 5.4 Compiler: gcc gcc (GCC) 14.3.1 20250523 (Red Hat 14.3.1-1) Debian GNU/Linux 12 Kernel: 5.4 Compiler: gcc gcc (Debian 12.2.0-14+deb12u1) 12.2.0 Fedora Linux 42 Kernel: 5.4 Compiler: gcc gcc (GCC) 15.2.1 20250808 (Red Hat 15.2.1-1) Ubuntu 22.04 Kernel: 5.4 Compiler: gcc gcc (Ubuntu 11.4.0-1ubuntu1~22.04) 11.4.0 Red Hat Enterprise Linux 9.5 Kernel: 5.4 Compiler: gcc gcc (GCC) 11.5.0 20240719 (Red Hat 11.5.0-2) Ubuntu 24.04 Kernel: 5.4 Compiler: gcc gcc (Ubuntu 13.3.0-6ubuntu2~24.04) 13.3.0 Debian 12 (arm) Kernel: Depends on container host Compiler: gcc (Debian 12.2.0-14) 12.2.0 To view detailed results, visit: https://lab.dpdk.org/results/dashboard/patchsets/34642/ UNH-IOL DPDK Community Lab To manage your email subscriptions, visit: https://lab.dpdk.org/results/dashboard/preferences/subscriptions/