From mboxrd@z Thu Jan 1 00:00:00 1970 Return-Path: Received: from mails.dpdk.org (mails.dpdk.org [217.70.189.124]) by inbox.dpdk.org (Postfix) with ESMTP id 2E88148B52 for ; Thu, 20 Nov 2025 04:07:01 +0100 (CET) Received: from mails.dpdk.org (localhost [127.0.0.1]) by mails.dpdk.org (Postfix) with ESMTP id 11D4B40262; Thu, 20 Nov 2025 04:07:01 +0100 (CET) Received: from mail-pj1-f98.google.com (mail-pj1-f98.google.com [209.85.216.98]) by mails.dpdk.org (Postfix) with ESMTP id 5525340262 for ; Thu, 20 Nov 2025 04:06:59 +0100 (CET) Received: by mail-pj1-f98.google.com with SMTP id 98e67ed59e1d1-343514c7854so213175a91.1 for ; Wed, 19 Nov 2025 19:06:59 -0800 (PST) DKIM-Signature: v=1; a=rsa-sha256; c=relaxed/relaxed; d=iol.unh.edu; s=unh-iol; t=1763608018; x=1764212818; darn=dpdk.org; h=cc:to:from:subject:message-id:date:from:to:cc:subject:date :message-id:reply-to; bh=DCD83PV6D+hq6RWWSErkhIbEYRvy/Trogj3dvyDJP9M=; b=WJJRga4dB537bTtflXvgTqv8WhLkU1/wzqASA5/zL75XY5x95SZF5ipBCmHr+ruKpA UTrivr0cJ0rmEmtt7YO1V0FM3utv3rc2x5entKc9YAh6L6q2sUoYjgl4uelRPFsq4pTo IIaDXuUy3QRGvkDEyuW30bHGgpUA9CBUIJOqc= X-Google-DKIM-Signature: v=1; a=rsa-sha256; c=relaxed/relaxed; d=1e100.net; s=20230601; t=1763608018; x=1764212818; h=cc:to:from:subject:message-id:date:x-gm-gg:x-gm-message-state:from :to:cc:subject:date:message-id:reply-to; bh=DCD83PV6D+hq6RWWSErkhIbEYRvy/Trogj3dvyDJP9M=; b=S8TcgoVwhkbK4+M3hWiN6SOveLKeZSuL+gS6mQLbBRe6hoWYacwAWrEfBfG7FFUVwg wLwS1Z7FR556l6BMr6dtQHz0yDrrjPn37dXHlVGoS1uedqikU8Cfk7piavB/q9aZhg2B NgqI4I7PFz8eadNcCICZGIg+DzzjXikw+3RVV3lsRkCFrWzbqlvxSxu6si9zCtTjYvkn hSU3x/GfnIjo7TLI7IcelMoVYr4Tq5SdPv4KW1hy+xzSd66WYFSv/w1q7uGeLHiXPCt+ irt/HzlR03yzYE8diPQb7Sf3/um94UDbrTRTn7ivR5qSBo+EytCC8obHs0K6wkG+HTGI hcjw== X-Gm-Message-State: AOJu0YzJHWnnjJmvjVhNvTjI6whpWvqL3FdJXM89kQmTR9EU7iFPy/Tl dp/75waQVGxyKYnG2/Mzm5FoDKXYGvV1lygk+MPjqdGqAF9oP4AgTCuSVO+5LjAzFWmSBWlQsKl OJNBDbGBD/nIc/OcjP95OxjwNPJ3wCPUqKGUk1D74Fxoa X-Gm-Gg: ASbGnctWJWlHrotFwBMQ/FI7hiXvIjU2ABcjFk1SDkhO2z5o6b6hpcGySjQtdqxBhhs IoDySo8pw0D7NKJvj6BhwBO6ikbanhhJIeQFKGYXX1jHEedL3m2lLuLaNpKaZANcVwipVgZzW5J nooLzoJ85S8/hDOO/vfdzDPecpQTsyd4KA1b9J8tPam1RYFt1aD4LMWJ2JVmEhqklCnsEMgUZRp D2MHUrEnRL5hnq15H9XH1MRHxmI63HU9hM2oSu8XynKmiSu5s3AMbsAoI0Ms91SyPnSUZGwryw+ qLygDLy7pwIVl2CVJhbJOH9qhgFGW9j0k6VbY7zK2g6PzIncx42qV0EiV1+Ol/Yu/DuOP3EWXtu W0u8jIzaVq2SWa/H6/io9FFuSS2WMo6yIqXUSJFoqEw== X-Google-Smtp-Source: AGHT+IFsIQI9q2ahN7ZtwtD1RpONEHzlPiK6uNd1yjZ6w3u/LCmGh12PuU6h+uN/iukKrjf1d+MyUNwbwQBN X-Received: by 2002:a17:90a:dfcb:b0:343:7711:127d with SMTP id 98e67ed59e1d1-347298a9fabmr893911a91.9.1763608018337; Wed, 19 Nov 2025 19:06:58 -0800 (PST) Received: from postal.iol.unh.edu (postal.iol.unh.edu. [132.177.123.84]) by smtp-relay.gmail.com with ESMTPS id 98e67ed59e1d1-347269440d2sm110709a91.7.2025.11.19.19.06.58 (version=TLS1_2 cipher=ECDHE-ECDSA-AES128-GCM-SHA256 bits=128/128); Wed, 19 Nov 2025 19:06:58 -0800 (PST) X-Relaying-Domain: iol.unh.edu Date: Wed, 19 Nov 2025 19:06:58 -0800 (PST) Message-ID: <691e85d2.170a0220.7c670.5c83SMTPIN_ADDED_MISSING@mx.google.com> Received: from [172.21.0.2] (unknown [172.18.0.240]) by postal.iol.unh.edu (Postfix) with ESMTP id 645A460003EA; Wed, 19 Nov 2025 22:06:57 -0500 (EST) Subject: |SUCCESS| [GIT MASTER] ef98b88455bf4a7c8b7aa3106a761c9e9270d6a3 From: dpdklab@iol.unh.edu To: Test Report Cc: dpdk-test-reports@iol.unh.edu Content-Type: text/plain X-BeenThere: test-report@dpdk.org X-Mailman-Version: 2.1.29 Precedence: list List-Id: automatic DPDK test reports List-Unsubscribe: , List-Archive: List-Post: List-Help: List-Subscribe: , Errors-To: test-report-bounces@dpdk.org _Testing PASS_ Branch: dpdk ef98b88455bf4a7c8b7aa3106a761c9e9270d6a3 --> testing pass Upstream job id: Generic-Unit-Test-DPDK#394525 Test environment and result as below: +------------------------------+----------------+---------------------------+------------------------------+--------------+ | Environment | dpdk_unit_test | cryptodev_sw_zuc_autotest | cryptodev_sw_snow3g_autotest | lpm_autotest | +==============================+================+===========================+==============================+==============+ | Ubuntu 22.04 | PASS | SKIPPED | SKIPPED | SKIPPED | +------------------------------+----------------+---------------------------+------------------------------+--------------+ | Fedora Linux 42 | PASS | SKIPPED | SKIPPED | SKIPPED | +------------------------------+----------------+---------------------------+------------------------------+--------------+ | Debian GNU/Linux 12 | PASS | SKIPPED | SKIPPED | SKIPPED | +------------------------------+----------------+---------------------------+------------------------------+--------------+ | Ubuntu 20.04 | PASS | SKIPPED | SKIPPED | PASS | +------------------------------+----------------+---------------------------+------------------------------+--------------+ | Fedora Linux 41 | PASS | SKIPPED | SKIPPED | SKIPPED | +------------------------------+----------------+---------------------------+------------------------------+--------------+ | CentOS Stream 10 | PASS | SKIPPED | SKIPPED | SKIPPED | +------------------------------+----------------+---------------------------+------------------------------+--------------+ | Ubuntu 24.04 | PASS | SKIPPED | SKIPPED | SKIPPED | +------------------------------+----------------+---------------------------+------------------------------+--------------+ | Fedora Linux 40 | PASS | SKIPPED | SKIPPED | SKIPPED | +------------------------------+----------------+---------------------------+------------------------------+--------------+ | Red Hat Enterprise Linux 9.5 | PASS | SKIPPED | SKIPPED | SKIPPED | +------------------------------+----------------+---------------------------+------------------------------+--------------+ | CentOS Stream 9 | PASS | SKIPPED | SKIPPED | SKIPPED | +------------------------------+----------------+---------------------------+------------------------------+--------------+ | Debian 12 (arm) | SKIPPED | PASS | PASS | SKIPPED | +------------------------------+----------------+---------------------------+------------------------------+--------------+ Ubuntu 22.04 Kernel: 5.4 Compiler: gcc gcc (Ubuntu 11.4.0-1ubuntu1~22.04) 11.4.0 Fedora Linux 42 Kernel: 5.4 Compiler: gcc gcc (GCC) 15.2.1 20250808 (Red Hat 15.2.1-1) Debian GNU/Linux 12 Kernel: 5.4 Compiler: gcc gcc (Debian 12.2.0-14+deb12u1) 12.2.0 Ubuntu 20.04 Kernel: 5.4 Compiler: gcc gcc (Ubuntu 9.4.0-1ubuntu1~20.04.2) 9.4.0 Fedora Linux 41 Kernel: 5.4 Compiler: gcc gcc (GCC) 14.3.1 20250523 (Red Hat 14.3.1-1) CentOS Stream 10 Kernel: 5.4 Compiler: gcc gcc (GCC) 14.2.1 20250110 (Red Hat 14.2.1-8) Ubuntu 24.04 Kernel: 5.4 Compiler: gcc gcc (Ubuntu 13.3.0-6ubuntu2~24.04) 13.3.0 Fedora Linux 40 Kernel: 5.4 Compiler: clang gcc (GCC) 14.2.1 20240912 (Red Hat 14.2.1-3) Red Hat Enterprise Linux 9.5 Kernel: 5.4 Compiler: gcc gcc (GCC) 11.5.0 20240719 (Red Hat 11.5.0-2) CentOS Stream 9 Kernel: 5.4 Compiler: gcc gcc (GCC) 11.5.0 20240719 (Red Hat 11.5.0-11) Debian 12 (arm) Kernel: Depends on container host Compiler: gcc (Debian 12.2.0-14) 12.2.0 To view detailed results, visit: https://lab.dpdk.org/results/dashboard/tarballs/35659/ UNH-IOL DPDK Community Lab To manage your email subscriptions, visit: https://lab.dpdk.org/results/dashboard/preferences/subscriptions/