From mboxrd@z Thu Jan 1 00:00:00 1970 Return-Path: Received: from mails.dpdk.org (mails.dpdk.org [217.70.189.124]) by inbox.dpdk.org (Postfix) with ESMTP id 4DE5348B53 for ; Thu, 20 Nov 2025 07:48:51 +0100 (CET) Received: from mails.dpdk.org (localhost [127.0.0.1]) by mails.dpdk.org (Postfix) with ESMTP id 2EEFA40262; Thu, 20 Nov 2025 07:48:51 +0100 (CET) Received: from mail-oa1-f98.google.com (mail-oa1-f98.google.com [209.85.160.98]) by mails.dpdk.org (Postfix) with ESMTP id 71C7440262 for ; Thu, 20 Nov 2025 07:48:50 +0100 (CET) Received: by mail-oa1-f98.google.com with SMTP id 586e51a60fabf-3e2f4c5b26dso122539fac.0 for ; Wed, 19 Nov 2025 22:48:50 -0800 (PST) DKIM-Signature: v=1; a=rsa-sha256; c=relaxed/relaxed; d=iol.unh.edu; s=unh-iol; t=1763621329; x=1764226129; darn=dpdk.org; h=cc:to:from:subject:message-id:date:from:to:cc:subject:date :message-id:reply-to; bh=wi+0sWhiozDyQmfN5ClZWKRFR0Ohd/+Zgb03s821zfs=; b=V+D7d0Jqam+xfOrF+vChnEbLodGwoNj5/OzmRk72iN0u2RLg8J04dNlDWSclBUJ/Wv 6qT+5FtB3qDXC/6UDJ1vnG9aqRc9mTVNdUmeMUIyMKTv6hurBrG79Uayyvz4JncQbzzH Qlu+H6jSIK+/zGRjaAnaQU5CBlpYk8civ+7Q8= X-Google-DKIM-Signature: v=1; a=rsa-sha256; c=relaxed/relaxed; d=1e100.net; s=20230601; t=1763621329; x=1764226129; h=cc:to:from:subject:message-id:date:x-gm-gg:x-gm-message-state:from :to:cc:subject:date:message-id:reply-to; bh=wi+0sWhiozDyQmfN5ClZWKRFR0Ohd/+Zgb03s821zfs=; b=vYo5+sN2zwc+eP9B6oi23k7/2qf+UA7yIvR9ZeSRABeTxB3Cc29zzDTlVB9wCZ2/3K GuyU+1FvZUsutnMA+5yR1tI/W/Z5uJ+lNn2lLJbWZdal6EZbgWQrPZtoiYQH8KUgysiT 5SgkLKIVwqIgl9EG5BE1AIdq7MaMhjkWR1ujRzG5S8LDl7BUys1HxiEGv940ysNJ0tjr mRZhVuwTFgo5MbHEDKPSOWLKxgEmEAdwImr9YHNVfVlKZv8pUDAKuart8xiHvDHvtPI0 HoXxZkF2qtVuPx9+91avmV+x2e2obFvG3fNUEvLoXZbrqLFx9CmlFTB3lig8RF/Gdjzu blkg== X-Gm-Message-State: AOJu0Yz0zOpWgF63WRPPk+Cpjwhgeek26LICm7eCuXElqjtg3X0iZKOX 4HYrVVbAZnJYa432OreL1k0k82LqrnrCYEQV2VP50n04DBUQXzVpsnkcPe/OboyLzge1YqKfJtn l269/5w6zTKXZkrauEIKc1Eo7+mNd2UBUgOLx X-Gm-Gg: ASbGncuPy9rdeRboGFUOOYihZIgDPrQjNphC/AQspm8YjRGcMUHeujrLSjAlbHZ6J2y 3YNlT8bw3OQDM3VWpRCAL779AiAgUz5yariNNUHi17RwDSX5ZdTdG/WRXaSidxF5F5oWae/yfmY uoJxYEP23u4xosv5Dlt6F2M902Q8cfVQNP+J0TK8V0wmIMIIGsl9cgxs38Lf7TJG2UIrfsIQvfT d66HIucfpch7h+5KSXV8Ncn08c2+gmqXUMWrjf4LjW7ve5JnqxOqAwGhnHkewl1eAxcKN5nJ7qT pSKZoiARGu+4cM6yCjerdVAG7fyaubiyC6vyfixkEgQUhwMMDd1xrJlSKSY4o6EPDOWhXdsBH8E fRFc9/Xp6I8IKQs133k4cPPll+6uZ4WN5Wphg+mJ+Lw== X-Google-Smtp-Source: AGHT+IGReR5s6ijQMJ0y3dT2daWErQEI48QHLzjoZ7lqyf+by7cKKaYz7luI4zMhjNm0sQBjExCiEA6rGkuS X-Received: by 2002:a05:6808:1801:b0:450:b8da:b800 with SMTP id 5614622812f47-450ff3c18a4mr877429b6e.47.1763621329619; Wed, 19 Nov 2025 22:48:49 -0800 (PST) Received: from postal.iol.unh.edu (postal.iol.unh.edu. [132.177.123.84]) by smtp-relay.gmail.com with ESMTPS id 586e51a60fabf-3ec9dc766d6sm150824fac.14.2025.11.19.22.48.49 (version=TLS1_2 cipher=ECDHE-ECDSA-AES128-GCM-SHA256 bits=128/128); Wed, 19 Nov 2025 22:48:49 -0800 (PST) X-Relaying-Domain: iol.unh.edu Date: Wed, 19 Nov 2025 22:48:49 -0800 (PST) Message-ID: <691eb9d1.050a0220.2663d9.8da0SMTPIN_ADDED_MISSING@mx.google.com> Received: from [172.21.0.3] (unknown [172.18.0.240]) by postal.iol.unh.edu (Postfix) with ESMTP id 1D5546051830; Thu, 20 Nov 2025 01:48:49 -0500 (EST) Subject: |SUCCESS| [GIT MASTER] d297bb24650efb7040a66a3270e01c94fc8ee4f5 From: dpdklab@iol.unh.edu To: Test Report Cc: dpdk-test-reports@iol.unh.edu, Xueming Li , Kevin Traynor , Luca Boccassi Content-Type: text/plain X-BeenThere: test-report@dpdk.org X-Mailman-Version: 2.1.29 Precedence: list List-Id: automatic DPDK test reports List-Unsubscribe: , List-Archive: List-Post: List-Help: List-Subscribe: , Errors-To: test-report-bounces@dpdk.org _Testing PASS_ Branch: tags/v22.11 d297bb24650efb7040a66a3270e01c94fc8ee4f5 --> testing pass Upstream job id: Generic-Unit-Test-DPDK#394560 Test environment and result as below: +-----------------+------------------------------+---------------------------+--------------+----------------+ | Environment | cryptodev_sw_snow3g_autotest | cryptodev_sw_zuc_autotest | lpm_autotest | dpdk_unit_test | +=================+==============================+===========================+==============+================+ | Debian 12 (arm) | PASS | PASS | SKIPPED | SKIPPED | +-----------------+------------------------------+---------------------------+--------------+----------------+ | Ubuntu 20.04 | SKIPPED | SKIPPED | PASS | SKIPPED | +-----------------+------------------------------+---------------------------+--------------+----------------+ | Ubuntu 22.04 | SKIPPED | SKIPPED | SKIPPED | PASS | +-----------------+------------------------------+---------------------------+--------------+----------------+ Debian 12 (arm) Kernel: Depends on container host Compiler: gcc (Debian 12.2.0-14) 12.2.0 Ubuntu 20.04 Kernel: 5.4 Compiler: gcc gcc (Ubuntu 9.4.0-1ubuntu1~20.04.2) 9.4.0 Ubuntu 22.04 Kernel: 5.15 Compiler: gcc gcc (Ubuntu 11.4.0-1ubuntu1~22.04.2) 11.4.0 To view detailed results, visit: https://lab.dpdk.org/results/dashboard/tarballs/35660/ UNH-IOL DPDK Community Lab To manage your email subscriptions, visit: https://lab.dpdk.org/results/dashboard/preferences/subscriptions/