From mboxrd@z Thu Jan 1 00:00:00 1970 Return-Path: Received: from mails.dpdk.org (mails.dpdk.org [217.70.189.124]) by inbox.dpdk.org (Postfix) with ESMTP id 4C4FF48B55 for ; Thu, 20 Nov 2025 08:00:20 +0100 (CET) Received: from mails.dpdk.org (localhost [127.0.0.1]) by mails.dpdk.org (Postfix) with ESMTP id 313DD40262; Thu, 20 Nov 2025 08:00:20 +0100 (CET) Received: from mail-io1-f98.google.com (mail-io1-f98.google.com [209.85.166.98]) by mails.dpdk.org (Postfix) with ESMTP id 00A7840262 for ; Thu, 20 Nov 2025 08:00:18 +0100 (CET) Received: by mail-io1-f98.google.com with SMTP id ca18e2360f4ac-948f8fa9451so16384539f.3 for ; Wed, 19 Nov 2025 23:00:18 -0800 (PST) DKIM-Signature: v=1; a=rsa-sha256; c=relaxed/relaxed; d=iol.unh.edu; s=unh-iol; t=1763622018; x=1764226818; darn=dpdk.org; h=cc:to:from:subject:message-id:date:from:to:cc:subject:date :message-id:reply-to; bh=5Jy4hzK05fyoBw6rye95qCsh2f9/edIH9u/zQGqa8Oc=; b=RyoudEL5Xjx0QU3hrWhLFvMw5wSG/75nuHdxpMXMtje+2XJB/PVm0nPYjEF0bLmCLW SPzFa6myEv6mBQiMENtYrJyRafQPUkMQQKDMvM1wABCtnSKtKYFr/KYLVdMJe9VpVoKD 0vY+3lFDE/2bwyokkeM2ZyMKlkqKhlrCJKT0A= X-Google-DKIM-Signature: v=1; a=rsa-sha256; c=relaxed/relaxed; d=1e100.net; s=20230601; t=1763622018; x=1764226818; h=cc:to:from:subject:message-id:date:x-gm-gg:x-gm-message-state:from :to:cc:subject:date:message-id:reply-to; bh=5Jy4hzK05fyoBw6rye95qCsh2f9/edIH9u/zQGqa8Oc=; b=is+LfzcmDH/MVM0XctdNVL+8sz0GVhkajoF87ZKWuxvgTUreYTQQScklS9NJOEjFlb J8/IrHedsq0qXgMJIctgKP/glVW7aN2nGaUy9x16JeWXmDL1H2eAWj3V/4W/rfvUP7l5 23JMWNLuXmC3v3yCYXi5xOtLmsACFiYVQAeBfxhofk4ZKEFLxvMh7bfTraqBnTXoaWqa mEnMSmkg5G46myAgQcpfBMtJtYY0GQ+M2fgOlJ43cKeA76Zm+/LiFbG2nHva4dyz0Pym K2A+JPmLqrniYL4A584EoLfTHK0kO7q6jDFJojSQiWwLDKPHeMe1s3qfzbVnzYA9FUIo RVWw== X-Gm-Message-State: AOJu0YzTkfdTi2aiEkR8pbw/BzfatFlyqr1mibZTMSUJFf2JYdgrEmDi jerqExZos1GhQrFMYz56weXfWiSl3v3TZXfl9UNvcPz50ExZbOYGtCkgKiOfNhSOO4pEu6Df5p6 iRXL1U3tV6Q+tN+++tStBas/V0fLsulrIIuOFKJkBrn9jTYKDsVit X-Gm-Gg: ASbGnctMPenejcaNSmoa7aV6SbOJKyU8qAKswrNCQCTsgKYg5JLjP9dD30cfpoVv8Li GLvwBhY5M8C/0zdiS3/b0Bn8pdFCxtolgZMdcNDNSGChjYul+WYho3LZy95ZDG0Oy9xdjR/Q3ub MJ2MNZndyF94y1szvBYSF3rHgiI59F5V+LEec7NPy/SKta7FUzf/hActnfq+heolBMXZabCNNU6 YWy4sSB7cSM3xZ5I+Pj0vzT72UXihjGiKgtrque4KArfmvI/5yqjulbaG8HHrxAE8Oys0Y+kul4 +lR9vuzKMorH2vr5VImhcV63QS81SqaSjKX5qBi8q3N5SSTB1exmtAz4eFG82wVLz22b9IIssAw 6gUPMkRGIMsyOKap2v34= X-Google-Smtp-Source: AGHT+IF3A0KfcYxxEssZ9wLAeLO6yPIPo+oqT5uuwWP3rfjTLSGL8s18bExfH+SwxVdKjpWToMgOJM5nAqUl X-Received: by 2002:a05:6638:16d0:b0:5b7:2bfe:3561 with SMTP id 8926c6da1cb9f-5b958b93997mr683748173.10.1763622018144; Wed, 19 Nov 2025 23:00:18 -0800 (PST) Received: from postal.iol.unh.edu (postal.iol.unh.edu. [2606:4100:3880:1234::84]) by smtp-relay.gmail.com with ESMTPS id 8926c6da1cb9f-5b954b2d231sm142800173.35.2025.11.19.23.00.18 (version=TLS1_2 cipher=ECDHE-ECDSA-AES128-GCM-SHA256 bits=128/128); Wed, 19 Nov 2025 23:00:18 -0800 (PST) X-Relaying-Domain: iol.unh.edu Date: Wed, 19 Nov 2025 23:00:18 -0800 (PST) Message-ID: <691ebc82.050a0220.1850f3.7222SMTPIN_ADDED_MISSING@mx.google.com> Received: from [172.21.0.4] (unknown [172.18.0.240]) by postal.iol.unh.edu (Postfix) with ESMTP id B06F16051830; Thu, 20 Nov 2025 02:00:17 -0500 (EST) Subject: |SUCCESS| [GIT MASTER] d297bb24650efb7040a66a3270e01c94fc8ee4f5 From: dpdklab@iol.unh.edu To: Test Report Cc: dpdk-test-reports@iol.unh.edu, Xueming Li , Kevin Traynor , Luca Boccassi Content-Type: text/plain X-BeenThere: test-report@dpdk.org X-Mailman-Version: 2.1.29 Precedence: list List-Id: automatic DPDK test reports List-Unsubscribe: , List-Archive: List-Post: List-Help: List-Subscribe: , Errors-To: test-report-bounces@dpdk.org _Testing PASS_ Branch: tags/v22.11 d297bb24650efb7040a66a3270e01c94fc8ee4f5 --> testing pass Upstream job id: Generic-DPDK-Compile-Meson#446178 Test environment and result as below: +-------------------------------+--------------------+ | Environment | dpdk_meson_compile | +===============================+====================+ | FreeBSD 14.2 | PASS | +-------------------------------+--------------------+ | Ubuntu 20.04 | PASS | +-------------------------------+--------------------+ | CentOS Stream 10 | PASS | +-------------------------------+--------------------+ | CentOS Stream 9 | PASS | +-------------------------------+--------------------+ | Debian GNU/Linux 12 | PASS | +-------------------------------+--------------------+ | Ubuntu 22.04 | PASS | +-------------------------------+--------------------+ | Red Hat Enterprise Linux 8.10 | PASS | +-------------------------------+--------------------+ | Fedora Linux 42 | PASS | +-------------------------------+--------------------+ | Red Hat Enterprise Linux 9.5 | PASS | +-------------------------------+--------------------+ | Ubuntu 24.04 | PASS | +-------------------------------+--------------------+ FreeBSD 14.2 Kernel: 14.2-RELEASE Compiler: clang 18.1.6 Ubuntu 20.04 Kernel: 4.19 Compiler: gcc gcc (Ubuntu 9.4.0-1ubuntu1~20.04.2) 9.4.0 CentOS Stream 10 Kernel: 5.15 Compiler: gcc gcc (GCC) 14.2.1 20250110 (Red Hat 14.2.1-8) CentOS Stream 9 Kernel: 5.15 Compiler: gcc gcc (GCC) 11.5.0 20240719 (Red Hat 11.5.0-11) Debian GNU/Linux 12 Kernel: 5.15 Compiler: gcc gcc (Debian 12.2.0-14+deb12u1) 12.2.0 Ubuntu 22.04 Kernel: 5.15 Compiler: gcc gcc (Ubuntu 11.4.0-1ubuntu1~22.04) 11.4.0 Red Hat Enterprise Linux 8.10 Kernel: 5.15 Compiler: gcc gcc (GCC) 8.5.0 20210514 (Red Hat 8.5.0-22) Fedora Linux 42 Kernel: 5.15 Compiler: clang gcc (GCC) 15.2.1 20250808 (Red Hat 15.2.1-1) Red Hat Enterprise Linux 9.5 Kernel: 5.15 Compiler: gcc gcc (GCC) 11.5.0 20240719 (Red Hat 11.5.0-2) Ubuntu 24.04 Kernel: 5.15 Compiler: gcc gcc (Ubuntu 13.3.0-6ubuntu2~24.04) 13.3.0 To view detailed results, visit: https://lab.dpdk.org/results/dashboard/tarballs/35660/ UNH-IOL DPDK Community Lab To manage your email subscriptions, visit: https://lab.dpdk.org/results/dashboard/preferences/subscriptions/