From mboxrd@z Thu Jan 1 00:00:00 1970 Return-Path: Received: from mails.dpdk.org (mails.dpdk.org [217.70.189.124]) by inbox.dpdk.org (Postfix) with ESMTP id 53CA048B56 for ; Thu, 20 Nov 2025 08:34:34 +0100 (CET) Received: from mails.dpdk.org (localhost [127.0.0.1]) by mails.dpdk.org (Postfix) with ESMTP id 4E05640262; Thu, 20 Nov 2025 08:34:34 +0100 (CET) Received: from mail-io1-f97.google.com (mail-io1-f97.google.com [209.85.166.97]) by mails.dpdk.org (Postfix) with ESMTP id BFFDD40262 for ; Thu, 20 Nov 2025 08:34:32 +0100 (CET) Received: by mail-io1-f97.google.com with SMTP id ca18e2360f4ac-88703c873d5so21276739f.3 for ; Wed, 19 Nov 2025 23:34:32 -0800 (PST) DKIM-Signature: v=1; a=rsa-sha256; c=relaxed/relaxed; d=iol.unh.edu; s=unh-iol; t=1763624072; x=1764228872; darn=dpdk.org; h=cc:to:from:subject:message-id:date:from:to:cc:subject:date :message-id:reply-to; bh=/IlEJ6S4PEeOQ6yfYsP3cp0SdT/nFp+gEeKB/HKUl3c=; b=Kjul7NhTQpgn6KoniQKCigGWC3+BwO2EB2kOOrNwAK6LCLzDv0wT6tjmF/2sGtraqI DXaZ4R7uOVncZGbVAXg1UVj550xLxUr0i7/q+rroNZyh7+U4/SSshDenY+FncE6nB9VT aU4UNdtHjByeDbpQXvDfq49SghdWf2/D1Ovxg= X-Google-DKIM-Signature: v=1; a=rsa-sha256; c=relaxed/relaxed; d=1e100.net; s=20230601; t=1763624072; x=1764228872; h=cc:to:from:subject:message-id:date:x-gm-gg:x-gm-message-state:from :to:cc:subject:date:message-id:reply-to; bh=/IlEJ6S4PEeOQ6yfYsP3cp0SdT/nFp+gEeKB/HKUl3c=; b=s+p5XUQzHSCBzViLnE5tXgbRP9dvOsAfj5lC//EWuUQkyNaljEcDdNaThHOB0p3PXb XAc5xO2QlU8tHT3j1eY88s9MM4AqrG6HXBwVkiN0fgFBNEOuGxCxHj82572jzUIquLqU sOPZEkUEe0OFdrzpDT7tFO8NKxPE9ztsBDs20GYHQszYk2yUgZw0ZDGbIE/TIzkz4tSS AV0w+h5ICfrZiZrKm4sxkSFBtWD29fXIhVOlphlLAheZXyGj74pNlqDjVyxhPVxzufeA uulvfdZ46fyKpVJhNYMaVNZrie0fT3zya5gXZozOgimbzKEyn95LYY8f6UhmJt0fx47N a3UA== X-Gm-Message-State: AOJu0YyPOUDGwh4WumpQXJO6n0zVfzpLIiSecuF+3nVxNDRHqjLGKytP 7yXBkNntvB8MpWndHnvdrBqKSO6uJC/33+uu6SYKZnHjrAcNQh23fJU5ZvZZTWsBQFqg1jBNc5w xdiFMOJGBeedeqALOBzCYddB8DN7+5LUiv9p4 X-Gm-Gg: ASbGncseDy4HldwpdyZxbY+P2P6oCfarEDEMAf1V5hwXVUyi8fUWw8B+PYIXwW2n5e0 L/p1WzZqfeaBzznSAFJRMC79hgQXOzs7/RUVmbqN1rL6AIpdja1e6BcfU2QFSMUbPWewcbY88wP 18k+ewEU9a6CXSlp7IwFCr6OjGCxiYvPYhLSbmczGlFr2AgRuOCFhkKFOWXEG8ElK2Uc/VBqO1X UKHPSkD+xHB/IcKQkFGFGsp7gIqGtXxAuHwqyo2z0+q2zNKqTfNeNzYn4P61BlzQmju0D0xag3z 5ZoaBQQfYZhpbHAMYpcWL6mTe/uTzTa5z/JiFD7I5ynvnKxf7NjBPVWQyHVdv7rRZ6QziAvuixC OwB0wRv+54NYXY5SJ4Re+Hk1BRvg2OW6fw8cgt8ObkQ== X-Google-Smtp-Source: AGHT+IFtZOD1eU2hgvku3TrPqAc4J+/jD96cYaS0pTnsrISRcZe0UaIvSVIysqI3oiQcuE8HRGiE1MXSrhFL X-Received: by 2002:a05:6638:c2eb:b0:5b7:c1af:a6d3 with SMTP id 8926c6da1cb9f-5b954029ed5mr1956471173.5.1763624072045; Wed, 19 Nov 2025 23:34:32 -0800 (PST) Received: from postal.iol.unh.edu (postal.iol.unh.edu. [132.177.123.84]) by smtp-relay.gmail.com with ESMTPS id 8926c6da1cb9f-5b954a3f63bsm144428173.11.2025.11.19.23.34.31 (version=TLS1_2 cipher=ECDHE-ECDSA-AES128-GCM-SHA256 bits=128/128); Wed, 19 Nov 2025 23:34:32 -0800 (PST) X-Relaying-Domain: iol.unh.edu Date: Wed, 19 Nov 2025 23:34:32 -0800 (PST) Message-ID: <691ec488.050a0220.16c4e4.722aSMTPIN_ADDED_MISSING@mx.google.com> Received: from [172.21.0.3] (unknown [172.18.0.240]) by postal.iol.unh.edu (Postfix) with ESMTP id 8BB1F6051830; Thu, 20 Nov 2025 02:34:31 -0500 (EST) Subject: |WARNING| [GIT MASTER] 62f583c49bf67dd4d6733ece14e55fe6839e66d1 From: dpdklab@iol.unh.edu To: Test Report Cc: dpdk-test-reports@iol.unh.edu, Xueming Li , Kevin Traynor , Luca Boccassi Content-Type: text/plain X-BeenThere: test-report@dpdk.org X-Mailman-Version: 2.1.29 Precedence: list List-Id: automatic DPDK test reports List-Unsubscribe: , List-Archive: List-Post: List-Help: List-Subscribe: , Errors-To: test-report-bounces@dpdk.org _Testing issues_ Branch: tags/v23.11 62f583c49bf67dd4d6733ece14e55fe6839e66d1 --> testing issues Upstream job id: Generic-Unit-Test-DPDK#394567 Test environment and result as below: +------------------------------+--------------+------------------------------+---------------------------+----------------+ | Environment | lpm_autotest | cryptodev_sw_snow3g_autotest | cryptodev_sw_zuc_autotest | dpdk_unit_test | +==============================+==============+==============================+===========================+================+ | Ubuntu 20.04 | PASS | SKIPPED | SKIPPED | PASS | +------------------------------+--------------+------------------------------+---------------------------+----------------+ | Debian 12 (arm) | SKIPPED | PASS | PASS | SKIPPED | +------------------------------+--------------+------------------------------+---------------------------+----------------+ | Fedora Linux 42 | SKIPPED | SKIPPED | SKIPPED | PASS | +------------------------------+--------------+------------------------------+---------------------------+----------------+ | Red Hat Enterprise Linux 9.5 | SKIPPED | SKIPPED | SKIPPED | PASS | +------------------------------+--------------+------------------------------+---------------------------+----------------+ | Ubuntu 22.04 | SKIPPED | SKIPPED | SKIPPED | PASS | +------------------------------+--------------+------------------------------+---------------------------+----------------+ | Ubuntu 24.04 | SKIPPED | SKIPPED | SKIPPED | PASS | +------------------------------+--------------+------------------------------+---------------------------+----------------+ | CentOS Stream 10 | SKIPPED | SKIPPED | SKIPPED | PASS | +------------------------------+--------------+------------------------------+---------------------------+----------------+ | Fedora Linux 41 | SKIPPED | SKIPPED | SKIPPED | PASS | +------------------------------+--------------+------------------------------+---------------------------+----------------+ | Fedora Linux 40 | SKIPPED | SKIPPED | SKIPPED | PASS | +------------------------------+--------------+------------------------------+---------------------------+----------------+ | Debian GNU/Linux 12 | SKIPPED | SKIPPED | SKIPPED | PASS | +------------------------------+--------------+------------------------------+---------------------------+----------------+ | CentOS Stream 9 | SKIPPED | SKIPPED | SKIPPED | PASS | +------------------------------+--------------+------------------------------+---------------------------+----------------+ Ubuntu 20.04 Kernel: 5.4 Compiler: gcc gcc (Ubuntu 9.4.0-1ubuntu1~20.04.2) 9.4.0 Debian 12 (arm) Kernel: Depends on container host Compiler: gcc (Debian 12.2.0-14) 12.2.0 Fedora Linux 42 Kernel: 5.4 Compiler: gcc gcc (GCC) 15.2.1 20250808 (Red Hat 15.2.1-1) Red Hat Enterprise Linux 9.5 Kernel: 5.4 Compiler: gcc gcc (GCC) 11.5.0 20240719 (Red Hat 11.5.0-2) Ubuntu 22.04 Kernel: 5.4 Compiler: gcc gcc (Ubuntu 11.4.0-1ubuntu1~22.04) 11.4.0 Ubuntu 24.04 Kernel: 5.4 Compiler: gcc gcc (Ubuntu 13.3.0-6ubuntu2~24.04) 13.3.0 CentOS Stream 10 Kernel: 5.4 Compiler: gcc gcc (GCC) 14.2.1 20250110 (Red Hat 14.2.1-8) Fedora Linux 41 Kernel: 5.4 Compiler: clang gcc (GCC) 14.3.1 20250523 (Red Hat 14.3.1-1) Fedora Linux 40 Kernel: 5.4 Compiler: gcc gcc (GCC) 14.2.1 20240912 (Red Hat 14.2.1-3) Debian GNU/Linux 12 Kernel: 5.4 Compiler: gcc gcc (Debian 12.2.0-14+deb12u1) 12.2.0 CentOS Stream 9 Kernel: 5.4 Compiler: gcc gcc (GCC) 11.5.0 20240719 (Red Hat 11.5.0-11) To view detailed results, visit: https://lab.dpdk.org/results/dashboard/tarballs/35661/ UNH-IOL DPDK Community Lab To manage your email subscriptions, visit: https://lab.dpdk.org/results/dashboard/preferences/subscriptions/