From mboxrd@z Thu Jan 1 00:00:00 1970 Return-Path: Received: from mails.dpdk.org (mails.dpdk.org [217.70.189.124]) by inbox.dpdk.org (Postfix) with ESMTP id CC3A648B56 for ; Thu, 20 Nov 2025 08:39:23 +0100 (CET) Received: from mails.dpdk.org (localhost [127.0.0.1]) by mails.dpdk.org (Postfix) with ESMTP id ACC5C40262; Thu, 20 Nov 2025 08:39:23 +0100 (CET) Received: from mail-pl1-f226.google.com (mail-pl1-f226.google.com [209.85.214.226]) by mails.dpdk.org (Postfix) with ESMTP id 12A4040262 for ; Thu, 20 Nov 2025 08:39:22 +0100 (CET) Received: by mail-pl1-f226.google.com with SMTP id d9443c01a7336-297dd95ffe4so5194275ad.3 for ; Wed, 19 Nov 2025 23:39:21 -0800 (PST) DKIM-Signature: v=1; a=rsa-sha256; c=relaxed/relaxed; d=iol.unh.edu; s=unh-iol; t=1763624361; x=1764229161; darn=dpdk.org; h=cc:to:from:subject:message-id:date:from:to:cc:subject:date :message-id:reply-to; bh=oDiTqAnq1UxgLJ4xYvz4ENW1kYFTF5b5RZOQtw9qqqA=; b=EWnuLAb5AMZsSdO/RXqSLHTKgO7Xnm/KfcAS+3P8rX9BLwum9jYUgA47nPq50WW9KB f7ZzEWqqyJ/eU6F87m3AyPB3uD+7O+VZ2EOr9FbSwgIXzsUPBdQlXY+Vyo1sXveFaE+z U82ncdIPgYmdm5m2IE80KQCoe6aITqtYb1SKQ= X-Google-DKIM-Signature: v=1; a=rsa-sha256; c=relaxed/relaxed; d=1e100.net; s=20230601; t=1763624361; x=1764229161; h=cc:to:from:subject:message-id:date:x-gm-gg:x-gm-message-state:from :to:cc:subject:date:message-id:reply-to; bh=oDiTqAnq1UxgLJ4xYvz4ENW1kYFTF5b5RZOQtw9qqqA=; b=k2cLiGbSbyJTCV3mDUqPHqhmYyM3PgUjGXWAoXFZu7pARVBhW4UAH9AvpZA36lPOey szlc/fjHINJZZ418MCo8+27zLFTunul2If8jvqun4/r02flDIZLIqmKuee1W0l28n9Jb R1yMgtQEv+uefROmf/TKcS+Dccb7PeRlS06FJun1GGFyKJY/X7YPPxMFSRnHVGLR9lcX Y6WjMTymzBZbtYj6X3oe4d9MB0+U6zPx8vpNAhcbBaVMLnIBx/YSfRpp8F8ducOwAuu9 oYtDFnCgOwJBITXqUkBrczyNr3/hxeddY6yHFtC1R8lVIMgqU8gI4D9PvE4yCsIjzsWc LfAg== X-Gm-Message-State: AOJu0Yzi6m5miv2FBeIswBr8pwWuMwtRLSf2HnVyV3dYd2cTpG0ZtTm1 cxcHGawz9xUDgyPMcrHSJBz9D3AmBqYg/FaiK/dwIw6i5jKLu84mEN5w33eQbfw2RJ/+EwcDA1i xom3sAeAeXiwq45IrPtJ8CCB/jK5WgOHYpcZOpozD6T+CFR3AXj9M X-Gm-Gg: ASbGnculEdICRP3jlyw/ZiPceE+nKmUUYsGNZTuwgwxNcNQL8tRjQM1Tch6Nc3MUhFF aSIPntxR1ISIBzSBLdMbVetW5fxl3WSLrT4nofOrFxCpTI7AFmSvNRHfQzbQFr7rzqb60GAPr7A +i9xK8tt0E2Ix/UAAhtmAy4Y/iAyzuJWsEOzNdog5QPdX/xjpL2n8nR5twsAwvRy3OMWcUmWKyG /qy+vS9gD0F2Xm33AzIcBSg+fje+aAdXYhRcWFJ7zuI/6Pm8YAlf35lk4EKIyjYzRGdnadCnscw 8jdcOYcSOo6Q6zK7gsG/yKNTnlKEIBVyr7vxhaamTcqjX0wkqov+qd/Sngi/jVJ9BYxOBV7g/50 UiB75/B+Vmn0hTj4xxAY= X-Google-Smtp-Source: AGHT+IEULclYNcDMhHF8aEQ9L8PaEruZUVq4NLW/xZYLp/r/b978pYZ5/waDPEC0rmNEi+jFSTarU+9d0XAy X-Received: by 2002:a17:902:ef45:b0:299:e041:ecf6 with SMTP id d9443c01a7336-29b5b0fe717mr33952295ad.40.1763624361066; Wed, 19 Nov 2025 23:39:21 -0800 (PST) Received: from postal.iol.unh.edu (postal.iol.unh.edu. [2606:4100:3880:1234::84]) by smtp-relay.gmail.com with ESMTPS id d9443c01a7336-29b5b24c375sm2100225ad.59.2025.11.19.23.39.20 (version=TLS1_2 cipher=ECDHE-ECDSA-AES128-GCM-SHA256 bits=128/128); Wed, 19 Nov 2025 23:39:21 -0800 (PST) X-Relaying-Domain: iol.unh.edu Date: Wed, 19 Nov 2025 23:39:21 -0800 (PST) Message-ID: <691ec5a9.170a0220.340b7d.a926SMTPIN_ADDED_MISSING@mx.google.com> Received: from [172.21.0.3] (unknown [172.18.0.240]) by postal.iol.unh.edu (Postfix) with ESMTP id 4C31560003EA; Thu, 20 Nov 2025 02:39:20 -0500 (EST) Subject: |SUCCESS| [GIT MASTER] 0bd935abcb823f581ce53986986aa54eaf6f8140 From: dpdklab@iol.unh.edu To: Test Report Cc: dpdk-test-reports@iol.unh.edu, Xueming Li , Kevin Traynor , Luca Boccassi Content-Type: text/plain X-BeenThere: test-report@dpdk.org X-Mailman-Version: 2.1.29 Precedence: list List-Id: automatic DPDK test reports List-Unsubscribe: , List-Archive: List-Post: List-Help: List-Subscribe: , Errors-To: test-report-bounces@dpdk.org _Testing PASS_ Branch: tags/v24.11 0bd935abcb823f581ce53986986aa54eaf6f8140 --> testing pass Upstream job id: Generic-DPDK-Compile-Meson#446237 Test environment and result as below: +-------------------------------+--------------------+------------------+ | Environment | dpdk_meson_compile | dpdk_compile_ovs | +===============================+====================+==================+ | Ubuntu 20.04 | PASS | SKIPPED | +-------------------------------+--------------------+------------------+ | Fedora Linux 42 | PASS | PASS | +-------------------------------+--------------------+------------------+ | openSUSE Leap 15.6 | PASS | SKIPPED | +-------------------------------+--------------------+------------------+ | Debian GNU/Linux 12 | PASS | SKIPPED | +-------------------------------+--------------------+------------------+ | CentOS Stream 9 | PASS | SKIPPED | +-------------------------------+--------------------+------------------+ | Red Hat Enterprise Linux 9.5 | PASS | SKIPPED | +-------------------------------+--------------------+------------------+ | CentOS Stream 10 | PASS | SKIPPED | +-------------------------------+--------------------+------------------+ | Red Hat Enterprise Linux 8.10 | PASS | SKIPPED | +-------------------------------+--------------------+------------------+ | Ubuntu 22.04 | PASS | SKIPPED | +-------------------------------+--------------------+------------------+ | Ubuntu 24.04 | PASS | PASS | +-------------------------------+--------------------+------------------+ | Alpine Linux 3.22.0 | PASS | SKIPPED | +-------------------------------+--------------------+------------------+ | FreeBSD 14.2 | PASS | SKIPPED | +-------------------------------+--------------------+------------------+ Ubuntu 20.04 Kernel: 4.19 Compiler: gcc gcc (Ubuntu 9.4.0-1ubuntu1~20.04.2) 9.4.0 Fedora Linux 42 Kernel: 5.15 Compiler: clang gcc (GCC) 15.2.1 20250808 (Red Hat 15.2.1-1) openSUSE Leap 15.6 Kernel: 5.15 Compiler: gcc gcc (SUSE Linux) 7.5.0 Debian GNU/Linux 12 Kernel: 5.15 Compiler: gcc gcc (Debian 12.2.0-14+deb12u1) 12.2.0 CentOS Stream 9 Kernel: 5.15 Compiler: gcc gcc (GCC) 11.5.0 20240719 (Red Hat 11.5.0-11) Red Hat Enterprise Linux 9.5 Kernel: 5.15 Compiler: gcc gcc (GCC) 11.5.0 20240719 (Red Hat 11.5.0-2) CentOS Stream 10 Kernel: 5.15 Compiler: gcc gcc (GCC) 14.2.1 20250110 (Red Hat 14.2.1-8) Red Hat Enterprise Linux 8.10 Kernel: 5.15 Compiler: gcc gcc (GCC) 8.5.0 20210514 (Red Hat 8.5.0-22) Ubuntu 22.04 Kernel: 5.15 Compiler: gcc gcc (Ubuntu 11.4.0-1ubuntu1~22.04) 11.4.0 Ubuntu 24.04 Kernel: 5.15 Compiler: gcc gcc (Ubuntu 13.3.0-6ubuntu2~24.04) 13.3.0 Alpine Linux 3.22.0 Kernel: 5.15 Compiler: gcc gcc (Alpine 14.2.0) 14.2.0 FreeBSD 14.2 Kernel: 14.2-RELEASE Compiler: clang 18.1.6 To view detailed results, visit: https://lab.dpdk.org/results/dashboard/tarballs/35662/ UNH-IOL DPDK Community Lab To manage your email subscriptions, visit: https://lab.dpdk.org/results/dashboard/preferences/subscriptions/