From mboxrd@z Thu Jan 1 00:00:00 1970 Return-Path: Received: from mails.dpdk.org (mails.dpdk.org [217.70.189.124]) by inbox.dpdk.org (Postfix) with ESMTP id 5378648B56 for ; Thu, 20 Nov 2025 08:58:14 +0100 (CET) Received: from mails.dpdk.org (localhost [127.0.0.1]) by mails.dpdk.org (Postfix) with ESMTP id 3428140262; Thu, 20 Nov 2025 08:58:14 +0100 (CET) Received: from mail-pl1-f225.google.com (mail-pl1-f225.google.com [209.85.214.225]) by mails.dpdk.org (Postfix) with ESMTP id 581C540262 for ; Thu, 20 Nov 2025 08:58:12 +0100 (CET) Received: by mail-pl1-f225.google.com with SMTP id d9443c01a7336-2953ad5517dso8206015ad.0 for ; Wed, 19 Nov 2025 23:58:12 -0800 (PST) DKIM-Signature: v=1; a=rsa-sha256; c=relaxed/relaxed; d=iol.unh.edu; s=unh-iol; t=1763625491; x=1764230291; darn=dpdk.org; h=cc:to:from:subject:message-id:date:from:to:cc:subject:date :message-id:reply-to; bh=Ew7y0ya7MoErVh8kmRTPGmWxebUVpg/U/ZMS27s5+Qs=; b=QUAMoi8Tl0ZE3irQbJkqXUBkR1M5SdD70qRQ4fyBr+kR0r8BYzW8TxFxP5/PSyDpfY fVO+vo7rtg6GvpW6mJ3Ic9jjEyFj+EJG7XYHNJdCjSVh6M60YGHZ2IwouL4JZhsA6q4a ctxHUK0HH6B7JaU9dC3YCtUiyrEExAin7hP1U= X-Google-DKIM-Signature: v=1; a=rsa-sha256; c=relaxed/relaxed; d=1e100.net; s=20230601; t=1763625491; x=1764230291; h=cc:to:from:subject:message-id:date:x-gm-gg:x-gm-message-state:from :to:cc:subject:date:message-id:reply-to; bh=Ew7y0ya7MoErVh8kmRTPGmWxebUVpg/U/ZMS27s5+Qs=; b=ifH1rpDiGYxgY+ShPlMOeNWOkETqCUwH0to4thwhVs5ICqTGvXUEPCISsi7MYiY7d1 va6wpLY9MtNoWhiFzZ/BnCtnpa9TztY6vEG41tJaecaMnJ30t8jOJIOZDYDEEQMxO0Es ggROOuQeMeEuWNWBuV/A/YSm5LgUbntUcpT8mWngROfF5AJ7gOwWdYp0AVDfiDIIsGB9 AyxbS3z0eAivvS5UtMm1BXJlt2Dr8zw3VXQhDCbnUUBJUCehvLu6m9bY7wlwiEXEt19h 2xhpvVNlCcAJA8f6WdPlhKkQWmPuVgGTL/w+il6nEKSKR7lRxmMPg/nWgF+a7f+J8F4g bf6A== X-Gm-Message-State: AOJu0Yx2N44lfGXCE7kdBbKzejEEY/A4Hml4D3sZH+nuY3Vle3UsB/Z6 K6u6SqWVW5hsuzUdyTH7QUIWzrKbHoU0KMSOMmhSTX01h+X+zzk80opG0m0vR1fh2dumrUlC/p8 KbObh89NmAHvgKx6DCEjyWtUloxExPyndB3BT X-Gm-Gg: ASbGncuL8EgSa+dH+rx5gmIbwO1cLA0yA9BhJ1VohRrHth5gCvu5ZdUHgsvHq3ksZdh m32jggCFowLS63TFYZfZD6KKZdtx4MYZJUcIQpkXiNTYoUM/YJUTWZ92YrND2UDsp21io2WxlIS uyxxmENzKh8LLDRYVKF5S3EGcyU20YPh8DvPrb5NI0vPkkF0YI88p6CmKDh5/0hW/3kumUcpSs5 h9VMxRXG0RwkMnnxYYFvo6OvTbHiFJwdJhNT9YVLr74lQyZkKnHKnsbpSLWeTyUneg0Wj04Ipil lqpgrWJdWyeBpk+g4EpBcxB9rhFB1m2sXbXL1qbxINPyJqfD6Bo3L3wMWNxCVhm/trHv8bBjduP DelT28Wdrodh5RzSui0Je7QcwJVMrrdisLh88bBhmcQ== X-Google-Smtp-Source: AGHT+IGDoU/X4e3z342zLkeTHVwbgPqCoctDYyp0pg/6+MF+rrSRRkdjyRTC2tsLR/p0YMD37Y2Vvewqx5sy X-Received: by 2002:a17:903:2b04:b0:295:3584:1bbd with SMTP id d9443c01a7336-29b5b1152cdmr25898085ad.41.1763625491442; Wed, 19 Nov 2025 23:58:11 -0800 (PST) Received: from postal.iol.unh.edu (postal.iol.unh.edu. [132.177.123.84]) by smtp-relay.gmail.com with ESMTPS id d9443c01a7336-29b5b24c5desm2101905ad.57.2025.11.19.23.58.11 (version=TLS1_2 cipher=ECDHE-ECDSA-AES128-GCM-SHA256 bits=128/128); Wed, 19 Nov 2025 23:58:11 -0800 (PST) X-Relaying-Domain: iol.unh.edu Date: Wed, 19 Nov 2025 23:58:11 -0800 (PST) Message-ID: <691eca13.170a0220.16c21e.babaSMTPIN_ADDED_MISSING@mx.google.com> Received: from [172.21.0.2] (unknown [172.18.0.240]) by postal.iol.unh.edu (Postfix) with ESMTP id 95E046051830; Thu, 20 Nov 2025 02:58:10 -0500 (EST) Subject: |SUCCESS| [GIT MASTER] 0bd935abcb823f581ce53986986aa54eaf6f8140 From: dpdklab@iol.unh.edu To: Test Report Cc: dpdk-test-reports@iol.unh.edu, Xueming Li , Kevin Traynor , Luca Boccassi Content-Type: text/plain X-BeenThere: test-report@dpdk.org X-Mailman-Version: 2.1.29 Precedence: list List-Id: automatic DPDK test reports List-Unsubscribe: , List-Archive: List-Post: List-Help: List-Subscribe: , Errors-To: test-report-bounces@dpdk.org _Testing PASS_ Branch: tags/v24.11 0bd935abcb823f581ce53986986aa54eaf6f8140 --> testing pass Upstream job id: Generic-Unit-Test-DPDK#394606 Test environment and result as below: +-------------------------------+----------------+ | Environment | dpdk_unit_test | +===============================+================+ | Fedora Linux 42 | PASS | +-------------------------------+----------------+ | Debian GNU/Linux 12 | PASS | +-------------------------------+----------------+ | Fedora Linux 41 | PASS | +-------------------------------+----------------+ | CentOS Stream 9 | PASS | +-------------------------------+----------------+ | Ubuntu 22.04 | PASS | +-------------------------------+----------------+ | Ubuntu 20.04 | PASS | +-------------------------------+----------------+ | Fedora Linux 40 | PASS | +-------------------------------+----------------+ | CentOS Stream 10 | PASS | +-------------------------------+----------------+ | Ubuntu 24.04 | PASS | +-------------------------------+----------------+ | Red Hat Enterprise Linux 9.5 | PASS | +-------------------------------+----------------+ | Red Hat Enterprise Linux 8.10 | PASS | +-------------------------------+----------------+ Fedora Linux 42 Kernel: 5.15 Compiler: clang gcc (GCC) 15.2.1 20250808 (Red Hat 15.2.1-1) Debian GNU/Linux 12 Kernel: 5.15 Compiler: gcc gcc (Debian 12.2.0-14+deb12u1) 12.2.0 Fedora Linux 41 Kernel: 5.15 Compiler: clang gcc (GCC) 14.3.1 20250523 (Red Hat 14.3.1-1) CentOS Stream 9 Kernel: 5.15 Compiler: gcc gcc (GCC) 11.5.0 20240719 (Red Hat 11.5.0-11) Ubuntu 22.04 Kernel: 5.15 Compiler: gcc gcc (Ubuntu 11.4.0-1ubuntu1~22.04) 11.4.0 Ubuntu 20.04 Kernel: 5.15 Compiler: gcc gcc (Ubuntu 9.4.0-1ubuntu1~20.04.2) 9.4.0 Fedora Linux 40 Kernel: 5.15 Compiler: gcc gcc (GCC) 14.2.1 20240912 (Red Hat 14.2.1-3) CentOS Stream 10 Kernel: 5.15 Compiler: gcc gcc (GCC) 14.2.1 20250110 (Red Hat 14.2.1-8) Ubuntu 24.04 Kernel: 5.15 Compiler: gcc gcc (Ubuntu 13.3.0-6ubuntu2~24.04) 13.3.0 Red Hat Enterprise Linux 9.5 Kernel: 5.15 Compiler: gcc gcc (GCC) 11.5.0 20240719 (Red Hat 11.5.0-2) Red Hat Enterprise Linux 8.10 Kernel: 5.15 Compiler: gcc gcc (GCC) 8.5.0 20210514 (Red Hat 8.5.0-22) To view detailed results, visit: https://lab.dpdk.org/results/dashboard/tarballs/35662/ UNH-IOL DPDK Community Lab To manage your email subscriptions, visit: https://lab.dpdk.org/results/dashboard/preferences/subscriptions/