From mboxrd@z Thu Jan 1 00:00:00 1970 Return-Path: Received: from mails.dpdk.org (mails.dpdk.org [217.70.189.124]) by inbox.dpdk.org (Postfix) with ESMTP id 7D62348B56 for ; Thu, 20 Nov 2025 09:50:30 +0100 (CET) Received: from mails.dpdk.org (localhost [127.0.0.1]) by mails.dpdk.org (Postfix) with ESMTP id 52B8140262; Thu, 20 Nov 2025 09:50:30 +0100 (CET) Received: from mail-io1-f98.google.com (mail-io1-f98.google.com [209.85.166.98]) by mails.dpdk.org (Postfix) with ESMTP id 2B47840262 for ; Thu, 20 Nov 2025 09:50:29 +0100 (CET) Received: by mail-io1-f98.google.com with SMTP id ca18e2360f4ac-9490c862fcbso26475039f.2 for ; Thu, 20 Nov 2025 00:50:29 -0800 (PST) DKIM-Signature: v=1; a=rsa-sha256; c=relaxed/relaxed; d=iol.unh.edu; s=unh-iol; t=1763628628; x=1764233428; darn=dpdk.org; h=cc:to:from:subject:message-id:date:from:to:cc:subject:date :message-id:reply-to; bh=Mr08yhas+ecyGGAatoMRBTLozsun6EtxInbfrbIRVpg=; b=aSZh80PRYaq919SKjBF62EWWiy/05KV0IthDBpKrBHyPor6+uY4abUi4gNt+vcrdso zGCpc3syI2xZdTWeZG41ptRgeNupUfSw9vU2VGwP3pZJB306o8EwnEUQjucYAWDPOhNk +0DN6lVpCiJva0XTPicurXCdfKgxGcaF6wIzo= X-Google-DKIM-Signature: v=1; a=rsa-sha256; c=relaxed/relaxed; d=1e100.net; s=20230601; t=1763628628; x=1764233428; h=cc:to:from:subject:message-id:date:x-gm-gg:x-gm-message-state:from :to:cc:subject:date:message-id:reply-to; bh=Mr08yhas+ecyGGAatoMRBTLozsun6EtxInbfrbIRVpg=; b=OiCknGyJiTiohftI+gZPCamyLzkcYv+NXsgxzSrldo6HLaQZhf0EhD8d+SbK8nad5I F2YLGDKjSGQTWCm9/T3++kT4j3Y2IM252UUdRM2By1McIfQ+IHQPBy7DXfLW3FLD+j05 S57Oya8f6/FQlKG/4uq4vW5k7rIwhKZZdh7pvpS/FaOKRMUVyUK6m9rhj2hUjnFqu6/J XVxKnVDG8bggmAxagwNdJiWaUnhn++oGiUdNOHf7qKcgdH6/46uOL4mHO5C5T/uubw24 GNsJGN7dW8BGP9QIreFePKBXkMtHFTgh7xHyzfDYgukCh4hb4aMr0Vx+oAfgljneAo0a JX9Q== X-Gm-Message-State: AOJu0Yx/10pXKoFfUEOyMcAwwi0BNXSvB6TQrdDW5fGhhu3gu1j5ykzX K8zIlQ/b+0ILlJ6Hhs7nd3aPcozwDiAGnwvwn05djzWtj/brIFQLzuMfEDvAt0dGmDR0qKxekiv bXxvYEozSQrNQQ39L69ilDAlgLPejZM+UHdgnuwG78IRA X-Gm-Gg: ASbGncuK+DfQkx7rpP28H4+2xO+J9Lp24BC4hEBUWJxsvtsf3GyU0pu1hIQdGQobg8m KLp5HC75SrAaLGoAcbwc9+KMMuPZ/hyFtavaFPqIu6LcUvSbgb6KWy7Y1HzKUp4q/YWsv/XTUP+ gOeGuGvPhYk7KgyIDmietbdBmAnNnTJ3EY77By/044ynKtR6ENGpMwnGf6+WaGyEN23b4gCjsPz joejk+Ep4rrOQC4lSTFChqBIuBcpL89cylCW2QZtkFGRVzUUVHVi9lCTEp0Q8xiKgYe8LhwaElG C2TxHKS2v9O9OYtQtdV/4VeoTe9/KbEXmph30YZBTJj/1PgG7l8iFy4EbfvpOf4nUz5vWFAretU Wc3JX9jMRicLCKr902vrXGw98cstvKdXKi/BBIpo2qQ== X-Google-Smtp-Source: AGHT+IGJuh284BJK3MsCa3X4EDa+enr6SPhr6UGOxoWjH3kz8rnYUB2ZxG9tsVbWgsscTtGj4xScbfiy9LL/ X-Received: by 2002:a05:6638:ecc:b0:5b7:3df5:5fa7 with SMTP id 8926c6da1cb9f-5b953ffdc16mr1657126173.8.1763628628370; Thu, 20 Nov 2025 00:50:28 -0800 (PST) Received: from postal.iol.unh.edu (postal.iol.unh.edu. [132.177.123.84]) by smtp-relay.gmail.com with ESMTPS id 8926c6da1cb9f-5b954afce76sm162058173.17.2025.11.20.00.50.28 (version=TLS1_2 cipher=ECDHE-ECDSA-AES128-GCM-SHA256 bits=128/128); Thu, 20 Nov 2025 00:50:28 -0800 (PST) X-Relaying-Domain: iol.unh.edu Date: Thu, 20 Nov 2025 00:50:28 -0800 (PST) Message-ID: <691ed654.050a0220.99efe.7f3aSMTPIN_ADDED_MISSING@mx.google.com> Received: from [172.21.0.2] (unknown [172.18.0.240]) by postal.iol.unh.edu (Postfix) with ESMTP id F13226051830; Thu, 20 Nov 2025 03:50:27 -0500 (EST) Subject: |SUCCESS| [GIT MASTER] ef98b88455bf4a7c8b7aa3106a761c9e9270d6a3 From: dpdklab@iol.unh.edu To: Test Report Cc: dpdk-test-reports@iol.unh.edu Content-Type: text/plain X-BeenThere: test-report@dpdk.org X-Mailman-Version: 2.1.29 Precedence: list List-Id: automatic DPDK test reports List-Unsubscribe: , List-Archive: List-Post: List-Help: List-Subscribe: , Errors-To: test-report-bounces@dpdk.org _Testing PASS_ Branch: dpdk ef98b88455bf4a7c8b7aa3106a761c9e9270d6a3 --> testing pass Upstream job id: Generic-DPDK-Compile-Meson#446171 Test environment and result as below: +------------------------------+--------------------+ | Environment | dpdk_meson_compile | +==============================+====================+ | Fedora Linux 42 | PASS | +------------------------------+--------------------+ | Ubuntu 20.04 | PASS | +------------------------------+--------------------+ | Ubuntu 22.04 | PASS | +------------------------------+--------------------+ | Ubuntu 24.04 | PASS | +------------------------------+--------------------+ | CentOS Stream 9 | PASS | +------------------------------+--------------------+ | Debian GNU/Linux 12 | PASS | +------------------------------+--------------------+ | CentOS Stream 10 | PASS | +------------------------------+--------------------+ | Red Hat Enterprise Linux 9.5 | PASS | +------------------------------+--------------------+ Fedora Linux 42 Kernel: 5.4 Compiler: gcc gcc (GCC) 15.2.1 20250808 (Red Hat 15.2.1-1) Ubuntu 20.04 Kernel: 5.4 Compiler: gcc gcc (Ubuntu 9.4.0-1ubuntu1~20.04.2) 9.4.0 Ubuntu 22.04 Kernel: 5.4 Compiler: gcc gcc (Ubuntu 11.4.0-1ubuntu1~22.04) 11.4.0 Ubuntu 24.04 Kernel: 5.4 Compiler: gcc gcc (Ubuntu 13.3.0-6ubuntu2~24.04) 13.3.0 CentOS Stream 9 Kernel: 5.4 Compiler: gcc gcc (GCC) 11.5.0 20240719 (Red Hat 11.5.0-11) Debian GNU/Linux 12 Kernel: 5.4 Compiler: gcc gcc (Debian 12.2.0-14+deb12u1) 12.2.0 CentOS Stream 10 Kernel: 5.4 Compiler: gcc gcc (GCC) 14.2.1 20250110 (Red Hat 14.2.1-8) Red Hat Enterprise Linux 9.5 Kernel: 5.4 Compiler: gcc gcc (GCC) 11.5.0 20240719 (Red Hat 11.5.0-2) To view detailed results, visit: https://lab.dpdk.org/results/dashboard/tarballs/35659/ UNH-IOL DPDK Community Lab To manage your email subscriptions, visit: https://lab.dpdk.org/results/dashboard/preferences/subscriptions/