From mboxrd@z Thu Jan 1 00:00:00 1970 Return-Path: Received: from mails.dpdk.org (mails.dpdk.org [217.70.189.124]) by inbox.dpdk.org (Postfix) with ESMTP id 7983148B58 for ; Thu, 20 Nov 2025 10:42:09 +0100 (CET) Received: from mails.dpdk.org (localhost [127.0.0.1]) by mails.dpdk.org (Postfix) with ESMTP id 5D42640262; Thu, 20 Nov 2025 10:42:09 +0100 (CET) Received: from mail-pl1-f228.google.com (mail-pl1-f228.google.com [209.85.214.228]) by mails.dpdk.org (Postfix) with ESMTP id E280740262 for ; Thu, 20 Nov 2025 10:42:08 +0100 (CET) Received: by mail-pl1-f228.google.com with SMTP id d9443c01a7336-297ef378069so6582335ad.3 for ; Thu, 20 Nov 2025 01:42:08 -0800 (PST) DKIM-Signature: v=1; a=rsa-sha256; c=relaxed/relaxed; d=iol.unh.edu; s=unh-iol; t=1763631728; x=1764236528; darn=dpdk.org; h=cc:to:from:subject:message-id:date:from:to:cc:subject:date :message-id:reply-to; bh=5unp5elp3JWV5Vf0VPqellA2uD0CUJwHJgP5dfWC6AE=; b=fLS1j/EFtRWulDGyc+ye/9SErqUHYknnFQw2MY9Els2f2Gyi7+wQ5F+xoNpkjMIVpQ 3DwtBO9hU6JGRosQu0k9SrZ4dZqoTQMddd4KQaEX77JZOm1mIClEb3CZDFLTrt2U+XKa R99XADnTJpPDPMqY6bLO7QRelyIC105d6JkEA= X-Google-DKIM-Signature: v=1; a=rsa-sha256; c=relaxed/relaxed; d=1e100.net; s=20230601; t=1763631728; x=1764236528; h=cc:to:from:subject:message-id:date:x-gm-gg:x-gm-message-state:from :to:cc:subject:date:message-id:reply-to; bh=5unp5elp3JWV5Vf0VPqellA2uD0CUJwHJgP5dfWC6AE=; b=F83a/K8vL6kBuJB5WlGcohVqxpjTRk++jiI885IHMFliQsO9/uG2eRwztPFCCtOhVa mHBWwthz1If8gHemN7BeDgW1I0yXweqWkAkSSULb0ZyEmSuvl/NoWzIqUmNxWIAZLAfA k8mMrglgADoaT4RPtSd/y8lYZAk7vO48pS5ClfX3o0S7kssI+WCZPlPNF2PC6xGSAGk4 A6Wyc4WFbcYWesPCUEa88ScJu8xEVmhm24KX7dARiDqZPVDi1c04JZCQjX3IewFEer51 67459TVt8TZ4s5V46QlWc1t9Ulz62giSIV76Z2cR3R/2IyfhlYAFfolNadqR9E4VDzZ8 8rBg== X-Gm-Message-State: AOJu0YzbQDF/i6Yqeg7tDEIKnNdxIphmwWomNoK9pcTEh/+K5/pRW4SU HIBp/KThqCFLIJq/KcTpTplLZcTSN3Y8fM6mOvGaPwNVGJvLLsRHTlceTOBDs7xGsIsO2FF/oYN cRE9Apd19GKIzL7ZJrf/I9yjUzagdrVAPhKep X-Gm-Gg: ASbGncs4PdGh8K34exq6mooZXfgLAr7SG7hToILh4uB8VkpxPBvsNmrTiDl4WFc+Ip5 L2w/6iheBFv9cvtwUDYstc/W4E//djDqD55pSEQWf+9YXRs5y6w5khoXMXmh3tBMOIleUD7KelX 3i2WFvGJ03VXbCswawrkXvcM8Yh70uGtNKh/ne4+IM0VWXykbPnYpTO7om/yb8CbX2a9htaDKPb OiVlbb45L5XGK0NG063Byvanuws3ig4m3/wYoT09vlw6BEmnEIZozywnGaLDipNVqgMJwBUOCzP vag/VW/JLFDgT/YnQRN5t+WzmrPu1cfNGyrsZPxi7PxzikcZ9h3qIkvdbSZbaqNTrKlg7Y0Oxqu V7banwTrUK6rzc0BlFsGYQQYB1KhPCf4OABATGAWaDw== X-Google-Smtp-Source: AGHT+IGTbkflNFL80XlGmMg/iQQSqnO9J2lwWjBTRDLFBSFjfhGz34lUKmYf5r8ktdeLiwbGK/j/Povd3kLc X-Received: by 2002:a17:903:3810:b0:298:b4f1:37eb with SMTP id d9443c01a7336-29b5b03e3c3mr30999895ad.10.1763631727999; Thu, 20 Nov 2025 01:42:07 -0800 (PST) Received: from postal.iol.unh.edu (postal.iol.unh.edu. [132.177.123.84]) by smtp-relay.gmail.com with ESMTPS id d9443c01a7336-29b5b14aef2sm2155315ad.25.2025.11.20.01.42.07 (version=TLS1_2 cipher=ECDHE-ECDSA-AES128-GCM-SHA256 bits=128/128); Thu, 20 Nov 2025 01:42:07 -0800 (PST) X-Relaying-Domain: iol.unh.edu Date: Thu, 20 Nov 2025 01:42:07 -0800 (PST) Message-ID: <691ee26f.170a0220.2e55e9.aa13SMTPIN_ADDED_MISSING@mx.google.com> Received: from [172.21.0.3] (unknown [172.18.0.240]) by postal.iol.unh.edu (Postfix) with ESMTP id 63A6560003E8; Thu, 20 Nov 2025 04:42:07 -0500 (EST) Subject: |SUCCESS| [GIT MASTER] d297bb24650efb7040a66a3270e01c94fc8ee4f5 From: dpdklab@iol.unh.edu To: Test Report Cc: dpdk-test-reports@iol.unh.edu, Xueming Li , Kevin Traynor , Luca Boccassi Content-Type: text/plain X-BeenThere: test-report@dpdk.org X-Mailman-Version: 2.1.29 Precedence: list List-Id: automatic DPDK test reports List-Unsubscribe: , List-Archive: List-Post: List-Help: List-Subscribe: , Errors-To: test-report-bounces@dpdk.org _Testing PASS_ Branch: tags/v22.11 d297bb24650efb7040a66a3270e01c94fc8ee4f5 --> testing pass Upstream job id: Generic-DPDK-Compile-Meson#446195 Test environment and result as below: +------------------------------+--------------------+ | Environment | dpdk_meson_compile | +==============================+====================+ | Debian GNU/Linux 12 | PASS | +------------------------------+--------------------+ | Ubuntu 20.04 | PASS | +------------------------------+--------------------+ | Fedora Linux 42 | PASS | +------------------------------+--------------------+ | Red Hat Enterprise Linux 9.5 | PASS | +------------------------------+--------------------+ | Ubuntu 22.04 | PASS | +------------------------------+--------------------+ | CentOS Stream 9 | PASS | +------------------------------+--------------------+ | Ubuntu 24.04 | PASS | +------------------------------+--------------------+ | CentOS Stream 10 | PASS | +------------------------------+--------------------+ Debian GNU/Linux 12 Kernel: 5.4 Compiler: gcc gcc (Debian 12.2.0-14+deb12u1) 12.2.0 Ubuntu 20.04 Kernel: 5.4 Compiler: gcc gcc (Ubuntu 9.4.0-1ubuntu1~20.04.2) 9.4.0 Fedora Linux 42 Kernel: 5.4 Compiler: gcc gcc (GCC) 15.2.1 20250808 (Red Hat 15.2.1-1) Red Hat Enterprise Linux 9.5 Kernel: 5.4 Compiler: gcc gcc (GCC) 11.5.0 20240719 (Red Hat 11.5.0-2) Ubuntu 22.04 Kernel: 5.4 Compiler: gcc gcc (Ubuntu 11.4.0-1ubuntu1~22.04) 11.4.0 CentOS Stream 9 Kernel: 5.4 Compiler: gcc gcc (GCC) 11.5.0 20240719 (Red Hat 11.5.0-11) Ubuntu 24.04 Kernel: 5.4 Compiler: gcc gcc (Ubuntu 13.3.0-6ubuntu2~24.04) 13.3.0 CentOS Stream 10 Kernel: 5.4 Compiler: gcc gcc (GCC) 14.2.1 20250110 (Red Hat 14.2.1-8) To view detailed results, visit: https://lab.dpdk.org/results/dashboard/tarballs/35660/ UNH-IOL DPDK Community Lab To manage your email subscriptions, visit: https://lab.dpdk.org/results/dashboard/preferences/subscriptions/