From mboxrd@z Thu Jan 1 00:00:00 1970 Return-Path: Received: from mails.dpdk.org (mails.dpdk.org [217.70.189.124]) by inbox.dpdk.org (Postfix) with ESMTP id BE72048B58 for ; Thu, 20 Nov 2025 10:45:13 +0100 (CET) Received: from mails.dpdk.org (localhost [127.0.0.1]) by mails.dpdk.org (Postfix) with ESMTP id A173F40262; Thu, 20 Nov 2025 10:45:13 +0100 (CET) Received: from mail-pl1-f226.google.com (mail-pl1-f226.google.com [209.85.214.226]) by mails.dpdk.org (Postfix) with ESMTP id 1789E40262 for ; Thu, 20 Nov 2025 10:45:13 +0100 (CET) Received: by mail-pl1-f226.google.com with SMTP id d9443c01a7336-297e239baecso15637305ad.1 for ; Thu, 20 Nov 2025 01:45:12 -0800 (PST) DKIM-Signature: v=1; a=rsa-sha256; c=relaxed/relaxed; d=iol.unh.edu; s=unh-iol; t=1763631912; x=1764236712; darn=dpdk.org; h=cc:to:from:subject:message-id:date:from:to:cc:subject:date :message-id:reply-to; bh=kmq3RYQ+bGOrYagP6WnlbjFYREQsfwphBaTSira637A=; b=Ct/jx/JJf60l/rFfIXV9XnRg+ult1dmMKrrAFERtKBjg1kx02A1lkpGn0lRnlUfMY/ zd0meWciA1wZmYurY3Q4K0HVfTrQeYVVNd1bqnD57iwNo4/VGLT1xNY1SKOy/7p5NevA oukbLebBJD91AwNWYDnngDD/FACQl0iq+fNbE= X-Google-DKIM-Signature: v=1; a=rsa-sha256; c=relaxed/relaxed; d=1e100.net; s=20230601; t=1763631912; x=1764236712; h=cc:to:from:subject:message-id:date:x-gm-gg:x-gm-message-state:from :to:cc:subject:date:message-id:reply-to; bh=kmq3RYQ+bGOrYagP6WnlbjFYREQsfwphBaTSira637A=; b=d7qsGyJksYDsun0iNvbTcCNz1vKkYHpjOby5TkegxWwbzy7ziBlNOLxUVl+D/1QMrU 36NB7VH6ILSsPvhcSLIP1o1hKEsf7t48BZtoRKVbAFh3KN5aS9D6cby6nhiwMzbs8X0W btdXgb85mDKkcvlFUYt+sRWjTv/uq1t6HFsE1YAyzifinY2sX36T7U9pkTjaFDGE2Umi WEaZeyNGgLJ0CdpvvIuk20L1ZVTzMS2ff/yqm3PhvtreQDTBGznWed7on4nO2ZGNN0K9 fa9No6TIgYfh+R09Cnfy3bygQxlOC71dhv//StrWo3azIhSryTwv20Mvc0w+wInhTryg DAGA== X-Gm-Message-State: AOJu0YyNuatOicML+YzMAqK/YNEOUgLss3+U/2ZpnfyyBjB2O6Fb9ty6 3szT6uXe5bpe/MQpodbQw3mUDVZvgcnCryxY4I8aQ2hfJX0Svrv9k1PEYRWVr91b5gAREpxWvVF 2ECZZdfFgS7UWjAGpuR4KmqNwVQsoYQBnksFM X-Gm-Gg: ASbGncubtX22Wz/pcr4DDQLrw7Zy/BdzWkItAVJOB6YHtb6KTkSOj4s/2Y8+5/3ySPo 3EFxRVMqxxmwGSIHPg5ftki4UzvTN6dRMqBKcesMIj8dU+UTwJ1EE/9Cs4V1AWp2ya4sMlAztq0 9JKdEgOsMe55w2Jjr3/+d67YVrJ361Hh2myABkVR8wOT8t/AH43xjjjLHy+5VeOF0yfwWXJFsGK pAAAJEpjQ7aGwMA/LA0JNtai+QgXekWkR2ItepS+xWBkLPb2YYE3NdaFV/COGe+9L1tUWjiD/iF jrkRQHmvEIPxA7TVaFqfKsOmfuWbbs3tO6gtWo6NODmh0nP4r+dxrjFz1iN2kgp1BlKZKL62fXf m34VFxVACWzCbk+rFXY+mjpqJn3kSd6l7/vMOwniRwA== X-Google-Smtp-Source: AGHT+IEyUNxIS53Q8qskf5EkmfdEDDD5/onFVBMwponufYaDU44IYrmKh4QCW2oWGhqv05y39uag3edp7dH5 X-Received: by 2002:a17:903:1acc:b0:262:f975:fcba with SMTP id d9443c01a7336-29b5e32ea5amr19550465ad.9.1763631912048; Thu, 20 Nov 2025 01:45:12 -0800 (PST) Received: from postal.iol.unh.edu (postal.iol.unh.edu. [132.177.123.84]) by smtp-relay.gmail.com with ESMTPS id d9443c01a7336-29b5b24865esm2306245ad.53.2025.11.20.01.45.11 (version=TLS1_2 cipher=ECDHE-ECDSA-AES128-GCM-SHA256 bits=128/128); Thu, 20 Nov 2025 01:45:12 -0800 (PST) X-Relaying-Domain: iol.unh.edu Date: Thu, 20 Nov 2025 01:45:12 -0800 (PST) Message-ID: <691ee328.170a0220.2c20b4.b639SMTPIN_ADDED_MISSING@mx.google.com> Received: from [172.21.0.3] (unknown [172.18.0.240]) by postal.iol.unh.edu (Postfix) with ESMTP id 4C4016051830; Thu, 20 Nov 2025 04:45:11 -0500 (EST) Subject: |SUCCESS| [GIT MASTER] 0bd935abcb823f581ce53986986aa54eaf6f8140 From: dpdklab@iol.unh.edu To: Test Report Cc: dpdk-test-reports@iol.unh.edu, Xueming Li , Kevin Traynor , Luca Boccassi Content-Type: text/plain X-BeenThere: test-report@dpdk.org X-Mailman-Version: 2.1.29 Precedence: list List-Id: automatic DPDK test reports List-Unsubscribe: , List-Archive: List-Post: List-Help: List-Subscribe: , Errors-To: test-report-bounces@dpdk.org _Testing PASS_ Branch: tags/v24.11 0bd935abcb823f581ce53986986aa54eaf6f8140 --> testing pass Upstream job id: Generic-Unit-Test-DPDK#394601 Test environment and result as below: +------------------------------+------------------------------+--------------+---------------------------+----------------+ | Environment | cryptodev_sw_snow3g_autotest | lpm_autotest | cryptodev_sw_zuc_autotest | dpdk_unit_test | +==============================+==============================+==============+===========================+================+ | Debian 12 (arm) | PASS | SKIPPED | PASS | SKIPPED | +------------------------------+------------------------------+--------------+---------------------------+----------------+ | Ubuntu 20.04 | SKIPPED | PASS | SKIPPED | PASS | +------------------------------+------------------------------+--------------+---------------------------+----------------+ | Ubuntu 22.04 | SKIPPED | SKIPPED | SKIPPED | PASS | +------------------------------+------------------------------+--------------+---------------------------+----------------+ | Fedora Linux 41 | SKIPPED | SKIPPED | SKIPPED | PASS | +------------------------------+------------------------------+--------------+---------------------------+----------------+ | CentOS Stream 10 | SKIPPED | SKIPPED | SKIPPED | PASS | +------------------------------+------------------------------+--------------+---------------------------+----------------+ | Fedora Linux 42 | SKIPPED | SKIPPED | SKIPPED | PASS | +------------------------------+------------------------------+--------------+---------------------------+----------------+ | Fedora Linux 40 | SKIPPED | SKIPPED | SKIPPED | PASS | +------------------------------+------------------------------+--------------+---------------------------+----------------+ | CentOS Stream 9 | SKIPPED | SKIPPED | SKIPPED | PASS | +------------------------------+------------------------------+--------------+---------------------------+----------------+ | Debian GNU/Linux 12 | SKIPPED | SKIPPED | SKIPPED | PASS | +------------------------------+------------------------------+--------------+---------------------------+----------------+ | Red Hat Enterprise Linux 9.5 | SKIPPED | SKIPPED | SKIPPED | PASS | +------------------------------+------------------------------+--------------+---------------------------+----------------+ | Ubuntu 24.04 | SKIPPED | SKIPPED | SKIPPED | PASS | +------------------------------+------------------------------+--------------+---------------------------+----------------+ Debian 12 (arm) Kernel: Depends on container host Compiler: gcc (Debian 12.2.0-14) 12.2.0 Ubuntu 20.04 Kernel: 5.4 Compiler: gcc gcc (Ubuntu 9.4.0-1ubuntu1~20.04.2) 9.4.0 Ubuntu 22.04 Kernel: 5.4 Compiler: gcc gcc (Ubuntu 11.4.0-1ubuntu1~22.04) 11.4.0 Fedora Linux 41 Kernel: 5.4 Compiler: clang gcc (GCC) 14.3.1 20250523 (Red Hat 14.3.1-1) CentOS Stream 10 Kernel: 5.4 Compiler: gcc gcc (GCC) 14.2.1 20250110 (Red Hat 14.2.1-8) Fedora Linux 42 Kernel: 5.4 Compiler: clang gcc (GCC) 15.2.1 20250808 (Red Hat 15.2.1-1) Fedora Linux 40 Kernel: 5.4 Compiler: clang gcc (GCC) 14.2.1 20240912 (Red Hat 14.2.1-3) CentOS Stream 9 Kernel: 5.4 Compiler: gcc gcc (GCC) 11.5.0 20240719 (Red Hat 11.5.0-11) Debian GNU/Linux 12 Kernel: 5.4 Compiler: gcc gcc (Debian 12.2.0-14+deb12u1) 12.2.0 Red Hat Enterprise Linux 9.5 Kernel: 5.4 Compiler: gcc gcc (GCC) 11.5.0 20240719 (Red Hat 11.5.0-2) Ubuntu 24.04 Kernel: 5.4 Compiler: gcc gcc (Ubuntu 13.3.0-6ubuntu2~24.04) 13.3.0 To view detailed results, visit: https://lab.dpdk.org/results/dashboard/tarballs/35662/ UNH-IOL DPDK Community Lab To manage your email subscriptions, visit: https://lab.dpdk.org/results/dashboard/preferences/subscriptions/