From mboxrd@z Thu Jan 1 00:00:00 1970 Return-Path: Received: from mails.dpdk.org (mails.dpdk.org [217.70.189.124]) by inbox.dpdk.org (Postfix) with ESMTP id 3A1D648B59 for ; Thu, 20 Nov 2025 13:22:49 +0100 (CET) Received: from mails.dpdk.org (localhost [127.0.0.1]) by mails.dpdk.org (Postfix) with ESMTP id 1BBFD40262; Thu, 20 Nov 2025 13:22:49 +0100 (CET) Received: from mail-il1-f228.google.com (mail-il1-f228.google.com [209.85.166.228]) by mails.dpdk.org (Postfix) with ESMTP id 2EF8640262 for ; Thu, 20 Nov 2025 13:22:47 +0100 (CET) Received: by mail-il1-f228.google.com with SMTP id e9e14a558f8ab-43470d98f77so3918645ab.2 for ; Thu, 20 Nov 2025 04:22:47 -0800 (PST) DKIM-Signature: v=1; a=rsa-sha256; c=relaxed/relaxed; d=iol.unh.edu; s=unh-iol; t=1763641366; x=1764246166; darn=dpdk.org; h=references:in-reply-to:cc:to:from:subject:message-id:date:from:to :cc:subject:date:message-id:reply-to; bh=xLwF7+knDYNfQZjdoDR9JQakuwX7uA0d3wAS4mu7Cyk=; b=SW7PehEVEgLmgbxZm/RuiL6WdCzoJ/YaS/tjW1fodF8ufeL5zz+ix1v2vkyCNOM1ls H9tZPnVX3Un3cFspvmX07MXKXwNH/uEq3cftG4wZpQHpI5ztLB7TLk9hCfH4+RwYgPgI 8OY9ZOM4dv+35QaRrYjpu0VhKPzNg5oG4TL58= X-Google-DKIM-Signature: v=1; a=rsa-sha256; c=relaxed/relaxed; d=1e100.net; s=20230601; t=1763641366; x=1764246166; h=references:in-reply-to:cc:to:from:subject:message-id:date:x-gm-gg :x-gm-message-state:from:to:cc:subject:date:message-id:reply-to; bh=xLwF7+knDYNfQZjdoDR9JQakuwX7uA0d3wAS4mu7Cyk=; b=HP/CPXOk5z1hkh9WFJ+11AqXd/RqGIf9ga2cxz8NUom42zVqWeCfgIr5NlwzFWpZov GJcGzZUydB8L6oCVTUC8t+v/jzd5X1b35fkx1RSog0BDHQOH5R8HQhOJz0PcLbU74QYg t0hsVPWMFC8PudmiPx272kom3KXhlXD2VTZatAlaQLHkhoRqlkw6XeOaV2tf03appWxn i46E3UBf8pirC6yebuaDSzgjh3ZjMhk18Wa0rp7OKj0OMiT/Bwe3ANxsQ0AfYsQ6BQv6 x/5G8Dx5ZGRgvdKEOuLIpE2T6B20M8gmlij4TLgAHe0DommSKcGiJallACHNMSQZsmBR lKnw== X-Gm-Message-State: AOJu0YwsEhFUBIbiAdXY6UrT1iWAArZjGTmlER/xaBCjMazDGPEdKnMs Dz/Dj8M6blbNcbP5wf3YWOl4LxuQMeF9FkoRIWy3Qgw7/CZ3AYAXAm//FJzHyitNOFUfC2fwGQY N6Q0Fagy2liDAWfyMeqMdCeii55cZnMGa7JmU8aeLoyOMvKrWHtqisNastSTF X-Gm-Gg: ASbGncs0Zxov+ZUnlMTVLXizW3nh4uIoyh9l+v76xHMxIzB+Spim8d0us0iXprARYOK QEwelOI9M7iJA437Ysh26ZPlmMUev+3sOlJqc67PX7Xn0IiS8axWsgHeTULCLMgr/64f8L1PC0P QhOd95c6S4AbWKbVlQ8git1JN58QstVEvchOBxCYDJN79pysEDt0rCtOBBUTDCDuWGyjMaLsPD/ tVrFYal1uUHlqvrx0j8dsZiHgE2Pw8IzFXAH0iwvBK2SMb2hZTmo4daVQUdCVPYZaZntqPBjP0F nihcRJe45vgQU3MfQQ0XGxpgHxywYkEuV8XhKQtJXY5fxIoct/caUXfOQpo6LFMT+Rwok4SgItX NSC4fyQfHHwDULpNnR6Q= X-Google-Smtp-Source: AGHT+IGmoBKJjT7kHpU1L//bNnOu1NDMmu5NrL/3U3DX4dennjbfYTWvs6pAFrKQ6azb+nmV7Jd1oWNed7bS X-Received: by 2002:a05:6e02:17c9:b0:434:96ea:ff52 with SMTP id e9e14a558f8ab-435a907e7e0mr25552465ab.35.1763641366401; Thu, 20 Nov 2025 04:22:46 -0800 (PST) Received: from postal.iol.unh.edu (postal.iol.unh.edu. [2606:4100:3880:1234::84]) by smtp-relay.gmail.com with ESMTPS id 8926c6da1cb9f-5b954afcd58sm195440173.20.2025.11.20.04.22.46 (version=TLS1_2 cipher=ECDHE-ECDSA-AES128-GCM-SHA256 bits=128/128); Thu, 20 Nov 2025 04:22:46 -0800 (PST) X-Relaying-Domain: iol.unh.edu Date: Thu, 20 Nov 2025 04:22:46 -0800 (PST) Message-ID: <691f0816.050a0220.2df345.96ecSMTPIN_ADDED_MISSING@mx.google.com> Received: from [172.21.0.2] (unknown [172.18.0.240]) by postal.iol.unh.edu (Postfix) with ESMTP id DDC486051830; Thu, 20 Nov 2025 07:22:45 -0500 (EST) Subject: |SUCCESS| pw158933 [PATCH] drivers/net: fix Tx packet prepare From: dpdklab@iol.unh.edu To: Test Report Cc: dpdk-test-reports@iol.unh.edu, Stephen Hemminger In-Reply-To: <20251119130333.2697937-1-thomas@monjalon.net> References: <20251119130333.2697937-1-thomas@monjalon.net> Content-Type: text/plain X-BeenThere: test-report@dpdk.org X-Mailman-Version: 2.1.29 Precedence: list List-Id: automatic DPDK test reports List-Unsubscribe: , List-Archive: List-Post: List-Help: List-Subscribe: , Errors-To: test-report-bounces@dpdk.org Test-Label: iol-unit-amd64-testing Test-Status: SUCCESS http://dpdk.org/patch/158933 _Testing PASS_ Submitter: Thomas Monjalon Date: Wednesday, November 19 2025 13:03:33 DPDK git baseline: Repo:dpdk-next-net Branch: master CommitID:a544492a05ec5bd542a5d0706b8c466398b8fbb0 158933 --> testing pass Upstream job id: Generic-Unit-Test-DPDK#394646 Test environment and result as below: +-------------------------------+----------------+ | Environment | dpdk_unit_test | +===============================+================+ | CentOS Stream 9 | PASS | +-------------------------------+----------------+ | Red Hat Enterprise Linux 8.10 | PASS | +-------------------------------+----------------+ | Fedora Linux 40 | PASS | +-------------------------------+----------------+ | CentOS Stream 10 | PASS | +-------------------------------+----------------+ | Fedora Linux 42 | PASS | +-------------------------------+----------------+ | Fedora Linux 41 | PASS | +-------------------------------+----------------+ | Debian GNU/Linux 12 | PASS | +-------------------------------+----------------+ | Ubuntu 24.04 | PASS | +-------------------------------+----------------+ | Ubuntu 20.04 | PASS | +-------------------------------+----------------+ | Red Hat Enterprise Linux 9.5 | PASS | +-------------------------------+----------------+ | Ubuntu 22.04 | PASS | +-------------------------------+----------------+ CentOS Stream 9 Kernel: 5.15 Compiler: gcc gcc (GCC) 11.5.0 20240719 (Red Hat 11.5.0-11) Red Hat Enterprise Linux 8.10 Kernel: 5.15 Compiler: gcc gcc (GCC) 8.5.0 20210514 (Red Hat 8.5.0-22) Fedora Linux 40 Kernel: 5.15 Compiler: clang gcc (GCC) 14.2.1 20240912 (Red Hat 14.2.1-3) CentOS Stream 10 Kernel: 5.15 Compiler: gcc gcc (GCC) 14.2.1 20250110 (Red Hat 14.2.1-8) Fedora Linux 42 Kernel: 5.15 Compiler: clang gcc (GCC) 15.2.1 20250808 (Red Hat 15.2.1-1) Fedora Linux 41 Kernel: 5.15 Compiler: clang gcc (GCC) 14.3.1 20250523 (Red Hat 14.3.1-1) Debian GNU/Linux 12 Kernel: 5.15 Compiler: gcc gcc (Debian 12.2.0-14+deb12u1) 12.2.0 Ubuntu 24.04 Kernel: 5.15 Compiler: gcc gcc (Ubuntu 13.3.0-6ubuntu2~24.04) 13.3.0 Ubuntu 20.04 Kernel: 5.15 Compiler: gcc gcc (Ubuntu 9.4.0-1ubuntu1~20.04.2) 9.4.0 Red Hat Enterprise Linux 9.5 Kernel: 5.15 Compiler: gcc gcc (GCC) 11.5.0 20240719 (Red Hat 11.5.0-2) Ubuntu 22.04 Kernel: 5.15 Compiler: gcc gcc (Ubuntu 11.4.0-1ubuntu1~22.04) 11.4.0 To view detailed results, visit: https://lab.dpdk.org/results/dashboard/patchsets/34643/ UNH-IOL DPDK Community Lab To manage your email subscriptions, visit: https://lab.dpdk.org/results/dashboard/preferences/subscriptions/