From mboxrd@z Thu Jan 1 00:00:00 1970 Return-Path: Received: from mails.dpdk.org (mails.dpdk.org [217.70.189.124]) by inbox.dpdk.org (Postfix) with ESMTP id A5AE148B59 for ; Thu, 20 Nov 2025 13:27:45 +0100 (CET) Received: from mails.dpdk.org (localhost [127.0.0.1]) by mails.dpdk.org (Postfix) with ESMTP id 8956940262; Thu, 20 Nov 2025 13:27:45 +0100 (CET) Received: from mail-pl1-f225.google.com (mail-pl1-f225.google.com [209.85.214.225]) by mails.dpdk.org (Postfix) with ESMTP id EEDAC40262 for ; Thu, 20 Nov 2025 13:27:43 +0100 (CET) Received: by mail-pl1-f225.google.com with SMTP id d9443c01a7336-29555b384acso9946245ad.1 for ; Thu, 20 Nov 2025 04:27:43 -0800 (PST) DKIM-Signature: v=1; a=rsa-sha256; c=relaxed/relaxed; d=iol.unh.edu; s=unh-iol; t=1763641663; x=1764246463; darn=dpdk.org; h=references:in-reply-to:cc:to:from:subject:message-id:date:from:to :cc:subject:date:message-id:reply-to; bh=oUl/Z6Wbk6vZRUnX5Mbfb7hzi2A/pk5417eDzk2vgc0=; b=L25FXCCa4Hp5oYPbKWLAMKPM0HDeNlyzBpgfHnvLUgz54h1B9iGNEV14s4HLK0X682 AxJCz+IiEOXZHNPT19uo29unmXVkvb70F0v1nTi731ViY4OJT3aQ2uPZupRtRqw74S8Y kLQ3TDGAavYwJSbcYDse/GO/zKLGfKmCJ4j2k= X-Google-DKIM-Signature: v=1; a=rsa-sha256; c=relaxed/relaxed; d=1e100.net; s=20230601; t=1763641663; x=1764246463; h=references:in-reply-to:cc:to:from:subject:message-id:date:x-gm-gg :x-gm-message-state:from:to:cc:subject:date:message-id:reply-to; bh=oUl/Z6Wbk6vZRUnX5Mbfb7hzi2A/pk5417eDzk2vgc0=; b=jG3cCyDyghBVsHAMwq33WGev8SFvwE4W9BRe26EqCdi5z1DW4sswDp0dad1LB7RPAW vJzV36S8rlNsmKCOo7579XWV8spabiqywxUpYJbQfEQBHYebsrf1ytk/ztNYrxMZ+mL4 O9CM1GCYuAWkJ2SEbR3qKsImeQtHZzg23arryNNa21VuqAEMv5lblk2H3L25Q/21b6Mf 5ePqz2Lecn9Dy4oj7z2iYUVHCklY1CqiXj6Kjv3qtfgdHLfHuV17NGeiO1FEhebcWBuX RfzfU315XBU6sDI8yF1ENc5t6foCO7F93YIfOcI0T1xfOzabTR2ru916tUaY800fXLub DfBA== X-Gm-Message-State: AOJu0YzKt3XsEn5KuYtqMQ65sD0ooZakTHcy4XE0d6c9yU3GmSlH5gje mRFbCkc2r8NqaZ4D75j5VUu+6r1dWq81tA+1gvV/SplVAvZak9K2D0kVGp9P3zXC0WXqrz5+qWT R/F1VJH0woR/I5CimUDrdA7pYQiHalJWNxCDsIG1BmG/UIG2V4zFsrXsh03W8 X-Gm-Gg: ASbGncuBJR0Q3xv4IwAdRXj7LjEU4uV/GW1Zp6eMZUXVsApfXkfkoEuo8+A6Mz26Waa RgpWvxq3EUaFQFSPkROFpe7/2ermDSfvFuo1cEaG4lZJoFj5HGsO+eZUCx5dLV3FLzyID1ND0Oa HspmsVWSAwFE57DLWyyaNpYFCumFeoZ5QHqwx6rTmMGtJA+XNy9KxQS+JqBapb7WALCkNtxOMTf mdDY+C2W2f3NH3D9yglowViJkiVdZLCJigJSMlgajJ198sN+Upda8OxW4hbIytAXso2A3ZtWqrz 0lgFJ+z4ksRcLbPbRcCkfv+qo7RrSTlLeR/0byXEIjYtuQdKFWarxRsu8GuT2M+DrwAIxpMnm96 4sJYGeNOmu1vQJUsD4/c= X-Google-Smtp-Source: AGHT+IFGtyzqxE5FlSuchzBp1bEna9Npx5onIyzEi2GXGnG/5FzcqFYmbB0uc6/LhOWRQhVaq2nwc9mZrAKW X-Received: by 2002:a17:903:46cc:b0:297:ec1a:9db8 with SMTP id d9443c01a7336-29b5b119164mr45398715ad.49.1763641662928; Thu, 20 Nov 2025 04:27:42 -0800 (PST) Received: from postal.iol.unh.edu (postal.iol.unh.edu. [2606:4100:3880:1234::84]) by smtp-relay.gmail.com with ESMTPS id d9443c01a7336-29b5b1360fbsm2884175ad.16.2025.11.20.04.27.42 (version=TLS1_2 cipher=ECDHE-ECDSA-AES128-GCM-SHA256 bits=128/128); Thu, 20 Nov 2025 04:27:42 -0800 (PST) X-Relaying-Domain: iol.unh.edu Date: Thu, 20 Nov 2025 04:27:42 -0800 (PST) Message-ID: <691f093e.170a0220.3c02f5.e1aeSMTPIN_ADDED_MISSING@mx.google.com> Received: from [172.21.0.2] (unknown [172.18.0.240]) by postal.iol.unh.edu (Postfix) with ESMTP id 177C36051830; Thu, 20 Nov 2025 07:27:42 -0500 (EST) Subject: |SUCCESS| pw158933 [PATCH] drivers/net: fix Tx packet prepare From: dpdklab@iol.unh.edu To: Test Report Cc: dpdk-test-reports@iol.unh.edu, Stephen Hemminger In-Reply-To: <20251119130333.2697937-1-thomas@monjalon.net> References: <20251119130333.2697937-1-thomas@monjalon.net> Content-Type: text/plain X-BeenThere: test-report@dpdk.org X-Mailman-Version: 2.1.29 Precedence: list List-Id: automatic DPDK test reports List-Unsubscribe: , List-Archive: List-Post: List-Help: List-Subscribe: , Errors-To: test-report-bounces@dpdk.org Test-Label: iol-compile-amd64-testing Test-Status: SUCCESS http://dpdk.org/patch/158933 _Testing PASS_ Submitter: Thomas Monjalon Date: Wednesday, November 19 2025 13:03:33 DPDK git baseline: Repo:dpdk-next-net Branch: master CommitID:a544492a05ec5bd542a5d0706b8c466398b8fbb0 158933 --> testing pass Upstream job id: Generic-DPDK-Compile-Meson#446257 Test environment and result as below: +-------------------------------+--------------------+------------------+ | Environment | dpdk_meson_compile | dpdk_compile_ovs | +===============================+====================+==================+ | FreeBSD 14.2 | PASS | SKIPPED | +-------------------------------+--------------------+------------------+ | Ubuntu 22.04 | PASS | SKIPPED | +-------------------------------+--------------------+------------------+ | CentOS Stream 10 | PASS | SKIPPED | +-------------------------------+--------------------+------------------+ | Fedora Linux 42 | PASS | PASS | +-------------------------------+--------------------+------------------+ | CentOS Stream 9 | PASS | SKIPPED | +-------------------------------+--------------------+------------------+ | Ubuntu 20.04 | PASS | SKIPPED | +-------------------------------+--------------------+------------------+ | Debian GNU/Linux 12 | PASS | SKIPPED | +-------------------------------+--------------------+------------------+ | Ubuntu 24.04 | PASS | PASS | +-------------------------------+--------------------+------------------+ | openSUSE Leap 15.6 | PASS | SKIPPED | +-------------------------------+--------------------+------------------+ | Red Hat Enterprise Linux 9.5 | PASS | SKIPPED | +-------------------------------+--------------------+------------------+ | Red Hat Enterprise Linux 8.10 | PASS | SKIPPED | +-------------------------------+--------------------+------------------+ | Alpine Linux 3.22.0 | PASS | SKIPPED | +-------------------------------+--------------------+------------------+ FreeBSD 14.2 Kernel: 14.2-RELEASE Compiler: clang 18.1.6 Ubuntu 22.04 Kernel: 5.15 Compiler: gcc gcc (Ubuntu 11.4.0-1ubuntu1~22.04) 11.4.0 CentOS Stream 10 Kernel: 5.15 Compiler: gcc gcc (GCC) 14.2.1 20250110 (Red Hat 14.2.1-8) Fedora Linux 42 Kernel: 5.15 Compiler: clang gcc (GCC) 15.2.1 20250808 (Red Hat 15.2.1-1) CentOS Stream 9 Kernel: 5.15 Compiler: gcc gcc (GCC) 11.5.0 20240719 (Red Hat 11.5.0-11) Ubuntu 20.04 Kernel: 4.19 Compiler: gcc gcc (Ubuntu 9.4.0-1ubuntu1~20.04.2) 9.4.0 Debian GNU/Linux 12 Kernel: 5.15 Compiler: gcc gcc (Debian 12.2.0-14+deb12u1) 12.2.0 Ubuntu 24.04 Kernel: 5.15 Compiler: gcc gcc (Ubuntu 13.3.0-6ubuntu2~24.04) 13.3.0 openSUSE Leap 15.6 Kernel: 5.15 Compiler: gcc gcc (SUSE Linux) 7.5.0 Red Hat Enterprise Linux 9.5 Kernel: 5.15 Compiler: gcc gcc (GCC) 11.5.0 20240719 (Red Hat 11.5.0-2) Red Hat Enterprise Linux 8.10 Kernel: 5.15 Compiler: gcc gcc (GCC) 8.5.0 20210514 (Red Hat 8.5.0-22) Alpine Linux 3.22.0 Kernel: 5.15 Compiler: gcc gcc (Alpine 14.2.0) 14.2.0 To view detailed results, visit: https://lab.dpdk.org/results/dashboard/patchsets/34643/ UNH-IOL DPDK Community Lab To manage your email subscriptions, visit: https://lab.dpdk.org/results/dashboard/preferences/subscriptions/