From mboxrd@z Thu Jan 1 00:00:00 1970 Return-Path: Received: from mails.dpdk.org (mails.dpdk.org [217.70.189.124]) by inbox.dpdk.org (Postfix) with ESMTP id 990A248B5A for ; Thu, 20 Nov 2025 14:39:04 +0100 (CET) Received: from mails.dpdk.org (localhost [127.0.0.1]) by mails.dpdk.org (Postfix) with ESMTP id 7686840262; Thu, 20 Nov 2025 14:39:04 +0100 (CET) Received: from mail-yw1-f226.google.com (mail-yw1-f226.google.com [209.85.128.226]) by mails.dpdk.org (Postfix) with ESMTP id B8C8340262 for ; Thu, 20 Nov 2025 14:39:03 +0100 (CET) Received: by mail-yw1-f226.google.com with SMTP id 00721157ae682-780fe76f457so8254257b3.0 for ; Thu, 20 Nov 2025 05:39:03 -0800 (PST) DKIM-Signature: v=1; a=rsa-sha256; c=relaxed/relaxed; d=iol.unh.edu; s=unh-iol; t=1763645943; x=1764250743; darn=dpdk.org; h=references:in-reply-to:cc:to:from:subject:message-id:date:from:to :cc:subject:date:message-id:reply-to; bh=tIa4O2vCb72+vn6iUzEJC8eVAiRS58vftd83LUSuU9w=; b=URxh6klafMCHX1+L5Wni9+uQlskuF2oOcVBPWGdvEpUnV/Ljt57ej2N/59WtHYxeSS mkBCgQu0d2+Vq/Dnm5fL0pzOhirLsVysPEI3TJWnUENHVmsHElJD2R/PkiPJLNRdRoHp 6p8/i4mskGAXg9sgmUSnYDnGyBQCYNPNUTHmw= X-Google-DKIM-Signature: v=1; a=rsa-sha256; c=relaxed/relaxed; d=1e100.net; s=20230601; t=1763645943; x=1764250743; h=references:in-reply-to:cc:to:from:subject:message-id:date:x-gm-gg :x-gm-message-state:from:to:cc:subject:date:message-id:reply-to; bh=tIa4O2vCb72+vn6iUzEJC8eVAiRS58vftd83LUSuU9w=; b=FqAhWEOUAMldfNofxeLGv08F+DCiMYztTDw9apWoJpyTyAnR7f3W5SgILgWrec5k8d itdwwe1Vq0IP28W2Pof85aMiRU4qy/NzlV7PtV8n4a3HVFhBe1MJT/r15UKarrdW/Waj IFD6X5rxuVHB2+FIMLkN9G37JndxcbGExb9VYalaa3bCICDrdjQbvSYmwMHHk3OjnMPJ EGEuSXNLvwdm+P4poSIqhkdXU1OtctcXbYwzBPRq2Zh4Uq8wWCpgH0uqGJ+dDVJA0sjG Z6IZxvP5B1Uw4Zn2zHSDhFJwDQB2VKhsVeeRz4G5uLAl1OsMpiyddLwLg70cHIYsQksI IBoA== X-Gm-Message-State: AOJu0YyxVTddpOnEhA2LpEPcQBQC3biN51OjHFGGo8Vlt/VXjCbl7GGq EWmKndUtWCHXHS2Z2OkTRU47F8KLyJyXsdAValnVFgIprNdkoG/6KF/tx1RglXbLPPKOK8/kuEh QJWCS0jSr2Fin7YbaM7w9WC/A2gQUT/GQ/8pPZQX8AHqYGYaAJFwIDPlhpGs5 X-Gm-Gg: ASbGncuW7caER8+nJ1u1vmxSAfcuQQZOeaPIEPE7kYjH197QEPF444jdPI+0O63ehq0 4zlZffHiCyP/skNfJul1TWoxHPf/87F63NqpoH60ybqBBwL2FOYj/iLESvFLEQGCk0T2Kg/5kkt N31IPzbEc5hAlwb+xpmkqLNj/TxChXZ9DLPgQsRIWnUSgO+y5p8S8BU9b5WPufaU4dJFIFo10Ps VxuoMCSEqUv5LeLVyZYLaWKWsjDtD+DeY3bkVCHGa/UColtg7rDQfdRXaiDg4nV+7AKa6KQj8zg SU34Akbv6Kml4dq98maovfXmNQA1l1eZ9Wh5RAGnxNKAZLdy3f+MgveUPQnRtZp7fdR9FZgvpMR 6Qa7fd7vs5gAaQJKRLWQ= X-Google-Smtp-Source: AGHT+IGXe1pZh40pVl4Kv/Q8QwzDSnOUtZJEZ4tFzbFS/OWYWPodysfnT/FuySJ4E8rkDKo/o+vnHx1fW3+i X-Received: by 2002:a05:690c:88a:b0:786:5471:f44c with SMTP id 00721157ae682-78a79663781mr58170177b3.63.1763645942921; Thu, 20 Nov 2025 05:39:02 -0800 (PST) Received: from postal.iol.unh.edu (postal.iol.unh.edu. [2606:4100:3880:1234::84]) by smtp-relay.gmail.com with ESMTPS id 00721157ae682-78a79920ce2sm1588977b3.18.2025.11.20.05.39.02 (version=TLS1_2 cipher=ECDHE-ECDSA-AES128-GCM-SHA256 bits=128/128); Thu, 20 Nov 2025 05:39:02 -0800 (PST) X-Relaying-Domain: iol.unh.edu Date: Thu, 20 Nov 2025 05:39:02 -0800 (PST) Message-ID: <691f19f6.050a0220.250248.7afbSMTPIN_ADDED_MISSING@mx.google.com> Received: from [172.21.0.3] (unknown [172.18.0.240]) by postal.iol.unh.edu (Postfix) with ESMTP id 7C9AB604D420; Thu, 20 Nov 2025 08:39:02 -0500 (EST) Subject: |SUCCESS| pw158933 [PATCH] drivers/net: fix Tx packet prepare From: dpdklab@iol.unh.edu To: Test Report Cc: dpdk-test-reports@iol.unh.edu, Stephen Hemminger In-Reply-To: <20251119130333.2697937-1-thomas@monjalon.net> References: <20251119130333.2697937-1-thomas@monjalon.net> Content-Type: text/plain X-BeenThere: test-report@dpdk.org X-Mailman-Version: 2.1.29 Precedence: list List-Id: automatic DPDK test reports List-Unsubscribe: , List-Archive: List-Post: List-Help: List-Subscribe: , Errors-To: test-report-bounces@dpdk.org Test-Label: iol-unit-arm64-testing Test-Status: SUCCESS http://dpdk.org/patch/158933 _Testing PASS_ Submitter: Thomas Monjalon Date: Wednesday, November 19 2025 13:03:33 DPDK git baseline: Repo:dpdk-next-net Branch: master CommitID:a544492a05ec5bd542a5d0706b8c466398b8fbb0 158933 --> testing pass Upstream job id: Generic-Unit-Test-DPDK#394636 Test environment and result as below: +------------------------------+----------------+------------------------------+--------------+---------------------------+ | Environment | dpdk_unit_test | cryptodev_sw_snow3g_autotest | lpm_autotest | cryptodev_sw_zuc_autotest | +==============================+================+==============================+==============+===========================+ | Fedora Linux 42 | PASS | SKIPPED | SKIPPED | SKIPPED | +------------------------------+----------------+------------------------------+--------------+---------------------------+ | CentOS Stream 9 | PASS | SKIPPED | SKIPPED | SKIPPED | +------------------------------+----------------+------------------------------+--------------+---------------------------+ | Ubuntu 20.04 | PASS | SKIPPED | PASS | SKIPPED | +------------------------------+----------------+------------------------------+--------------+---------------------------+ | Ubuntu 24.04 | PASS | SKIPPED | SKIPPED | SKIPPED | +------------------------------+----------------+------------------------------+--------------+---------------------------+ | Fedora Linux 40 | PASS | SKIPPED | SKIPPED | SKIPPED | +------------------------------+----------------+------------------------------+--------------+---------------------------+ | Debian GNU/Linux 12 | PASS | SKIPPED | SKIPPED | SKIPPED | +------------------------------+----------------+------------------------------+--------------+---------------------------+ | Ubuntu 22.04 | PASS | SKIPPED | SKIPPED | SKIPPED | +------------------------------+----------------+------------------------------+--------------+---------------------------+ | Fedora Linux 41 | PASS | SKIPPED | SKIPPED | SKIPPED | +------------------------------+----------------+------------------------------+--------------+---------------------------+ | Red Hat Enterprise Linux 9.5 | PASS | SKIPPED | SKIPPED | SKIPPED | +------------------------------+----------------+------------------------------+--------------+---------------------------+ | CentOS Stream 10 | PASS | SKIPPED | SKIPPED | SKIPPED | +------------------------------+----------------+------------------------------+--------------+---------------------------+ | Debian 12 (arm) | SKIPPED | PASS | SKIPPED | PASS | +------------------------------+----------------+------------------------------+--------------+---------------------------+ Fedora Linux 42 Kernel: 5.4 Compiler: clang gcc (GCC) 15.2.1 20250808 (Red Hat 15.2.1-1) CentOS Stream 9 Kernel: 5.4 Compiler: gcc gcc (GCC) 11.5.0 20240719 (Red Hat 11.5.0-11) Ubuntu 20.04 Kernel: 5.4 Compiler: gcc gcc (Ubuntu 9.4.0-1ubuntu1~20.04.2) 9.4.0 Ubuntu 24.04 Kernel: 5.4 Compiler: gcc gcc (Ubuntu 13.3.0-6ubuntu2~24.04) 13.3.0 Fedora Linux 40 Kernel: 5.4 Compiler: clang gcc (GCC) 14.2.1 20240912 (Red Hat 14.2.1-3) Debian GNU/Linux 12 Kernel: 5.4 Compiler: gcc gcc (Debian 12.2.0-14+deb12u1) 12.2.0 Ubuntu 22.04 Kernel: 5.4 Compiler: gcc gcc (Ubuntu 11.4.0-1ubuntu1~22.04) 11.4.0 Fedora Linux 41 Kernel: 5.4 Compiler: gcc gcc (GCC) 14.3.1 20250523 (Red Hat 14.3.1-1) Red Hat Enterprise Linux 9.5 Kernel: 5.4 Compiler: gcc gcc (GCC) 11.5.0 20240719 (Red Hat 11.5.0-2) CentOS Stream 10 Kernel: 5.4 Compiler: gcc gcc (GCC) 14.2.1 20250110 (Red Hat 14.2.1-8) Debian 12 (arm) Kernel: Depends on container host Compiler: gcc (Debian 12.2.0-14) 12.2.0 To view detailed results, visit: https://lab.dpdk.org/results/dashboard/patchsets/34643/ UNH-IOL DPDK Community Lab To manage your email subscriptions, visit: https://lab.dpdk.org/results/dashboard/preferences/subscriptions/