From mboxrd@z Thu Jan 1 00:00:00 1970 Return-Path: Received: from mails.dpdk.org (mails.dpdk.org [217.70.189.124]) by inbox.dpdk.org (Postfix) with ESMTP id B3D2648B5A for ; Thu, 20 Nov 2025 15:06:25 +0100 (CET) Received: from mails.dpdk.org (localhost [127.0.0.1]) by mails.dpdk.org (Postfix) with ESMTP id 8985240262; Thu, 20 Nov 2025 15:06:25 +0100 (CET) Received: from mail-pj1-f100.google.com (mail-pj1-f100.google.com [209.85.216.100]) by mails.dpdk.org (Postfix) with ESMTP id 7571D40262 for ; Thu, 20 Nov 2025 15:06:24 +0100 (CET) Received: by mail-pj1-f100.google.com with SMTP id 98e67ed59e1d1-34381ec9197so830042a91.1 for ; Thu, 20 Nov 2025 06:06:24 -0800 (PST) DKIM-Signature: v=1; a=rsa-sha256; c=relaxed/relaxed; d=iol.unh.edu; s=unh-iol; t=1763647583; x=1764252383; darn=dpdk.org; h=cc:to:from:subject:message-id:date:from:to:cc:subject:date :message-id:reply-to; bh=4slu7nyed2J0pyeYAetYd3Elvym7SJBdW21jEGbaka8=; b=VGUK0spvTznOZq2yD60nVrxVM7GXjEFo2GOkteQF03XG7T5Q0nv3WKXg5R84+UE0Fa HERe21gZoN2y3S4AbuzxNVaskNmdVlB88Qh7XuiHetnzVHUzmgGbM5aO4317j0zCPthF XM+3NCnEQhGEFWB4HysN30JfrNgp1Fxlz2hxE= X-Google-DKIM-Signature: v=1; a=rsa-sha256; c=relaxed/relaxed; d=1e100.net; s=20230601; t=1763647583; x=1764252383; h=cc:to:from:subject:message-id:date:x-gm-gg:x-gm-message-state:from :to:cc:subject:date:message-id:reply-to; bh=4slu7nyed2J0pyeYAetYd3Elvym7SJBdW21jEGbaka8=; b=slGcNvZNKq1yUKlNIU6yGEp4V/Pj9QE/wR31eioq6+3NqTnodvb3Iac0DaXgUa910B S2UupZ+OUSZaKdVrVAWQFHW+gDZxBtFoVXuQUtm57WwtggpBR+YCiacgVp2BQDCtcmc1 H3eR4nN6aGEVsFs4d6SZchzzlpBCqiP0Jes1VRFt+mUfWVizxQ2mPDCW0hybkwwi0DaS HlP1A7QUuwTMAZb7HF3cHWI9ISl3KV3Imqtvo8dPs6P5pxDzF8Y1rwYAhF1H54y4ujeC qi5DDjo4KzplTWeyGd9bfBRniRQEe/a9qutDnsmIUFMHtvtEbUWI5A341U8wqXMStyfw mJlw== X-Gm-Message-State: AOJu0Yx/Vro54zi99lNqfvxUJe/2+2vgtQritMVG4QT4OsjW3+4PGg4e 2hDDZ1Qocr8kdPjNtgocfoad2ac1kQ1RX4wnuSQokPNhSra39n9pg6FDG+Tnk42g9sOtDjYY816 +mfSSZ2GKHnFsPMON6VKD08lIPMxAXCll6lYx X-Gm-Gg: ASbGncvWFSrc4lmlm1gui8zHTYRdK7++wWL94/rvkoVmxTLzGYWf843w4k7bC2mtxOZ 5I5dykF8nBRGmttqQZi5mLd48JcQeC0JOTVCAfvy+ZcgS/TNL0UmG15pr3Iv31L+oPKMn4y/v8F +WXpycOz85J+EF9JYKbgwA2X4qQ7bwHq5x8/lzYIgqXaqJJ30/IKUvUNHN30YNgT3wK8gIOFOiT 37nE3V1TAiy4oI7rfkljt645SRFo/GF5pl+Z7PDI53NvKqvJtD4TYY7MyWL4g/fOwv8ZNVuaA8B iMGeI3YSlNq2fDk3SqvfcX8oXqJoyO1kOj7UD12HcSweW79sWIo7JxXqv45HVY0wYguISUKALK4 ZXzzj/IiI7LOS0ChqZ+SGU0dDd9GwfgymfTIbwS6tzw== X-Google-Smtp-Source: AGHT+IFDwCtWIqoB1rYoywYBzX7RDEQHIECqPI62xYr4dqf2NzIfKBhDKYD4wTUmGNHgFY9uFvdTGMfd/7RG X-Received: by 2002:a17:90b:2d86:b0:343:6108:1712 with SMTP id 98e67ed59e1d1-34727c31413mr3602076a91.18.1763647583506; Thu, 20 Nov 2025 06:06:23 -0800 (PST) Received: from postal.iol.unh.edu (postal.iol.unh.edu. [132.177.123.84]) by smtp-relay.gmail.com with ESMTPS id 98e67ed59e1d1-34727c3769dsm193195a91.5.2025.11.20.06.06.23 (version=TLS1_2 cipher=ECDHE-ECDSA-AES128-GCM-SHA256 bits=128/128); Thu, 20 Nov 2025 06:06:23 -0800 (PST) X-Relaying-Domain: iol.unh.edu Date: Thu, 20 Nov 2025 06:06:23 -0800 (PST) Message-ID: <691f205f.170a0220.189d74.96e7SMTPIN_ADDED_MISSING@mx.google.com> Received: from [172.21.0.2] (unknown [172.18.0.240]) by postal.iol.unh.edu (Postfix) with ESMTP id 9868F604D420; Thu, 20 Nov 2025 09:06:22 -0500 (EST) Subject: |SUCCESS| [GIT MASTER] 0bd935abcb823f581ce53986986aa54eaf6f8140 From: dpdklab@iol.unh.edu To: Test Report Cc: dpdk-test-reports@iol.unh.edu, Xueming Li , Kevin Traynor , Luca Boccassi Content-Type: text/plain X-BeenThere: test-report@dpdk.org X-Mailman-Version: 2.1.29 Precedence: list List-Id: automatic DPDK test reports List-Unsubscribe: , List-Archive: List-Post: List-Help: List-Subscribe: , Errors-To: test-report-bounces@dpdk.org _Testing PASS_ Branch: tags/v24.11 0bd935abcb823f581ce53986986aa54eaf6f8140 --> testing pass Upstream job id: Generic-DPDK-Compile-Meson#446231 Test environment and result as below: +------------------------------+--------------------+ | Environment | dpdk_meson_compile | +==============================+====================+ | Ubuntu 20.04 | PASS | +------------------------------+--------------------+ | Red Hat Enterprise Linux 9.5 | PASS | +------------------------------+--------------------+ | Fedora Linux 42 | PASS | +------------------------------+--------------------+ | Debian GNU/Linux 12 | PASS | +------------------------------+--------------------+ | Ubuntu 22.04 | PASS | +------------------------------+--------------------+ | Ubuntu 24.04 | PASS | +------------------------------+--------------------+ | CentOS Stream 9 | PASS | +------------------------------+--------------------+ | CentOS Stream 10 | PASS | +------------------------------+--------------------+ Ubuntu 20.04 Kernel: 5.15 Compiler: aarch64-linux-gnu-gcc gcc (Ubuntu 9.4.0-1ubuntu1~20.04.2) 9.4.0 Red Hat Enterprise Linux 9.5 Kernel: 5.4 Compiler: gcc gcc (GCC) 11.5.0 20240719 (Red Hat 11.5.0-2) Fedora Linux 42 Kernel: 5.4 Compiler: gcc gcc (GCC) 15.2.1 20250808 (Red Hat 15.2.1-1) Debian GNU/Linux 12 Kernel: 5.4 Compiler: gcc gcc (Debian 12.2.0-14+deb12u1) 12.2.0 Ubuntu 22.04 Kernel: 5.4 Compiler: gcc gcc (Ubuntu 11.4.0-1ubuntu1~22.04) 11.4.0 Ubuntu 24.04 Kernel: 5.4 Compiler: gcc gcc (Ubuntu 13.3.0-6ubuntu2~24.04) 13.3.0 CentOS Stream 9 Kernel: 5.4 Compiler: gcc gcc (GCC) 11.5.0 20240719 (Red Hat 11.5.0-11) CentOS Stream 10 Kernel: 5.4 Compiler: gcc gcc (GCC) 14.2.1 20250110 (Red Hat 14.2.1-8) To view detailed results, visit: https://lab.dpdk.org/results/dashboard/tarballs/35662/ UNH-IOL DPDK Community Lab To manage your email subscriptions, visit: https://lab.dpdk.org/results/dashboard/preferences/subscriptions/