From mboxrd@z Thu Jan 1 00:00:00 1970 Return-Path: Received: from mails.dpdk.org (mails.dpdk.org [217.70.189.124]) by inbox.dpdk.org (Postfix) with ESMTP id C781E48B5B for ; Thu, 20 Nov 2025 16:07:01 +0100 (CET) Received: from mails.dpdk.org (localhost [127.0.0.1]) by mails.dpdk.org (Postfix) with ESMTP id 5AF2840262; Thu, 20 Nov 2025 16:07:01 +0100 (CET) Received: from mail-il1-f225.google.com (mail-il1-f225.google.com [209.85.166.225]) by mails.dpdk.org (Postfix) with ESMTP id 57C7040262 for ; Thu, 20 Nov 2025 16:07:00 +0100 (CET) Received: by mail-il1-f225.google.com with SMTP id e9e14a558f8ab-43321629a25so4194665ab.3 for ; Thu, 20 Nov 2025 07:07:00 -0800 (PST) DKIM-Signature: v=1; a=rsa-sha256; c=relaxed/relaxed; d=iol.unh.edu; s=unh-iol; t=1763651219; x=1764256019; darn=dpdk.org; h=references:in-reply-to:cc:to:from:subject:message-id:date:from:to :cc:subject:date:message-id:reply-to; bh=uSdwnCt/VUnHzj70ERiqKAC+6cWSc2IRYFuuIKK4/ig=; b=hX5uaszd4ZSaeGd0bJGBHKzabtA3QAztKif7wYVxVDkX9HbWbH1tJnhmwyivUqb5TY SxdxXpJzte8Lq3qxjpgoAn6SguL716W4Se3gUu3CCuQ2EdltDyPSEOyA1589QY+E9cpX inaxvsUx2wcA3JV7Zu9Zc867s0cYQzv8eF79M= X-Google-DKIM-Signature: v=1; a=rsa-sha256; c=relaxed/relaxed; d=1e100.net; s=20230601; t=1763651219; x=1764256019; h=references:in-reply-to:cc:to:from:subject:message-id:date:x-gm-gg :x-gm-message-state:from:to:cc:subject:date:message-id:reply-to; bh=uSdwnCt/VUnHzj70ERiqKAC+6cWSc2IRYFuuIKK4/ig=; b=lp7mL0s6tLAdQugjhMqBtirngpKn5ugSwN5IayM7FldZh192WzzRt0F0p0cXU4i666 xS1XtVzobmsPlcZDWdlM4MB1VrSxJnUVaCCRkAMcv9DD+EqE69iWi8UcbsYDw10KqMZ/ m4EwoGEqHovDnpYAnu0XyCa58j4BfEBgmgeLXp+40jzbEHDFUyu8EQ2+UCe788hKn2aO g2G36kUqv+j6yg9wE/LPjn4N6lpUmr3nSCfyCSmrwomxBYwvNLsYGT3vuNd3W9wP/c9b OzH3E9idlAWsbEHdBjuiczaNyQhwwHxMkZEj9mAZrWGRbcse2y/q7kaeY8/xOMff5whu DZYw== X-Gm-Message-State: AOJu0Yw67gAf+Sq47tJuoEI59GoVfbPV0eBzxp7JCF6MIXKjjaXXuvKA X3dCdJouTmF2x+LJ+5eQdlYG5yf4pO/FWL9S7kaw7RkN8VOZndaxGif1Z0pKPpW7XoT3oqdD2KI NGlpxdf2arR0qZR5sNilxhlBJiHvcmc++4GQ1+UB6P2i5Kx1Ey8s+vHinT3NM X-Gm-Gg: ASbGncvtrGY5QdVtjobzSLbR6vDtaFhrYYNL2eQZHxNIsOYJZjJ3aDLY/LbHzWZzZK3 2+uonUuxgE4ZXBX3n1PghwbZ53gUZkQvVi6wBarPDrB/QowosHLPD6x8tmEjDNmYYyXzMuEokOZ LlyX7fhXjRHGHarPPgvPMWyHX5KIgfLtmyUnBXzvR0yMkjuehhqj398LUDFiR16LRQfRNf7osFo BfqcJ+T+51/GDPexOfwx/0SsWZ8prU2cu4glLUOFZfYZMcUTWspFYEaqrnWWAYOPRbK7vvIXPpj g+vNWOI8DpR1b2bzvC9OMRcic3wxLviuuiQLkuawx2G1f0Nz5s9WYOzykrQXPBGa/GcUI1r8sRs Qjh39exXo1wHQB+xGQNA= X-Google-Smtp-Source: AGHT+IE4d/OH3AmjSXGLpWDImRQxgzxwXQRPWUae1jrT268R1biC8zdgVHGarrCCCQnGNXLUUQRLUG6+s5iG X-Received: by 2002:a05:6e02:1fc2:b0:435:a148:d2d with SMTP id e9e14a558f8ab-435a9091d7emr32458875ab.42.1763651219510; Thu, 20 Nov 2025 07:06:59 -0800 (PST) Received: from postal.iol.unh.edu (postal.iol.unh.edu. [2606:4100:3880:1234::84]) by smtp-relay.gmail.com with ESMTPS id e9e14a558f8ab-435a909a73bsm2501485ab.19.2025.11.20.07.06.59 (version=TLS1_2 cipher=ECDHE-ECDSA-AES128-GCM-SHA256 bits=128/128); Thu, 20 Nov 2025 07:06:59 -0800 (PST) X-Relaying-Domain: iol.unh.edu Date: Thu, 20 Nov 2025 07:06:59 -0800 (PST) Message-ID: <691f2e93.050a0220.1bea65.c8afSMTPIN_ADDED_MISSING@mx.google.com> Received: from [172.21.0.2] (unknown [172.18.0.240]) by postal.iol.unh.edu (Postfix) with ESMTP id 0B90C6051830; Thu, 20 Nov 2025 10:06:59 -0500 (EST) Subject: |SUCCESS| pw158933 [PATCH] drivers/net: fix Tx packet prepare From: dpdklab@iol.unh.edu To: Test Report Cc: dpdk-test-reports@iol.unh.edu, Stephen Hemminger In-Reply-To: <20251119130333.2697937-1-thomas@monjalon.net> References: <20251119130333.2697937-1-thomas@monjalon.net> Content-Type: text/plain X-BeenThere: test-report@dpdk.org X-Mailman-Version: 2.1.29 Precedence: list List-Id: automatic DPDK test reports List-Unsubscribe: , List-Archive: List-Post: List-Help: List-Subscribe: , Errors-To: test-report-bounces@dpdk.org Test-Label: iol-compile-arm64-testing Test-Status: SUCCESS http://dpdk.org/patch/158933 _Testing PASS_ Submitter: Thomas Monjalon Date: Wednesday, November 19 2025 13:03:33 DPDK git baseline: Repo:dpdk-next-net Branch: master CommitID:a544492a05ec5bd542a5d0706b8c466398b8fbb0 158933 --> testing pass Upstream job id: Generic-DPDK-Compile-Meson#446264 Test environment and result as below: +------------------------------+--------------------+ | Environment | dpdk_meson_compile | +==============================+====================+ | Ubuntu 20.04 | PASS | +------------------------------+--------------------+ | Debian GNU/Linux 12 | PASS | +------------------------------+--------------------+ | Ubuntu 22.04 | PASS | +------------------------------+--------------------+ | Red Hat Enterprise Linux 9.5 | PASS | +------------------------------+--------------------+ | Fedora Linux 42 | PASS | +------------------------------+--------------------+ | CentOS Stream 9 | PASS | +------------------------------+--------------------+ | CentOS Stream 10 | PASS | +------------------------------+--------------------+ | Ubuntu 24.04 | PASS | +------------------------------+--------------------+ Ubuntu 20.04 Kernel: 5.15 Compiler: aarch64-linux-gnu-gcc gcc (Ubuntu 9.4.0-1ubuntu1~20.04.2) 9.4.0 Debian GNU/Linux 12 Kernel: 5.4 Compiler: gcc gcc (Debian 12.2.0-14+deb12u1) 12.2.0 Ubuntu 22.04 Kernel: 5.4 Compiler: gcc gcc (Ubuntu 11.4.0-1ubuntu1~22.04) 11.4.0 Red Hat Enterprise Linux 9.5 Kernel: 5.4 Compiler: gcc gcc (GCC) 11.5.0 20240719 (Red Hat 11.5.0-2) Fedora Linux 42 Kernel: 5.4 Compiler: clang gcc (GCC) 15.2.1 20250808 (Red Hat 15.2.1-1) CentOS Stream 9 Kernel: 5.4 Compiler: gcc gcc (GCC) 11.5.0 20240719 (Red Hat 11.5.0-11) CentOS Stream 10 Kernel: 5.4 Compiler: gcc gcc (GCC) 14.2.1 20250110 (Red Hat 14.2.1-8) Ubuntu 24.04 Kernel: 5.4 Compiler: gcc gcc (Ubuntu 13.3.0-6ubuntu2~24.04) 13.3.0 To view detailed results, visit: https://lab.dpdk.org/results/dashboard/patchsets/34643/ UNH-IOL DPDK Community Lab To manage your email subscriptions, visit: https://lab.dpdk.org/results/dashboard/preferences/subscriptions/