From mboxrd@z Thu Jan 1 00:00:00 1970 Return-Path: Received: from mails.dpdk.org (mails.dpdk.org [217.70.189.124]) by inbox.dpdk.org (Postfix) with ESMTP id B94BF48B5C for ; Thu, 20 Nov 2025 19:36:46 +0100 (CET) Received: from mails.dpdk.org (localhost [127.0.0.1]) by mails.dpdk.org (Postfix) with ESMTP id 9BD4E40267; Thu, 20 Nov 2025 19:36:46 +0100 (CET) Received: from mail-io1-f98.google.com (mail-io1-f98.google.com [209.85.166.98]) by mails.dpdk.org (Postfix) with ESMTP id 0488840267 for ; Thu, 20 Nov 2025 19:36:44 +0100 (CET) Received: by mail-io1-f98.google.com with SMTP id ca18e2360f4ac-949325df6c8so52593439f.1 for ; Thu, 20 Nov 2025 10:36:44 -0800 (PST) DKIM-Signature: v=1; a=rsa-sha256; c=relaxed/relaxed; d=iol.unh.edu; s=unh-iol; t=1763663804; x=1764268604; darn=dpdk.org; h=references:in-reply-to:cc:to:from:subject:message-id:date:from:to :cc:subject:date:message-id:reply-to; bh=a+mb6cZRp0TlbO+pD2lHCoaxaBJvgm856PgdydcFgho=; b=iRD2CrwHqo2+6oPB9biwD6uJ20QxCOYhMki6sJ5GbFxluZ/Qe1DbT5DiqSAbZcnPD8 g6ZI3v/VGrTYBbSt/sISdy0yYjyA4tsxsj47b8SwmM1sr+uWAqZGvbVk0PEKKiQq2Va7 HPYcYrZb8cTXaJy3t8fJoU2+wn6kdjC1py504= X-Google-DKIM-Signature: v=1; a=rsa-sha256; c=relaxed/relaxed; d=1e100.net; s=20230601; t=1763663804; x=1764268604; h=references:in-reply-to:cc:to:from:subject:message-id:date:x-gm-gg :x-gm-message-state:from:to:cc:subject:date:message-id:reply-to; bh=a+mb6cZRp0TlbO+pD2lHCoaxaBJvgm856PgdydcFgho=; b=krvXYpcuuzsTfjkzvE2dyeCyoGxNhOAVcfrMZYsF0oM5bplnysAeAGYbkNEcR3p3Ww xyWjFyeb0Bodjg6jVBqLVtgsdJ7tlnsyZhPoSbYU8bIeu9IbQab2bLViKfi+PECU4DLh f8PJJYYTh6gX5MVdfnEaAj+B+Qw4LQv1SobkxBAFiR0y2FBeZy77KjByLS4d39CkHY1s iXBdpTDO8KB/rfXGGvjSP+bUkhZl2v5nbG9/qY/k8daIpE7uxUNshu+GmZqV55C5th3t GKbhZLeSYKMplpmxE0N7jKg5AIzdMEIYN88vGcK3GGk0P3H0nYOb00gsuKBA8M9ZkGmV 6Jfg== X-Gm-Message-State: AOJu0YwLQpd/yNNK7kJ1FX2O7nlE3SDP32KvkHV3I+7NwVUO498XwQMh dTpkL/W2m8emmTbWbfS31J31SieMPzLBmyNItJLKrAYUYXxVRF10d6YpEmZVHSHqQkCbq72HfLC +XNX/B0yMtpsxdBSpFN0EQi7ExYdJ+eAwbJU0ayTRQ9SRE7dqnRIXOvlEWoJs X-Gm-Gg: ASbGnctUP+gGKAYE8d/jojh0WDG5rDofXU+O7stXyGMZp4TeuygnWx1KCxyNZC2NW2v 5l1yt0s76jMg1hC4JHQsMSH0GaAvDiiq+wNMUcF29C9DyskruV2acqLICadGzxFo8dt/f10CHwy UEATtrHCaLVtXd9QU2M4fFmBCYGr9EveWyP8xERQWILNVQ7g7LKewkz+OsRRBeOkuzutTrmqP5V dRidCYbp17DI9uSyouhKO8OIysi9Q/rj8GeiUqi40SO0MhOs9vsGA/BPhWXbzxTyy1pHq2XVVRo YXfODxgIWBngwNgAKtV0nZS2gnsvM0rlqpdXEYRovtKmaQooXL8muAfnVI5QCw4Nb8SejNzXdwB LU22f3VeTMbftI/Eq/S0= X-Google-Smtp-Source: AGHT+IFZ619g9OQUEkWkuKNXLBZtalPCU5tYpr1PLGzaGFujGJdyQN6ChHkc423LgIg2LKWjqVQNt1qkGLxg X-Received: by 2002:a05:6602:1586:b0:949:6fc:c0e1 with SMTP id ca18e2360f4ac-94938b06f21mr276484739f.17.1763663804183; Thu, 20 Nov 2025 10:36:44 -0800 (PST) Received: from postal.iol.unh.edu (postal.iol.unh.edu. [2606:4100:3880:1234::84]) by smtp-relay.gmail.com with ESMTPS id ca18e2360f4ac-94938651289sm14759239f.10.2025.11.20.10.36.44 (version=TLS1_2 cipher=ECDHE-ECDSA-AES128-GCM-SHA256 bits=128/128); Thu, 20 Nov 2025 10:36:44 -0800 (PST) X-Relaying-Domain: iol.unh.edu Date: Thu, 20 Nov 2025 10:36:44 -0800 (PST) Message-ID: <691f5fbc.050a0220.33499d.783fSMTPIN_ADDED_MISSING@mx.google.com> Received: from [172.21.0.2] (unknown [172.18.0.240]) by postal.iol.unh.edu (Postfix) with ESMTP id A33E1604D420; Thu, 20 Nov 2025 13:36:43 -0500 (EST) Subject: |SUCCESS| pw158935 [PATCH] eal/x86: reduce memcpy code duplication From: dpdklab@iol.unh.edu To: Test Report Cc: dpdk-test-reports@iol.unh.edu In-Reply-To: <20251120114554.950287-1-mb@smartsharesystems.com> References: <20251120114554.950287-1-mb@smartsharesystems.com> Content-Type: text/plain X-BeenThere: test-report@dpdk.org X-Mailman-Version: 2.1.29 Precedence: list List-Id: automatic DPDK test reports List-Unsubscribe: , List-Archive: List-Post: List-Help: List-Subscribe: , Errors-To: test-report-bounces@dpdk.org Test-Label: iol-unit-arm64-testing Test-Status: SUCCESS http://dpdk.org/patch/158935 _Testing PASS_ Submitter: Morten Brorup Date: Thursday, November 20 2025 11:45:54 DPDK git baseline: Repo:dpdk Branch: master CommitID:ef98b88455bf4a7c8b7aa3106a761c9e9270d6a3 158935 --> testing pass Upstream job id: Generic-Unit-Test-DPDK#394665 Test environment and result as below: +------------------------------+------------------------------+--------------+---------------------------+----------------+ | Environment | cryptodev_sw_snow3g_autotest | lpm_autotest | cryptodev_sw_zuc_autotest | dpdk_unit_test | +==============================+==============================+==============+===========================+================+ | Debian 12 (arm) | PASS | SKIPPED | PASS | SKIPPED | +------------------------------+------------------------------+--------------+---------------------------+----------------+ | Ubuntu 20.04 | SKIPPED | PASS | SKIPPED | PASS | +------------------------------+------------------------------+--------------+---------------------------+----------------+ | Fedora Linux 41 | SKIPPED | SKIPPED | SKIPPED | PASS | +------------------------------+------------------------------+--------------+---------------------------+----------------+ | CentOS Stream 9 | SKIPPED | SKIPPED | SKIPPED | PASS | +------------------------------+------------------------------+--------------+---------------------------+----------------+ | Fedora Linux 42 | SKIPPED | SKIPPED | SKIPPED | PASS | +------------------------------+------------------------------+--------------+---------------------------+----------------+ | Red Hat Enterprise Linux 9.5 | SKIPPED | SKIPPED | SKIPPED | PASS | +------------------------------+------------------------------+--------------+---------------------------+----------------+ | Ubuntu 22.04 | SKIPPED | SKIPPED | SKIPPED | PASS | +------------------------------+------------------------------+--------------+---------------------------+----------------+ | CentOS Stream 10 | SKIPPED | SKIPPED | SKIPPED | PASS | +------------------------------+------------------------------+--------------+---------------------------+----------------+ | Fedora Linux 40 | SKIPPED | SKIPPED | SKIPPED | PASS | +------------------------------+------------------------------+--------------+---------------------------+----------------+ | Debian GNU/Linux 12 | SKIPPED | SKIPPED | SKIPPED | PASS | +------------------------------+------------------------------+--------------+---------------------------+----------------+ | Ubuntu 24.04 | SKIPPED | SKIPPED | SKIPPED | PASS | +------------------------------+------------------------------+--------------+---------------------------+----------------+ Debian 12 (arm) Kernel: Depends on container host Compiler: gcc (Debian 12.2.0-14) 12.2.0 Ubuntu 20.04 Kernel: 5.4 Compiler: gcc gcc (Ubuntu 9.4.0-1ubuntu1~20.04.2) 9.4.0 Fedora Linux 41 Kernel: 5.4 Compiler: gcc gcc (GCC) 14.3.1 20250523 (Red Hat 14.3.1-1) CentOS Stream 9 Kernel: 5.4 Compiler: gcc gcc (GCC) 11.5.0 20240719 (Red Hat 11.5.0-11) Fedora Linux 42 Kernel: 5.4 Compiler: clang gcc (GCC) 15.2.1 20250808 (Red Hat 15.2.1-1) Red Hat Enterprise Linux 9.5 Kernel: 5.4 Compiler: gcc gcc (GCC) 11.5.0 20240719 (Red Hat 11.5.0-2) Ubuntu 22.04 Kernel: 5.4 Compiler: gcc gcc (Ubuntu 11.4.0-1ubuntu1~22.04) 11.4.0 CentOS Stream 10 Kernel: 5.4 Compiler: gcc gcc (GCC) 14.2.1 20250110 (Red Hat 14.2.1-8) Fedora Linux 40 Kernel: 5.4 Compiler: gcc gcc (GCC) 14.2.1 20240912 (Red Hat 14.2.1-3) Debian GNU/Linux 12 Kernel: 5.4 Compiler: gcc gcc (Debian 12.2.0-14+deb12u1) 12.2.0 Ubuntu 24.04 Kernel: 5.4 Compiler: gcc gcc (Ubuntu 13.3.0-6ubuntu2~24.04) 13.3.0 To view detailed results, visit: https://lab.dpdk.org/results/dashboard/patchsets/34645/ UNH-IOL DPDK Community Lab To manage your email subscriptions, visit: https://lab.dpdk.org/results/dashboard/preferences/subscriptions/