From mboxrd@z Thu Jan 1 00:00:00 1970 Return-Path: Received: from mails.dpdk.org (mails.dpdk.org [217.70.189.124]) by inbox.dpdk.org (Postfix) with ESMTP id 0BE1248B5C for ; Thu, 20 Nov 2025 19:38:40 +0100 (CET) Received: from mails.dpdk.org (localhost [127.0.0.1]) by mails.dpdk.org (Postfix) with ESMTP id CBD7540267; Thu, 20 Nov 2025 19:38:39 +0100 (CET) Received: from mail-il1-f227.google.com (mail-il1-f227.google.com [209.85.166.227]) by mails.dpdk.org (Postfix) with ESMTP id 147ED40267 for ; Thu, 20 Nov 2025 19:38:39 +0100 (CET) Received: by mail-il1-f227.google.com with SMTP id e9e14a558f8ab-43320651e53so4893505ab.3 for ; Thu, 20 Nov 2025 10:38:39 -0800 (PST) DKIM-Signature: v=1; a=rsa-sha256; c=relaxed/relaxed; d=iol.unh.edu; s=unh-iol; t=1763663918; x=1764268718; darn=dpdk.org; h=references:in-reply-to:cc:to:from:subject:message-id:date:from:to :cc:subject:date:message-id:reply-to; bh=X08ljt1b7zloNq39MDjDOmFRUkt0mtQavfm0m0Hj1/c=; b=CFZp+Z6PG6FuDsCoMrO6LRp0Q9vS04cqSbybvmpBR3X+ZKivnujata9MYU8xOiFAfZ fNpm3usp9RsUmOCT4KYiXFykm9PGwqU1qV+lqFgD2lag5LufpZqUEj4EFOaQe4YZCIzl 3XSc6hmoo9xofAZU5MUjpdnIOpeas1WbXKiq8= X-Google-DKIM-Signature: v=1; a=rsa-sha256; c=relaxed/relaxed; d=1e100.net; s=20230601; t=1763663918; x=1764268718; h=references:in-reply-to:cc:to:from:subject:message-id:date:x-gm-gg :x-gm-message-state:from:to:cc:subject:date:message-id:reply-to; bh=X08ljt1b7zloNq39MDjDOmFRUkt0mtQavfm0m0Hj1/c=; b=nq5Xv0J++rM7iJiGidS64AZ9arnsZKIP3SBn5DbcwSMFKg+/zjjxWC/9zdlD13C4zG aT1cdcjNDeQsnLBDiXnNxs6cW/TU9ce5pLFoNimcN1OWcBHzeesfhE+j65NR/WXvNT7i LHuC2HAab3dtNAyc73nXHS/GjIKRXniW8nE7H+IOUUIJKvCyKpq06h/UdIvUvso2v7fK FOuTgvygfWZ0UiJI/aemjXqTNoqtkpCP2t7UeGwQ/47Hviwd0S8Un6Fp2nFp3JSgC7oj /iOFh/dCmZA3TB7ZlGVdGn7F71W2Hz3fS3FpbojqKGDyJ1p9Y5BuF3QcG2spYvGpsLns DxPA== X-Gm-Message-State: AOJu0YwxXYitJ8HhAgGWgpEZoGzwJs4Q5WjEhJWv7NFrFEFF3w0UzcST HELuzCyNe69gdJYrn5aqryDVGes2IXSYGY6KGKdnS1u4tcx2ONIaJX17W7TZXx5Fpg+7DZQ9Azf 1y0JY49lPKI0ou+loKmbhjSCa00alsqq6SWtjfD3/RfY9QcDy7hq70pwt40xu X-Gm-Gg: ASbGncttMHwer3p26eujFjiC6EDmoupZpl0aa2cnAOsea4D5EUkbvoIjE38+dNasrE8 EAQ4UwziP5ujyCNc+Qa6+0K35l79ms3Xb4xAYTmNZC3HP+NYRny5B8t44hYkmQAwZ7xyNcCglAN 6tvP7WsY7an1bIm/RFp2/U/x0kvQ1bAMkXJPqiyE/O4KwErvAe2bKHnlLyBn1CA19JMaIOgXXCl JXTwxna5xcm7xyAxd7kZkFQ3MVHZKoi21C+gGeigbB1H0RZddT9tm7XhMH7/xOPnqIjbRniNDF4 OJzPkXh8s1WZqm0w+KYx7xiCb7wwutvyJDt7M3GD0QcfZm7Gr2lLVYTB9mLPmGjSiWufEzPiMwi CaMdmQDEIKwqWZBodmOo= X-Google-Smtp-Source: AGHT+IGQFpBwgdnagCOyHeq1qqM86bWDUMaj6Tzj8/qABj8h756g/wAnVRaoxG1FC18IEFro4Z7vxDrcQhd3 X-Received: by 2002:a05:6e02:743:b0:434:a8c4:fdf2 with SMTP id e9e14a558f8ab-435a9078c1bmr40757625ab.25.1763663918366; Thu, 20 Nov 2025 10:38:38 -0800 (PST) Received: from postal.iol.unh.edu (postal.iol.unh.edu. [2606:4100:3880:1234::84]) by smtp-relay.gmail.com with ESMTPS id 8926c6da1cb9f-5b954afcbedsm273404173.21.2025.11.20.10.38.38 (version=TLS1_2 cipher=ECDHE-ECDSA-AES128-GCM-SHA256 bits=128/128); Thu, 20 Nov 2025 10:38:38 -0800 (PST) X-Relaying-Domain: iol.unh.edu Date: Thu, 20 Nov 2025 10:38:38 -0800 (PST) Message-ID: <691f602e.050a0220.38e45a.dafaSMTPIN_ADDED_MISSING@mx.google.com> Received: from [172.21.0.4] (unknown [172.18.0.240]) by postal.iol.unh.edu (Postfix) with ESMTP id DEC18604D420; Thu, 20 Nov 2025 13:38:37 -0500 (EST) Subject: |SUCCESS| pw158935 [PATCH] eal/x86: reduce memcpy code duplication From: dpdklab@iol.unh.edu To: Test Report Cc: dpdk-test-reports@iol.unh.edu In-Reply-To: <20251120114554.950287-1-mb@smartsharesystems.com> References: <20251120114554.950287-1-mb@smartsharesystems.com> Content-Type: text/plain X-BeenThere: test-report@dpdk.org X-Mailman-Version: 2.1.29 Precedence: list List-Id: automatic DPDK test reports List-Unsubscribe: , List-Archive: List-Post: List-Help: List-Subscribe: , Errors-To: test-report-bounces@dpdk.org Test-Label: iol-unit-amd64-testing Test-Status: SUCCESS http://dpdk.org/patch/158935 _Testing PASS_ Submitter: Morten Brorup Date: Thursday, November 20 2025 11:45:54 DPDK git baseline: Repo:dpdk Branch: master CommitID:ef98b88455bf4a7c8b7aa3106a761c9e9270d6a3 158935 --> testing pass Upstream job id: Generic-Unit-Test-DPDK#394662 Test environment and result as below: +-------------------------------+----------------+ | Environment | dpdk_unit_test | +===============================+================+ | Red Hat Enterprise Linux 9.5 | PASS | +-------------------------------+----------------+ | Ubuntu 22.04 | PASS | +-------------------------------+----------------+ | Fedora Linux 42 | PASS | +-------------------------------+----------------+ | CentOS Stream 9 | PASS | +-------------------------------+----------------+ | Ubuntu 24.04 | PASS | +-------------------------------+----------------+ | Debian GNU/Linux 12 | PASS | +-------------------------------+----------------+ | CentOS Stream 10 | PASS | +-------------------------------+----------------+ | Fedora Linux 40 | PASS | +-------------------------------+----------------+ | Ubuntu 20.04 | PASS | +-------------------------------+----------------+ | Fedora Linux 41 | PASS | +-------------------------------+----------------+ | Red Hat Enterprise Linux 8.10 | PASS | +-------------------------------+----------------+ Red Hat Enterprise Linux 9.5 Kernel: 5.15 Compiler: gcc gcc (GCC) 11.5.0 20240719 (Red Hat 11.5.0-2) Ubuntu 22.04 Kernel: 5.15 Compiler: gcc gcc (Ubuntu 11.4.0-1ubuntu1~22.04) 11.4.0 Fedora Linux 42 Kernel: 5.15 Compiler: gcc gcc (GCC) 15.2.1 20250808 (Red Hat 15.2.1-1) CentOS Stream 9 Kernel: 5.15 Compiler: gcc gcc (GCC) 11.5.0 20240719 (Red Hat 11.5.0-11) Ubuntu 24.04 Kernel: 5.15 Compiler: gcc gcc (Ubuntu 13.3.0-6ubuntu2~24.04) 13.3.0 Debian GNU/Linux 12 Kernel: 5.15 Compiler: gcc gcc (Debian 12.2.0-14+deb12u1) 12.2.0 CentOS Stream 10 Kernel: 5.15 Compiler: gcc gcc (GCC) 14.2.1 20250110 (Red Hat 14.2.1-8) Fedora Linux 40 Kernel: 5.15 Compiler: clang gcc (GCC) 14.2.1 20240912 (Red Hat 14.2.1-3) Ubuntu 20.04 Kernel: 5.15 Compiler: gcc gcc (Ubuntu 9.4.0-1ubuntu1~20.04.2) 9.4.0 Fedora Linux 41 Kernel: 5.15 Compiler: clang gcc (GCC) 14.3.1 20250523 (Red Hat 14.3.1-1) Red Hat Enterprise Linux 8.10 Kernel: 5.15 Compiler: gcc gcc (GCC) 8.5.0 20210514 (Red Hat 8.5.0-22) To view detailed results, visit: https://lab.dpdk.org/results/dashboard/patchsets/34645/ UNH-IOL DPDK Community Lab To manage your email subscriptions, visit: https://lab.dpdk.org/results/dashboard/preferences/subscriptions/