From mboxrd@z Thu Jan 1 00:00:00 1970 Return-Path: Received: from mails.dpdk.org (mails.dpdk.org [217.70.189.124]) by inbox.dpdk.org (Postfix) with ESMTP id 6F0CD48B5C for ; Thu, 20 Nov 2025 19:57:59 +0100 (CET) Received: from mails.dpdk.org (localhost [127.0.0.1]) by mails.dpdk.org (Postfix) with ESMTP id 6969540267; Thu, 20 Nov 2025 19:57:59 +0100 (CET) Received: from mail-qv1-f100.google.com (mail-qv1-f100.google.com [209.85.219.100]) by mails.dpdk.org (Postfix) with ESMTP id 65E4140267 for ; Thu, 20 Nov 2025 19:57:58 +0100 (CET) Received: by mail-qv1-f100.google.com with SMTP id 6a1803df08f44-8823dfa84c5so12812246d6.3 for ; Thu, 20 Nov 2025 10:57:58 -0800 (PST) DKIM-Signature: v=1; a=rsa-sha256; c=relaxed/relaxed; d=iol.unh.edu; s=unh-iol; t=1763665078; x=1764269878; darn=dpdk.org; h=cc:to:from:subject:message-id:date:from:to:cc:subject:date :message-id:reply-to; bh=PaiHxIqajNTSGQDZjhlh6haTq9Y0t4zpGtfRb8G6emo=; b=SglhI7xYtQPhSbDTIF8Y4Z1/IU9i8AK8m+TUVKaxOrbNo88UhGa93/VgYoyVyRAe1d Q6016wWJxdAWb2X335ZNvD3c1vJh2dZTDahjOM7W+nsDEtAOr7U1dA8JRW1YHX5kBJvK TSFvFjGDEUQouuF21HNmZ7dooHyAVbn20dE0A= X-Google-DKIM-Signature: v=1; a=rsa-sha256; c=relaxed/relaxed; d=1e100.net; s=20230601; t=1763665078; x=1764269878; h=cc:to:from:subject:message-id:date:x-gm-gg:x-gm-message-state:from :to:cc:subject:date:message-id:reply-to; bh=PaiHxIqajNTSGQDZjhlh6haTq9Y0t4zpGtfRb8G6emo=; b=ILQ4LXxBsVwsCeRVNaiFzdSuSIscWfHi/L+B+81I9Ngu4MRRJPlycVBh9TjStAiD/V TyeRM89UP2+Ep1mG+m33R7S4Qrl5+pYnT6SEZiMMwuN8RqEksQvqId9s4M+1ojVVA8wC w0vzcKB0Mw6wXE1VFezNI+p54w8/wW28fYWlNzUfAm10mY+r1q+sKuZEquQqI7uCKv80 6hAW1tS2h6mb9sba4/cx9t6ViamrGcigCNgCjil6xCT6A3CHIO5Z2H2y9inxiE+mxo8C NZx+ebnGmB5sNWiV/YF+POGwiqPrz8corfNji8HAuZt86H5b0R6Gz/wI2KZxvM34HFjV S2xA== X-Gm-Message-State: AOJu0YxnehBRoxYWeAduZ7IabkMht/zeLnyXWIP83Etq3EmBm7FV3yFo aUX24h6rF2xYBhIgYGagRiU3exSI/KuTUB5FeNxQ9J6jFpuz9gJwsWnBzhq1dILllUYIDwXclZr +f+NdnDKRHpAF3FjQRHsc/sm5BeOKnuMOfSGZZKxWiGvluTemeBG7ihPo3E6N X-Gm-Gg: ASbGnct8PhIUu/x0ueg7nmL03lQ1wJsDZ9djW+gJPuA0c/iDqohKMPqYiPVsGnyKEbn rE8xa6eRLGx5JSrwh3CM2ZyzjBUytIji8zfPdgz2KOK4jifyNAKFNC4nwL1MqNOqFZZVYW1jnaY YwFgjXNbqIFiW47PjRDHU1OzRWurmiKeficc11Wx99To/DANy1zyHoea880idlLa/w/fWMvuB+B w90nbMPn+137+t6xnAdLrh0+kNSX5uKiL0qXjDP/+/Oa7QPd2FvBPgMQGIvGOZWSoMw3BfZ4lG8 t6sMScY2Sp9EUv1fqZmatMNMF8Tx1SLgJ8ePhIbtpncuqi5ev4FF4ONJFqHjeLhuSf40jnth/32 aC5iCQPq0Xji1FE5hEc4= X-Google-Smtp-Source: AGHT+IFjV14hdjae63TaygpeNvvYEV+9x4wA4VCiuuiiMdkAp+hK5U1UOTKC8nirAOla4D8UISopDFrE+gBv X-Received: by 2002:a05:6214:29e8:b0:882:3aad:e5ee with SMTP id 6a1803df08f44-8847182460cmr43404616d6.40.1763665077667; Thu, 20 Nov 2025 10:57:57 -0800 (PST) Received: from postal.iol.unh.edu (postal.iol.unh.edu. [2606:4100:3880:1234::84]) by smtp-relay.gmail.com with ESMTPS id 6a1803df08f44-8846e4937a4sm3547126d6.13.2025.11.20.10.57.57 (version=TLS1_2 cipher=ECDHE-ECDSA-AES128-GCM-SHA256 bits=128/128); Thu, 20 Nov 2025 10:57:57 -0800 (PST) X-Relaying-Domain: iol.unh.edu Date: Thu, 20 Nov 2025 10:57:57 -0800 (PST) Message-ID: <691f64b5.050a0220.363190.2d95SMTPIN_ADDED_MISSING@mx.google.com> Received: from [172.21.0.6] (unknown [172.18.0.240]) by postal.iol.unh.edu (Postfix) with ESMTP id 5E0EF604D420; Thu, 20 Nov 2025 13:57:57 -0500 (EST) Subject: |SUCCESS| [GIT MASTER] ef98b88455bf4a7c8b7aa3106a761c9e9270d6a3 From: dpdklab@iol.unh.edu To: Test Report Cc: dpdk-test-reports@iol.unh.edu Content-Type: text/plain X-BeenThere: test-report@dpdk.org X-Mailman-Version: 2.1.29 Precedence: list List-Id: automatic DPDK test reports List-Unsubscribe: , List-Archive: List-Post: List-Help: List-Subscribe: , Errors-To: test-report-bounces@dpdk.org _Testing PASS_ Branch: dpdk ef98b88455bf4a7c8b7aa3106a761c9e9270d6a3 --> testing pass Upstream job id: Generic-VM-Unit-Test-DPDK#32699 Test environment and result as below: +-------------------------------+----------------+ | Environment | dpdk_unit_test | +===============================+================+ | Fedora Linux 42 | PASS | +-------------------------------+----------------+ | Arch Linux 20250613.0.365270 | PASS | +-------------------------------+----------------+ | Red Hat Enterprise Linux 8.10 | PASS | +-------------------------------+----------------+ | Fedora Linux 40 | PASS | +-------------------------------+----------------+ | Debian GNU/Linux 12 | PASS | +-------------------------------+----------------+ | Ubuntu 20.04 | PASS | +-------------------------------+----------------+ | Fedora Linux 41 | PASS | +-------------------------------+----------------+ | Ubuntu 22.04 | PASS | +-------------------------------+----------------+ | Ubuntu 24.04 | PASS | +-------------------------------+----------------+ | CentOS Stream 10 | PASS | +-------------------------------+----------------+ | Red Hat Enterprise Linux 9.5 | PASS | +-------------------------------+----------------+ | CentOS Stream 9 | PASS | +-------------------------------+----------------+ | Windows Server 2022 | PASS | +-------------------------------+----------------+ Fedora Linux 42 Kernel: 5.15 Compiler: clang gcc (GCC) 15.2.1 20250808 (Red Hat 15.2.1-1) Arch Linux 20250613.0.365270 Kernel: 5.15 Compiler: gcc gcc (GCC) 15.1.1 20250425 Red Hat Enterprise Linux 8.10 Kernel: 5.15 Compiler: gcc gcc (GCC) 8.5.0 20210514 (Red Hat 8.5.0-22) Fedora Linux 40 Kernel: 5.15 Compiler: gcc gcc (GCC) 14.2.1 20240912 (Red Hat 14.2.1-3) Debian GNU/Linux 12 Kernel: 5.15 Compiler: gcc gcc (Debian 12.2.0-14+deb12u1) 12.2.0 Ubuntu 20.04 Kernel: 5.15 Compiler: gcc gcc (Ubuntu 9.4.0-1ubuntu1~20.04.2) 9.4.0 Fedora Linux 41 Kernel: 5.15 Compiler: gcc gcc (GCC) 14.3.1 20250523 (Red Hat 14.3.1-1) Ubuntu 22.04 Kernel: 5.15 Compiler: gcc gcc (Ubuntu 11.4.0-1ubuntu1~22.04) 11.4.0 Ubuntu 24.04 Kernel: 5.15 Compiler: gcc gcc (Ubuntu 13.3.0-6ubuntu2~24.04) 13.3.0 CentOS Stream 10 Kernel: 5.15 Compiler: gcc gcc (GCC) 14.2.1 20250110 (Red Hat 14.2.1-8) Red Hat Enterprise Linux 9.5 Kernel: 5.15 Compiler: gcc gcc (GCC) 11.5.0 20240719 (Red Hat 11.5.0-2) CentOS Stream 9 Kernel: 5.15 Compiler: gcc gcc (GCC) 11.5.0 20240719 (Red Hat 11.5.0-11) Windows Server 2022 Kernel: 10.0.20348.2031 Compiler: clang 15.0.7, gcc 14.1.0 (MinGW), and MSVC VS 19.39.33521 To view detailed results, visit: https://lab.dpdk.org/results/dashboard/tarballs/35659/ UNH-IOL DPDK Community Lab To manage your email subscriptions, visit: https://lab.dpdk.org/results/dashboard/preferences/subscriptions/