From mboxrd@z Thu Jan 1 00:00:00 1970 Return-Path: Received: from mails.dpdk.org (mails.dpdk.org [217.70.189.124]) by inbox.dpdk.org (Postfix) with ESMTP id 970F848B5C for ; Thu, 20 Nov 2025 19:58:29 +0100 (CET) Received: from mails.dpdk.org (localhost [127.0.0.1]) by mails.dpdk.org (Postfix) with ESMTP id 92E5C40267; Thu, 20 Nov 2025 19:58:29 +0100 (CET) Received: from mail-oi1-f227.google.com (mail-oi1-f227.google.com [209.85.167.227]) by mails.dpdk.org (Postfix) with ESMTP id 93DB040267 for ; Thu, 20 Nov 2025 19:58:28 +0100 (CET) Received: by mail-oi1-f227.google.com with SMTP id 5614622812f47-4505b05e7b5so307241b6e.2 for ; Thu, 20 Nov 2025 10:58:28 -0800 (PST) DKIM-Signature: v=1; a=rsa-sha256; c=relaxed/relaxed; d=iol.unh.edu; s=unh-iol; t=1763665108; x=1764269908; darn=dpdk.org; h=references:in-reply-to:cc:to:from:subject:message-id:date:from:to :cc:subject:date:message-id:reply-to; bh=7aXTizuz++HyyPbYcfVnBEg5B0q23fxprCs18A/E+LU=; b=c8QdhUyo90NipxA2s8FkN/AWlK5acg3TeliRmQCz8vLBq1+ey581EMPVh/ocoGzS9U YSmPBXEKRO93OW0dOl94s3clUwpFAb2SNEq3H9NZyqsjEFW3Dpixab16CWyOZgTciXgo QRtfYjwzMv7/379NWdnvtVVKXdQWPuNP+gF4I= X-Google-DKIM-Signature: v=1; a=rsa-sha256; c=relaxed/relaxed; d=1e100.net; s=20230601; t=1763665108; x=1764269908; h=references:in-reply-to:cc:to:from:subject:message-id:date:x-gm-gg :x-gm-message-state:from:to:cc:subject:date:message-id:reply-to; bh=7aXTizuz++HyyPbYcfVnBEg5B0q23fxprCs18A/E+LU=; b=kuHv3q68edNPh1wAPTZWXdMr8pM+N4V1Fj8hLmIsljwdKPDfCxGrvnpHoqcNm+q3Hd oqpqFTCPgFI6oEHSYhQ0G31SRZ+EHrQTizNERmq6/U5Eff2hzcDj71ECJ68XqP6W9xJk jIoo2Izo0Dp2mPoNQ+fCnxl6WamacmgIAjAMVfH9yQ6sbqePyhFDs5PvcbNbEmmv+WUG MPawC3/yzvR+y0plFjNkHLDgXvFhX8N3gsjWz1h3WNVpB7BJtHmFAnwnTkVqbWesidAV EZDMKDLdzx1bBvx01FroY0jmVrPJ5qDiB2nbkeOuF+XHGjqj3NLFcR3LJqfJqw1sLyGG VlIA== X-Gm-Message-State: AOJu0YySVU7fUQXvDMpFNiYkaQjTf9icb+oFy9nRqFICCcN+kp+IAcu7 DImXM1J4r2QzhjHA8cFzdFmYWUnidrr0TTDUv1olaBLwB5E/fHUlFLOFePNXo/kf0q85+El6q3L q8qLljEujA7g+0Xs1e+oMwMeUQ7XJ3JcorfhRhevj9Mp6 X-Gm-Gg: ASbGncvTV912j9CQYybVZZJnjoyBUsQJl21OTqWRSeTbsn17MzWzKTkqThP/mEKSDrX 8bdeQRdkFg9CkP2Z1JWXNtzvmhbkhJW00Io1jY+1Pf/GanDg0QWL1y4dqaKSwJFkpl1E2jO5Y25 x5wyDaiWfU8X08KBrKiGwLQoJJHcKaZHcImiIuPMJnJDdyCXwWF+81oCXjr0ygaP8Q7CSRVwyxL AvxFI/VHfJNfMrHl1AP7Qi0kOyTYaIlV1coTZ1K2q8t4LGqZ2IyEZ0XAhQSFLe6vo8RldXZLzWf qaey6G2TTY5q3SridRJNxcqAcAi+QRY3Py5FEARrpCORXB5nccPlp3T0+91CRagaXas0Sd32Cv+ RJGO44TKp0PA7flGmjAywmfJc2J1fcNQQsXS9iLfpyQ== X-Google-Smtp-Source: AGHT+IHN737FEWZmH7ljas0bsDGySCR6RIAgouiidN/7MmtUQS1tE7gtR9gJc4h5F9VK2OCmf8UR1KUxoQIf X-Received: by 2002:a05:6808:c3ef:b0:450:c58d:8c3a with SMTP id 5614622812f47-4510f05145fmr325320b6e.46.1763665107792; Thu, 20 Nov 2025 10:58:27 -0800 (PST) Received: from postal.iol.unh.edu (postal.iol.unh.edu. [132.177.123.84]) by smtp-relay.gmail.com with ESMTPS id 586e51a60fabf-3ec9c342b28sm301567fac.8.2025.11.20.10.58.27 (version=TLS1_2 cipher=ECDHE-ECDSA-AES128-GCM-SHA256 bits=128/128); Thu, 20 Nov 2025 10:58:27 -0800 (PST) X-Relaying-Domain: iol.unh.edu Date: Thu, 20 Nov 2025 10:58:27 -0800 (PST) Message-ID: <691f64d3.050a0220.33dbf0.ed82SMTPIN_ADDED_MISSING@mx.google.com> Received: from [172.21.0.5] (unknown [172.18.0.240]) by postal.iol.unh.edu (Postfix) with ESMTP id 51F9F604D420; Thu, 20 Nov 2025 13:58:27 -0500 (EST) Subject: |SUCCESS| pw158935 [PATCH] eal/x86: reduce memcpy code duplication From: dpdklab@iol.unh.edu To: Test Report Cc: dpdk-test-reports@iol.unh.edu In-Reply-To: <20251120114554.950287-1-mb@smartsharesystems.com> References: <20251120114554.950287-1-mb@smartsharesystems.com> Content-Type: text/plain X-BeenThere: test-report@dpdk.org X-Mailman-Version: 2.1.29 Precedence: list List-Id: automatic DPDK test reports List-Unsubscribe: , List-Archive: List-Post: List-Help: List-Subscribe: , Errors-To: test-report-bounces@dpdk.org Test-Label: iol-compile-amd64-testing Test-Status: SUCCESS http://dpdk.org/patch/158935 _Testing PASS_ Submitter: Morten Brorup Date: Thursday, November 20 2025 11:45:54 DPDK git baseline: Repo:dpdk Branch: master CommitID:ef98b88455bf4a7c8b7aa3106a761c9e9270d6a3 158935 --> testing pass Upstream job id: Generic-DPDK-Compile-Meson#446275 Test environment and result as below: +-------------------------------+--------------------+------------------+ | Environment | dpdk_meson_compile | dpdk_compile_ovs | +===============================+====================+==================+ | FreeBSD 14.2 | PASS | SKIPPED | +-------------------------------+--------------------+------------------+ | Fedora Linux 42 | PASS | PASS | +-------------------------------+--------------------+------------------+ | Red Hat Enterprise Linux 9.5 | PASS | SKIPPED | +-------------------------------+--------------------+------------------+ | Red Hat Enterprise Linux 8.10 | PASS | SKIPPED | +-------------------------------+--------------------+------------------+ | CentOS Stream 9 | PASS | SKIPPED | +-------------------------------+--------------------+------------------+ | openSUSE Leap 15.6 | PASS | SKIPPED | +-------------------------------+--------------------+------------------+ | CentOS Stream 10 | PASS | SKIPPED | +-------------------------------+--------------------+------------------+ | Ubuntu 24.04 | PASS | PASS | +-------------------------------+--------------------+------------------+ | Debian GNU/Linux 12 | PASS | SKIPPED | +-------------------------------+--------------------+------------------+ | Ubuntu 22.04 | PASS | SKIPPED | +-------------------------------+--------------------+------------------+ | Ubuntu 20.04 | PASS | SKIPPED | +-------------------------------+--------------------+------------------+ | Alpine Linux 3.22.0 | PASS | SKIPPED | +-------------------------------+--------------------+------------------+ FreeBSD 14.2 Kernel: 14.2-RELEASE Compiler: clang 18.1.6 Fedora Linux 42 Kernel: 5.15 Compiler: clang gcc (GCC) 15.2.1 20250808 (Red Hat 15.2.1-1) Red Hat Enterprise Linux 9.5 Kernel: 5.15 Compiler: gcc gcc (GCC) 11.5.0 20240719 (Red Hat 11.5.0-2) Red Hat Enterprise Linux 8.10 Kernel: 5.15 Compiler: gcc gcc (GCC) 8.5.0 20210514 (Red Hat 8.5.0-22) CentOS Stream 9 Kernel: 5.15 Compiler: gcc gcc (GCC) 11.5.0 20240719 (Red Hat 11.5.0-11) openSUSE Leap 15.6 Kernel: 5.15 Compiler: gcc gcc (SUSE Linux) 7.5.0 CentOS Stream 10 Kernel: 5.15 Compiler: gcc gcc (GCC) 14.2.1 20250110 (Red Hat 14.2.1-8) Ubuntu 24.04 Kernel: 5.15 Compiler: gcc gcc (Ubuntu 13.3.0-6ubuntu2~24.04) 13.3.0 Debian GNU/Linux 12 Kernel: 5.15 Compiler: gcc gcc (Debian 12.2.0-14+deb12u1) 12.2.0 Ubuntu 22.04 Kernel: 5.15 Compiler: gcc gcc (Ubuntu 11.4.0-1ubuntu1~22.04) 11.4.0 Ubuntu 20.04 Kernel: 4.19 Compiler: gcc gcc (Ubuntu 9.4.0-1ubuntu1~20.04.2) 9.4.0 Alpine Linux 3.22.0 Kernel: 5.15 Compiler: gcc gcc (Alpine 14.2.0) 14.2.0 To view detailed results, visit: https://lab.dpdk.org/results/dashboard/patchsets/34645/ UNH-IOL DPDK Community Lab To manage your email subscriptions, visit: https://lab.dpdk.org/results/dashboard/preferences/subscriptions/