From mboxrd@z Thu Jan 1 00:00:00 1970 Return-Path: Received: from mails.dpdk.org (mails.dpdk.org [217.70.189.124]) by inbox.dpdk.org (Postfix) with ESMTP id A4FC248B5C for ; Thu, 20 Nov 2025 19:58:45 +0100 (CET) Received: from mails.dpdk.org (localhost [127.0.0.1]) by mails.dpdk.org (Postfix) with ESMTP id A0A2040267; Thu, 20 Nov 2025 19:58:45 +0100 (CET) Received: from mail-io1-f100.google.com (mail-io1-f100.google.com [209.85.166.100]) by mails.dpdk.org (Postfix) with ESMTP id 7354840267 for ; Thu, 20 Nov 2025 19:58:44 +0100 (CET) Received: by mail-io1-f100.google.com with SMTP id ca18e2360f4ac-9490cbf951fso48009239f.1 for ; Thu, 20 Nov 2025 10:58:44 -0800 (PST) DKIM-Signature: v=1; a=rsa-sha256; c=relaxed/relaxed; d=iol.unh.edu; s=unh-iol; t=1763665124; x=1764269924; darn=dpdk.org; h=references:in-reply-to:cc:to:from:subject:message-id:date:from:to :cc:subject:date:message-id:reply-to; bh=Wdsfwx8YXIO7keS2/OoZDqJmBZwrWkc/gc8nvmzjIP0=; b=Yd1UU2Ql0VeiFtp83QibJyyhiis4CCl4LC9wLoojAIwJxUm2D6zBfT8PA2pu45K/Z0 38xv9y6tX0urlmNAboLGxZNqyFBsbqxOE2UZCaXnrkBKase4gH0Yv5t2VRMTZSl+CIHb tVhnvRsrde/7PSD55uBBdMrFsFsotNCe7DK3E= X-Google-DKIM-Signature: v=1; a=rsa-sha256; c=relaxed/relaxed; d=1e100.net; s=20230601; t=1763665124; x=1764269924; h=references:in-reply-to:cc:to:from:subject:message-id:date:x-gm-gg :x-gm-message-state:from:to:cc:subject:date:message-id:reply-to; bh=Wdsfwx8YXIO7keS2/OoZDqJmBZwrWkc/gc8nvmzjIP0=; b=GLhdNezlwjJy4/wkhVOmDZ3w1hfY8cmArPVA7yDwsvHDcLMrs3mxPgmY5UHn/9Q//y lnAnhs3rX/WPyPDkx/OQ/htrYXYekwaiysUUUv9MJQEdsgkJpS4Ykb/rMNmsaFFzwArq xJWrwpaBeIi5Ubq5qGkL5hoBjxq78xFH9mSIsm8FKTmfxmx3qLj11mEmvr1JfYqVjohN iUZdjIow0hlvf6yRu8ukbfa0dbfW/QKUY9EcSpA2Yrw9Y0ZIB7mojyMjSZTEKn1F1BQy a/f3sMjlwv1QxMoTyZiwXdDJPa7mpDLQONuJBOSxZBDNXLW/EC6mqsi/0IAggBZgtrDE 3x2g== X-Gm-Message-State: AOJu0YxGzglF71/pCBwuNCIf2zDNcSLX+hxlLJXgAZlkqTnCtmMG1P1S BY63DtCimcIuFTq2FdnLkX6wT3d3fs1GS8fCBuopYwTwQJ5DyeVThbTEYN6EWF4jM5GSM0ckp6F blG7WJqXMEfqwdxTfKyLFHidIiC/btIt9Non/FReqLZb7/haEDMoDKb2DUfDZ X-Gm-Gg: ASbGncvbBZUILvKImysVN5rkP4XY5YKzj6dgjw1gMFSsbxvn4G7F+F2lZHst8CwXQVm SHUdWom2V5Wcn10eIQ4IEIMkEdeLR9xGu/gOb+HVm0km3btpXT4rZCZOCnuCfk5U3F+NuimlrIk iWBTP7G4jlN/ozfTQBhotUzuv/E97s8p5ayksqBSPQaU7CHP6MLeIRLp7sJIaDZ2LFc155wzTF2 v7VkErMqpyqcR3l4kQzIXP2iT6ug0UoRoKu5MmSwGjBiG1N950OBbmFqxRfUppbdVT9MHrx7/J+ 9uwzkdaPTGEdNz5tPisGXhoeVOWDGUtsJQoicAnOh7tB7V+pK/prZyV4hlYkBbr7nrxt7qn8C18 w7BnG1iQsY0tGxR+kvEw= X-Google-Smtp-Source: AGHT+IEdvnyfKe8IwgO4yeX3jk9kTiE2e13XGpjQnAlzyMCC6HYvaqkyyViGbsnSGLBR3sfk5OcPiYR4XjBZ X-Received: by 2002:a05:6638:ec3:b0:592:1206:d21b with SMTP id 8926c6da1cb9f-5b962c05bd7mr535367173.4.1763665123692; Thu, 20 Nov 2025 10:58:43 -0800 (PST) Received: from postal.iol.unh.edu (postal.iol.unh.edu. [2606:4100:3880:1234::84]) by smtp-relay.gmail.com with ESMTPS id 8926c6da1cb9f-5b954a3f6e5sm278082173.15.2025.11.20.10.58.43 (version=TLS1_2 cipher=ECDHE-ECDSA-AES128-GCM-SHA256 bits=128/128); Thu, 20 Nov 2025 10:58:43 -0800 (PST) X-Relaying-Domain: iol.unh.edu Date: Thu, 20 Nov 2025 10:58:43 -0800 (PST) Message-ID: <691f64e3.050a0220.21843a.da9cSMTPIN_ADDED_MISSING@mx.google.com> Received: from [172.21.0.4] (unknown [172.18.0.240]) by postal.iol.unh.edu (Postfix) with ESMTP id 39AFD604D420; Thu, 20 Nov 2025 13:58:43 -0500 (EST) Subject: |SUCCESS| pw158935 [PATCH] eal/x86: reduce memcpy code duplication From: dpdklab@iol.unh.edu To: Test Report Cc: dpdk-test-reports@iol.unh.edu In-Reply-To: <20251120114554.950287-1-mb@smartsharesystems.com> References: <20251120114554.950287-1-mb@smartsharesystems.com> Content-Type: text/plain X-BeenThere: test-report@dpdk.org X-Mailman-Version: 2.1.29 Precedence: list List-Id: automatic DPDK test reports List-Unsubscribe: , List-Archive: List-Post: List-Help: List-Subscribe: , Errors-To: test-report-bounces@dpdk.org Test-Label: iol-compile-amd64-testing Test-Status: SUCCESS http://dpdk.org/patch/158935 _Testing PASS_ Submitter: Morten Brorup Date: Thursday, November 20 2025 11:45:54 DPDK git baseline: Repo:dpdk Branch: master CommitID:ef98b88455bf4a7c8b7aa3106a761c9e9270d6a3 158935 --> testing pass Upstream job id: Generic-DPDK-Compile-Meson#446284 Test environment and result as below: +-------------------------------+--------------------+------------------+ | Environment | dpdk_meson_compile | dpdk_compile_ovs | +===============================+====================+==================+ | FreeBSD 14.2 | PASS | SKIPPED | +-------------------------------+--------------------+------------------+ | Fedora Linux 42 | PASS | PASS | +-------------------------------+--------------------+------------------+ | Red Hat Enterprise Linux 9.5 | PASS | SKIPPED | +-------------------------------+--------------------+------------------+ | Red Hat Enterprise Linux 8.10 | PASS | SKIPPED | +-------------------------------+--------------------+------------------+ | CentOS Stream 9 | PASS | SKIPPED | +-------------------------------+--------------------+------------------+ | openSUSE Leap 15.6 | PASS | SKIPPED | +-------------------------------+--------------------+------------------+ | CentOS Stream 10 | PASS | SKIPPED | +-------------------------------+--------------------+------------------+ | Ubuntu 24.04 | PASS | PASS | +-------------------------------+--------------------+------------------+ | Debian GNU/Linux 12 | PASS | SKIPPED | +-------------------------------+--------------------+------------------+ | Ubuntu 22.04 | PASS | SKIPPED | +-------------------------------+--------------------+------------------+ | Ubuntu 20.04 | PASS | SKIPPED | +-------------------------------+--------------------+------------------+ | Alpine Linux 3.22.0 | PASS | SKIPPED | +-------------------------------+--------------------+------------------+ FreeBSD 14.2 Kernel: 14.2-RELEASE Compiler: clang 18.1.6 Fedora Linux 42 Kernel: 5.15 Compiler: clang gcc (GCC) 15.2.1 20250808 (Red Hat 15.2.1-1) Red Hat Enterprise Linux 9.5 Kernel: 5.15 Compiler: gcc gcc (GCC) 11.5.0 20240719 (Red Hat 11.5.0-2) Red Hat Enterprise Linux 8.10 Kernel: 5.15 Compiler: gcc gcc (GCC) 8.5.0 20210514 (Red Hat 8.5.0-22) CentOS Stream 9 Kernel: 5.15 Compiler: gcc gcc (GCC) 11.5.0 20240719 (Red Hat 11.5.0-11) openSUSE Leap 15.6 Kernel: 5.15 Compiler: gcc gcc (SUSE Linux) 7.5.0 CentOS Stream 10 Kernel: 5.15 Compiler: gcc gcc (GCC) 14.2.1 20250110 (Red Hat 14.2.1-8) Ubuntu 24.04 Kernel: 5.15 Compiler: gcc gcc (Ubuntu 13.3.0-6ubuntu2~24.04) 13.3.0 Debian GNU/Linux 12 Kernel: 5.15 Compiler: gcc gcc (Debian 12.2.0-14+deb12u1) 12.2.0 Ubuntu 22.04 Kernel: 5.15 Compiler: gcc gcc (Ubuntu 11.4.0-1ubuntu1~22.04) 11.4.0 Ubuntu 20.04 Kernel: 4.19 Compiler: gcc gcc (Ubuntu 9.4.0-1ubuntu1~20.04.2) 9.4.0 Alpine Linux 3.22.0 Kernel: 5.15 Compiler: gcc gcc (Alpine 14.2.0) 14.2.0 To view detailed results, visit: https://lab.dpdk.org/results/dashboard/patchsets/34645/ UNH-IOL DPDK Community Lab To manage your email subscriptions, visit: https://lab.dpdk.org/results/dashboard/preferences/subscriptions/