From mboxrd@z Thu Jan 1 00:00:00 1970 Return-Path: Received: from mails.dpdk.org (mails.dpdk.org [217.70.189.124]) by inbox.dpdk.org (Postfix) with ESMTP id B1BAA48B5C for ; Thu, 20 Nov 2025 19:58:54 +0100 (CET) Received: from mails.dpdk.org (localhost [127.0.0.1]) by mails.dpdk.org (Postfix) with ESMTP id AD54140267; Thu, 20 Nov 2025 19:58:54 +0100 (CET) Received: from mail-oa1-f97.google.com (mail-oa1-f97.google.com [209.85.160.97]) by mails.dpdk.org (Postfix) with ESMTP id C033440267 for ; Thu, 20 Nov 2025 19:58:53 +0100 (CET) Received: by mail-oa1-f97.google.com with SMTP id 586e51a60fabf-3e7ead70738so675141fac.0 for ; Thu, 20 Nov 2025 10:58:53 -0800 (PST) DKIM-Signature: v=1; a=rsa-sha256; c=relaxed/relaxed; d=iol.unh.edu; s=unh-iol; t=1763665133; x=1764269933; darn=dpdk.org; h=references:in-reply-to:cc:to:from:subject:message-id:date:from:to :cc:subject:date:message-id:reply-to; bh=lLUkQZQ/5a+nn/xG0s47UHnwnGq1SgEEs5uSKOMBJfA=; b=Ek6jSHJWYnjpBixMelc/LMlqMk7Dc8Rj1ZQE9A4Ja5WAjy/KMtL5qARRx/B8StX6Tt w0gx4EV2ndX0kJcKg4Ca+ELvUgG438Oxhex79pGc4VUQWAAM7LJPi+eGxsTV+biwHNzq aTPoF8aN4Ig79w1etvUMGCSTnXyZQw7bPRNqQ= X-Google-DKIM-Signature: v=1; a=rsa-sha256; c=relaxed/relaxed; d=1e100.net; s=20230601; t=1763665133; x=1764269933; h=references:in-reply-to:cc:to:from:subject:message-id:date:x-gm-gg :x-gm-message-state:from:to:cc:subject:date:message-id:reply-to; bh=lLUkQZQ/5a+nn/xG0s47UHnwnGq1SgEEs5uSKOMBJfA=; b=TwEpL41585+LlXNQBsGdWQwM7lN8Bta3y91ovueTjuvh1xJTDLKY7VStP9ocXc8uvN 7KG2DTA9A3Sf209yPpC+zkxkGiaufFmasmFFCEBbqTFHkqsP0NC3ouIrMwqNjDZFe5+6 trrLtRI4Kff0QpYOMPv1iyS7LV/khPUjhfm/9KlbZh8FqTBwfE4NqTUOVUsozSWnDXZ5 IQH+r9cET1OUrPQdUFatupA3hiIcmcnWnvom3FFl7zxM13o+vKwm/9YY9Wg/O9LmfxGz QSmHS8G7lhDhLiRSFbOyUmKISBhb54rifgXHXmS+aAZduk6TfgunfVzQEgpmmj2z5nZa 7jFA== X-Gm-Message-State: AOJu0YwFnZfnXSPTKPFEGhTSXZTxan5l2flluGgCoJHttXkC3skCtiOz 7LNkrw/3iHjYTM4DzfZ/UZBxE91p5O6vwvbV58ULfziNWgE+AX2HNsu1qew7TdkUv7FUeJQvDTM FtpEuYwDcgK4l25ObPU86FcCetsFv07pyFMvok4lfn2tT/JUav20yxbiK6+rj X-Gm-Gg: ASbGncsGY6nOx3o0cpXHIOd4EgkktpBSasO8lhkC2OQteTzuKbMFCB4Q++cBVeZpHtu N/SIl4sBafs4oQ7MAOIIQAKx8bUvZt36VMke4tb1WEIkq3KElfSxEbp9drdvbGId4M19AIIqx34 QkP2J3yY+Z7NDShQYXZpKqlXVUX+rrvjYj0ZNrhDNnse6R8eYzZOCM03YTUc5mPUtWyNIGIpaG+ RaVWoOly8P9xWK5dRB6pIDXm1Zf3OKrDarIQokCUBXiAhWh9PHRm0Cn7DQ5Rk3MwhaEOwjPOOyo gI3DLxI+2iSC7/PqbjuO2dKqFvDvblfPN8zbmmwdL7SiYEIzfYxDhyZfBbW4LfCH3I/nWMnuj0E inWX4dU0+u4Pj+v7GReM= X-Google-Smtp-Source: AGHT+IHiqI3MK8KbyWkLAMsA/i1ztnbeHKSo5UMh+qNQ/0iscqcR65l8v0kcc9pW9J9I6KtdpN1W1H3uzlMx X-Received: by 2002:a05:6871:7417:b0:3d2:6aae:6332 with SMTP id 586e51a60fabf-3ec9a4dc29cmr2575564fac.33.1763665133040; Thu, 20 Nov 2025 10:58:53 -0800 (PST) Received: from postal.iol.unh.edu (postal.iol.unh.edu. [2606:4100:3880:1234::84]) by smtp-relay.gmail.com with ESMTPS id 586e51a60fabf-3ec9c2cf4a8sm305113fac.3.2025.11.20.10.58.52 (version=TLS1_2 cipher=ECDHE-ECDSA-AES128-GCM-SHA256 bits=128/128); Thu, 20 Nov 2025 10:58:53 -0800 (PST) X-Relaying-Domain: iol.unh.edu Date: Thu, 20 Nov 2025 10:58:53 -0800 (PST) Message-ID: <691f64ed.050a0220.11ef9c.ee75SMTPIN_ADDED_MISSING@mx.google.com> Received: from [172.21.0.3] (unknown [172.18.0.240]) by postal.iol.unh.edu (Postfix) with ESMTP id A7B27604D420; Thu, 20 Nov 2025 13:58:52 -0500 (EST) Subject: |SUCCESS| pw158935 [PATCH] eal/x86: reduce memcpy code duplication From: dpdklab@iol.unh.edu To: Test Report Cc: dpdk-test-reports@iol.unh.edu In-Reply-To: <20251120114554.950287-1-mb@smartsharesystems.com> References: <20251120114554.950287-1-mb@smartsharesystems.com> Content-Type: text/plain X-BeenThere: test-report@dpdk.org X-Mailman-Version: 2.1.29 Precedence: list List-Id: automatic DPDK test reports List-Unsubscribe: , List-Archive: List-Post: List-Help: List-Subscribe: , Errors-To: test-report-bounces@dpdk.org Test-Label: iol-compile-amd64-testing Test-Status: SUCCESS http://dpdk.org/patch/158935 _Testing PASS_ Submitter: Morten Brorup Date: Thursday, November 20 2025 11:45:54 DPDK git baseline: Repo:dpdk Branch: master CommitID:ef98b88455bf4a7c8b7aa3106a761c9e9270d6a3 158935 --> testing pass Upstream job id: Generic-DPDK-Compile-Meson#446277 Test environment and result as below: +-------------------------------+--------------------+------------------+ | Environment | dpdk_meson_compile | dpdk_compile_ovs | +===============================+====================+==================+ | FreeBSD 14.2 | PASS | SKIPPED | +-------------------------------+--------------------+------------------+ | Fedora Linux 42 | PASS | PASS | +-------------------------------+--------------------+------------------+ | Red Hat Enterprise Linux 9.5 | PASS | SKIPPED | +-------------------------------+--------------------+------------------+ | Red Hat Enterprise Linux 8.10 | PASS | SKIPPED | +-------------------------------+--------------------+------------------+ | CentOS Stream 9 | PASS | SKIPPED | +-------------------------------+--------------------+------------------+ | openSUSE Leap 15.6 | PASS | SKIPPED | +-------------------------------+--------------------+------------------+ | CentOS Stream 10 | PASS | SKIPPED | +-------------------------------+--------------------+------------------+ | Ubuntu 24.04 | PASS | PASS | +-------------------------------+--------------------+------------------+ | Debian GNU/Linux 12 | PASS | SKIPPED | +-------------------------------+--------------------+------------------+ | Ubuntu 22.04 | PASS | SKIPPED | +-------------------------------+--------------------+------------------+ | Ubuntu 20.04 | PASS | SKIPPED | +-------------------------------+--------------------+------------------+ | Alpine Linux 3.22.0 | PASS | SKIPPED | +-------------------------------+--------------------+------------------+ FreeBSD 14.2 Kernel: 14.2-RELEASE Compiler: clang 18.1.6 Fedora Linux 42 Kernel: 5.15 Compiler: clang gcc (GCC) 15.2.1 20250808 (Red Hat 15.2.1-1) Red Hat Enterprise Linux 9.5 Kernel: 5.15 Compiler: gcc gcc (GCC) 11.5.0 20240719 (Red Hat 11.5.0-2) Red Hat Enterprise Linux 8.10 Kernel: 5.15 Compiler: gcc gcc (GCC) 8.5.0 20210514 (Red Hat 8.5.0-22) CentOS Stream 9 Kernel: 5.15 Compiler: gcc gcc (GCC) 11.5.0 20240719 (Red Hat 11.5.0-11) openSUSE Leap 15.6 Kernel: 5.15 Compiler: gcc gcc (SUSE Linux) 7.5.0 CentOS Stream 10 Kernel: 5.15 Compiler: gcc gcc (GCC) 14.2.1 20250110 (Red Hat 14.2.1-8) Ubuntu 24.04 Kernel: 5.15 Compiler: gcc gcc (Ubuntu 13.3.0-6ubuntu2~24.04) 13.3.0 Debian GNU/Linux 12 Kernel: 5.15 Compiler: gcc gcc (Debian 12.2.0-14+deb12u1) 12.2.0 Ubuntu 22.04 Kernel: 5.15 Compiler: gcc gcc (Ubuntu 11.4.0-1ubuntu1~22.04) 11.4.0 Ubuntu 20.04 Kernel: 4.19 Compiler: gcc gcc (Ubuntu 9.4.0-1ubuntu1~20.04.2) 9.4.0 Alpine Linux 3.22.0 Kernel: 5.15 Compiler: gcc gcc (Alpine 14.2.0) 14.2.0 To view detailed results, visit: https://lab.dpdk.org/results/dashboard/patchsets/34645/ UNH-IOL DPDK Community Lab To manage your email subscriptions, visit: https://lab.dpdk.org/results/dashboard/preferences/subscriptions/