From mboxrd@z Thu Jan 1 00:00:00 1970 Return-Path: Received: from mails.dpdk.org (mails.dpdk.org [217.70.189.124]) by inbox.dpdk.org (Postfix) with ESMTP id BF4CB48B5C for ; Thu, 20 Nov 2025 19:59:07 +0100 (CET) Received: from mails.dpdk.org (localhost [127.0.0.1]) by mails.dpdk.org (Postfix) with ESMTP id BAF2040267; Thu, 20 Nov 2025 19:59:07 +0100 (CET) Received: from mail-oi1-f227.google.com (mail-oi1-f227.google.com [209.85.167.227]) by mails.dpdk.org (Postfix) with ESMTP id AB3D240267 for ; Thu, 20 Nov 2025 19:59:06 +0100 (CET) Received: by mail-oi1-f227.google.com with SMTP id 5614622812f47-450063be247so403735b6e.2 for ; Thu, 20 Nov 2025 10:59:06 -0800 (PST) DKIM-Signature: v=1; a=rsa-sha256; c=relaxed/relaxed; d=iol.unh.edu; s=unh-iol; t=1763665146; x=1764269946; darn=dpdk.org; h=cc:to:from:subject:message-id:date:from:to:cc:subject:date :message-id:reply-to; bh=GPlqSgrTY9ucFO4JGx8W1VJ5EzTORs9fd09g3xgSUxc=; b=XYHD32bg2JE/e7N2wy5Rjd8XagpbpYzpKADpCt1jscaA+OlSZFmiCRPDjBuEnwnbB4 tgh9nPyfZNgGbOFhz1fZAT+GQevyiXREMVuMnllf6dp3T/KcxDWfb9WTVf38DPglqD1S YdlGibS5l42HwwGJdRzGo+s83KBoOOoFJ+RMg= X-Google-DKIM-Signature: v=1; a=rsa-sha256; c=relaxed/relaxed; d=1e100.net; s=20230601; t=1763665146; x=1764269946; h=cc:to:from:subject:message-id:date:x-gm-gg:x-gm-message-state:from :to:cc:subject:date:message-id:reply-to; bh=GPlqSgrTY9ucFO4JGx8W1VJ5EzTORs9fd09g3xgSUxc=; b=bs0eZzLEdxg6NToNOZynJ7F+mmkjwMuVYMsL5FWSFm1MzXk6kDoKao21Ku2cpKJiiC qGw5r8uqs5JhhGuQ/t2109yy+Y/sUuFiwtSg/c+hLdU4qXDNb3camzcg7SG7emM7ktWT FpTrHl5rDe3UnlZhmac8aEwAkN4xDroH4r30d4gIlo9vlsCGn5MSeOesX+BCCEpE7qBd Co3+jj7JkKwDNLjhnnjJz8s+rw2bL0WR4fGLXhsl/FidbnzdwWkAsmiVGKul6gib3TXY n2WHkONp9NHWNvJNZqx2+cxR1oQdV6JNj8m9ybBcsE0coYBWgxZLWmArLf/XG/EiJLal 9agw== X-Gm-Message-State: AOJu0YxVv5XKRctf/Ju7t+UAl6HlWgvquDKp1OUudloKjXzRQN5YqFCW QFLfx9KmDKcQF7TZK+XfKSGSLgl4cTCKvDZzJs3SeuLbCsgOOtFbJEDLsv2U4QoLemTEcI+v1Xp gNzlXZqAUvbVwm0RXlwZPfyXbp7JHl+Qn5TX+F67PFFn0tIl8/wOy2Ag+kL3S X-Gm-Gg: ASbGncvKolSSMlfF75DOqZH6Kn3S1nUCUh9/GHvOaeVo/vEnVrASuO/un3dySAsm4B6 293LpsC45RklFq4HzzuEAuHCAbeEeRAIBRl9oKW/2tL8E4Jlq0QoUlvkxLMuvNvZh8X+R6TwT7T kig4WB90GPV4UrSTlglHQNFpl/O71rTrXWnGodd0xRcnTFGiQhXzyl/xjXXL4bRf9CdncAkbnrN pmMyUqNtZzi2Xbv03sQrEAWbDP2ecncQX6EP30FE7XRrf4wH1hm9kZZ01BeYXRWPRMxYED3TQPp WCsE8LQhzPVfQHw6SB+VHn0gJDk024zAQDyAJwgHH18ZaWNTwr7yA3lG/PcWQk27FDpb1vUsmDE JKDL5kgG9NCB4nHtVXi8= X-Google-Smtp-Source: AGHT+IFkyScHFNjtVbZRhchrN7+xSFeyvieNGLNS/5icHhuChGihlcuiWbQo0s8QJXueJBMHF1qrRkNUyRCg X-Received: by 2002:a05:6808:1809:b0:450:730e:d109 with SMTP id 5614622812f47-450ff3a692cmr1654453b6e.48.1763665146000; Thu, 20 Nov 2025 10:59:06 -0800 (PST) Received: from postal.iol.unh.edu (postal.iol.unh.edu. [2606:4100:3880:1234::84]) by smtp-relay.gmail.com with ESMTPS id 006d021491bc7-65782be4b98sm47312eaf.8.2025.11.20.10.59.05 (version=TLS1_2 cipher=ECDHE-ECDSA-AES128-GCM-SHA256 bits=128/128); Thu, 20 Nov 2025 10:59:05 -0800 (PST) X-Relaying-Domain: iol.unh.edu Date: Thu, 20 Nov 2025 10:59:05 -0800 (PST) Message-ID: <691f64f9.050a0220.291b6c.21a6SMTPIN_ADDED_MISSING@mx.google.com> Received: from [172.21.0.5] (unknown [172.18.0.240]) by postal.iol.unh.edu (Postfix) with ESMTP id 3EBE4604D420; Thu, 20 Nov 2025 13:59:05 -0500 (EST) Subject: |SUCCESS| [GIT MASTER] ef98b88455bf4a7c8b7aa3106a761c9e9270d6a3 From: dpdklab@iol.unh.edu To: Test Report Cc: dpdk-test-reports@iol.unh.edu Content-Type: text/plain X-BeenThere: test-report@dpdk.org X-Mailman-Version: 2.1.29 Precedence: list List-Id: automatic DPDK test reports List-Unsubscribe: , List-Archive: List-Post: List-Help: List-Subscribe: , Errors-To: test-report-bounces@dpdk.org _Testing PASS_ Branch: dpdk ef98b88455bf4a7c8b7aa3106a761c9e9270d6a3 --> testing pass Upstream job id: Windows-Compile-DPDK-Native#32532 Test environment and result as below: +-------------------------------+--------------------+------------------+-------------------+-------------------------+----------------------+ | Environment | dpdk_meson_compile | dpdk_compile_ovs | dpdk_msvc_compile | dpdk_llvm_clang_compile | dpdk_mingw64_compile | +===============================+====================+==================+===================+=========================+======================+ | CentOS Stream 9 | PASS | SKIPPED | SKIPPED | SKIPPED | SKIPPED | +-------------------------------+--------------------+------------------+-------------------+-------------------------+----------------------+ | Fedora Linux 42 | PASS | PASS | SKIPPED | SKIPPED | SKIPPED | +-------------------------------+--------------------+------------------+-------------------+-------------------------+----------------------+ | CentOS Stream 10 | PASS | SKIPPED | SKIPPED | SKIPPED | SKIPPED | +-------------------------------+--------------------+------------------+-------------------+-------------------------+----------------------+ | Ubuntu 20.04 | PASS | SKIPPED | SKIPPED | SKIPPED | SKIPPED | +-------------------------------+--------------------+------------------+-------------------+-------------------------+----------------------+ | Debian GNU/Linux 12 | PASS | SKIPPED | SKIPPED | SKIPPED | SKIPPED | +-------------------------------+--------------------+------------------+-------------------+-------------------------+----------------------+ | FreeBSD 14.2 | PASS | SKIPPED | SKIPPED | SKIPPED | SKIPPED | +-------------------------------+--------------------+------------------+-------------------+-------------------------+----------------------+ | Red Hat Enterprise Linux 9.5 | PASS | SKIPPED | SKIPPED | SKIPPED | SKIPPED | +-------------------------------+--------------------+------------------+-------------------+-------------------------+----------------------+ | openSUSE Leap 15.6 | PASS | SKIPPED | SKIPPED | SKIPPED | SKIPPED | +-------------------------------+--------------------+------------------+-------------------+-------------------------+----------------------+ | Ubuntu 22.04 | PASS | SKIPPED | SKIPPED | SKIPPED | SKIPPED | +-------------------------------+--------------------+------------------+-------------------+-------------------------+----------------------+ | Alpine Linux 3.22.0 | PASS | SKIPPED | SKIPPED | SKIPPED | SKIPPED | +-------------------------------+--------------------+------------------+-------------------+-------------------------+----------------------+ | Ubuntu 24.04 | PASS | PASS | SKIPPED | SKIPPED | SKIPPED | +-------------------------------+--------------------+------------------+-------------------+-------------------------+----------------------+ | Red Hat Enterprise Linux 8.10 | PASS | SKIPPED | SKIPPED | SKIPPED | SKIPPED | +-------------------------------+--------------------+------------------+-------------------+-------------------------+----------------------+ | Arch Linux 20250613.0.365270 | PASS | SKIPPED | SKIPPED | SKIPPED | SKIPPED | +-------------------------------+--------------------+------------------+-------------------+-------------------------+----------------------+ | Windows Server 2022 | SKIPPED | SKIPPED | PASS | SKIPPED | PASS | +-------------------------------+--------------------+------------------+-------------------+-------------------------+----------------------+ | Windows Server 2025 | SKIPPED | SKIPPED | SKIPPED | PASS | SKIPPED | +-------------------------------+--------------------+------------------+-------------------+-------------------------+----------------------+ CentOS Stream 9 Kernel: 5.15 Compiler: gcc gcc (GCC) 11.5.0 20240719 (Red Hat 11.5.0-11) Fedora Linux 42 Kernel: 5.15 Compiler: gcc gcc (GCC) 15.2.1 20250808 (Red Hat 15.2.1-1) CentOS Stream 10 Kernel: 5.15 Compiler: gcc gcc (GCC) 14.2.1 20250110 (Red Hat 14.2.1-8) Ubuntu 20.04 Kernel: 4.19 Compiler: gcc gcc (Ubuntu 9.4.0-1ubuntu1~20.04.2) 9.4.0 Debian GNU/Linux 12 Kernel: 5.15 Compiler: gcc gcc (Debian 12.2.0-14+deb12u1) 12.2.0 FreeBSD 14.2 Kernel: 14.2-RELEASE Compiler: clang 18.1.6 Red Hat Enterprise Linux 9.5 Kernel: 5.15 Compiler: gcc gcc (GCC) 11.5.0 20240719 (Red Hat 11.5.0-2) openSUSE Leap 15.6 Kernel: 5.15 Compiler: gcc gcc (SUSE Linux) 7.5.0 Ubuntu 22.04 Kernel: 5.15 Compiler: gcc gcc (Ubuntu 11.4.0-1ubuntu1~22.04) 11.4.0 Alpine Linux 3.22.0 Kernel: 5.15 Compiler: gcc gcc (Alpine 14.2.0) 14.2.0 Ubuntu 24.04 Kernel: 5.15 Compiler: gcc gcc (Ubuntu 13.3.0-6ubuntu2~24.04) 13.3.0 Red Hat Enterprise Linux 8.10 Kernel: 5.15 Compiler: gcc gcc (GCC) 8.5.0 20210514 (Red Hat 8.5.0-22) Arch Linux 20250613.0.365270 Kernel: 5.15 Compiler: gcc gcc (GCC) 15.1.1 20250425 Windows Server 2022 Kernel: 10.0.20348.2031 Compiler: clang 15.0.7, gcc 14.1.0 (MinGW), and MSVC VS 19.39.33521 Windows Server 2025 Kernel: 10.0.26100 Compiler: clang 15.0.7, gcc 14.1.0 (MinGW), and MSVC VS 19.39.33521 To view detailed results, visit: https://lab.dpdk.org/results/dashboard/tarballs/35659/ UNH-IOL DPDK Community Lab To manage your email subscriptions, visit: https://lab.dpdk.org/results/dashboard/preferences/subscriptions/