From mboxrd@z Thu Jan 1 00:00:00 1970 Return-Path: Received: from mails.dpdk.org (mails.dpdk.org [217.70.189.124]) by inbox.dpdk.org (Postfix) with ESMTP id 234E048B5D for ; Thu, 20 Nov 2025 20:13:29 +0100 (CET) Received: from mails.dpdk.org (localhost [127.0.0.1]) by mails.dpdk.org (Postfix) with ESMTP id F158C40267; Thu, 20 Nov 2025 20:13:28 +0100 (CET) Received: from mail-pl1-f226.google.com (mail-pl1-f226.google.com [209.85.214.226]) by mails.dpdk.org (Postfix) with ESMTP id B218940267 for ; Thu, 20 Nov 2025 20:13:27 +0100 (CET) Received: by mail-pl1-f226.google.com with SMTP id d9443c01a7336-2956d816c10so14754485ad.1 for ; Thu, 20 Nov 2025 11:13:27 -0800 (PST) DKIM-Signature: v=1; a=rsa-sha256; c=relaxed/relaxed; d=iol.unh.edu; s=unh-iol; t=1763666007; x=1764270807; darn=dpdk.org; h=cc:to:from:subject:message-id:date:from:to:cc:subject:date :message-id:reply-to; bh=hKZJRBht7qft0dcAB1Ww+Zb66dqeOwGVE5qNhd+hSLQ=; b=Oy8nUEO0AeHM5PI8Nk10mdXBTFxOMvxW0cFAf10r2s4mtTKmBwbxHwPodMT2kjtCIZ Np+FYZDjafppyvn5TpWxj9RjrOGMOB0uxjP+RGqnQGnAgELrmXoNIP/kxC6J0ab9XE5R tKPDg8arrl/xgfXS5SL0GxdPnFbc39tzVU3sA= X-Google-DKIM-Signature: v=1; a=rsa-sha256; c=relaxed/relaxed; d=1e100.net; s=20230601; t=1763666007; x=1764270807; h=cc:to:from:subject:message-id:date:x-gm-gg:x-gm-message-state:from :to:cc:subject:date:message-id:reply-to; bh=hKZJRBht7qft0dcAB1Ww+Zb66dqeOwGVE5qNhd+hSLQ=; b=pl0eR7BKb4byDKvnMiCuCE/p4qPGBF6lg+MJZMBo8lK5thRX6So6ODz7q0cUmtOB10 7qfbr+50nIdeZbLuEcNepDS8rrk3sgx53y7KWY1vto0Y0+Qj/icrpOiqltNBRAr++SPv uVwxBHSkRXbB5j3LKfnM/MiUFhRws4lQ8HhXLJ4izwy4QdBTwGEhN+W0IEYN0F8h8eMW p9hD7K/JNqZs6bhTghlAir1rpAZQc5kfSQYUaIHz7YZaMX8HHew7m73ZsEnk1nl1lK6Q u4OJ2qfYiPSNjqKphQIMIFmBjPhqa5LfdymwPv/19GfV6gLFoSsNkIIk2ye0W7CsqILD TBgQ== X-Gm-Message-State: AOJu0YzVk7HrdECeBQOQIsDgjShAhQKgtterJFvcbr3Dq5GHZM2rvzkh 1Lf9Ox6l1dW2roMMmKFVcobQRWLwgcoQuRkQY20gApXGULw083M7gRbVLac+9NNAEIBrvAwhvZs F9kj+UZ98ve/IMcoINBwj1cW6TVvPWgMVCmR7 X-Gm-Gg: ASbGncuTl7PZ3UoWsQ9+0XNMbWBf8swkxuGnK5762t4EfnUABRT184S8E1b1jVOcEb4 v6bWjtnOTqh5Ngq4//qpmdjlUEmvGBdh9cmYnoRknwnxsnVyuciFz5rN+QZNMtflVuqioudLUfi MaSu/uEh6522393ifLRH9+k03VJfbWMymMue/M4DkZ96f7hv++uGzDsuCTZ/Sbnj2+wsJSXBXjx xfuJsizbggHqsQvTG59lDPuDJUnzFIbPSnrJXEbQ6Zub26ODpdxeoBFcR+SnfuuoQBXxCP/pZyV PenwaNDzqs9R7syARs7+uzWcWNQE4WZuHbGR+dL9dlrGNuNBf7EowFa0SK1hnI53Iu8ZjEN8HNy LVH7a7amFtHn3NUfIHIyI1xX9mK9S1D+JHZUkGs/RKg== X-Google-Smtp-Source: AGHT+IGmkpg54ehicfUlwXl+rDNVV1C8znb4JWn76glfejAc/4idSchTFu3Dwez7esa44uaEXdmk0oU1R6gr X-Received: by 2002:a17:902:ef52:b0:295:6122:5c42 with SMTP id d9443c01a7336-29b69091b45mr7878795ad.24.1763666006801; Thu, 20 Nov 2025 11:13:26 -0800 (PST) Received: from postal.iol.unh.edu (postal.iol.unh.edu. [132.177.123.84]) by smtp-relay.gmail.com with ESMTPS id d9443c01a7336-29b5b24de0bsm3874215ad.61.2025.11.20.11.13.26 (version=TLS1_2 cipher=ECDHE-ECDSA-AES128-GCM-SHA256 bits=128/128); Thu, 20 Nov 2025 11:13:26 -0800 (PST) X-Relaying-Domain: iol.unh.edu Date: Thu, 20 Nov 2025 11:13:26 -0800 (PST) Message-ID: <691f6856.170a0220.32ae0b.3069SMTPIN_ADDED_MISSING@mx.google.com> Received: from [172.21.0.3] (unknown [172.18.0.240]) by postal.iol.unh.edu (Postfix) with ESMTP id 3A7796051830; Thu, 20 Nov 2025 14:13:26 -0500 (EST) Subject: |SUCCESS| [GIT MASTER] d297bb24650efb7040a66a3270e01c94fc8ee4f5 From: dpdklab@iol.unh.edu To: Test Report Cc: dpdk-test-reports@iol.unh.edu, Xueming Li , Kevin Traynor , Luca Boccassi Content-Type: text/plain X-BeenThere: test-report@dpdk.org X-Mailman-Version: 2.1.29 Precedence: list List-Id: automatic DPDK test reports List-Unsubscribe: , List-Archive: List-Post: List-Help: List-Subscribe: , Errors-To: test-report-bounces@dpdk.org _Testing PASS_ Branch: tags/v22.11 d297bb24650efb7040a66a3270e01c94fc8ee4f5 --> testing pass Upstream job id: Windows-Compile-DPDK-Native#32533 Test environment and result as below: +-------------------------------+--------------------+-------------------------+ | Environment | dpdk_meson_compile | dpdk_llvm_clang_compile | +===============================+====================+=========================+ | FreeBSD 14.2 | PASS | SKIPPED | +-------------------------------+--------------------+-------------------------+ | Ubuntu 20.04 | PASS | SKIPPED | +-------------------------------+--------------------+-------------------------+ | CentOS Stream 10 | PASS | SKIPPED | +-------------------------------+--------------------+-------------------------+ | CentOS Stream 9 | PASS | SKIPPED | +-------------------------------+--------------------+-------------------------+ | Debian GNU/Linux 12 | PASS | SKIPPED | +-------------------------------+--------------------+-------------------------+ | Ubuntu 22.04 | PASS | SKIPPED | +-------------------------------+--------------------+-------------------------+ | Red Hat Enterprise Linux 8.10 | PASS | SKIPPED | +-------------------------------+--------------------+-------------------------+ | Fedora Linux 42 | PASS | SKIPPED | +-------------------------------+--------------------+-------------------------+ | Red Hat Enterprise Linux 9.5 | PASS | SKIPPED | +-------------------------------+--------------------+-------------------------+ | Ubuntu 24.04 | PASS | SKIPPED | +-------------------------------+--------------------+-------------------------+ | Windows Server 2025 | SKIPPED | PASS | +-------------------------------+--------------------+-------------------------+ FreeBSD 14.2 Kernel: 14.2-RELEASE Compiler: clang 18.1.6 Ubuntu 20.04 Kernel: 4.19 Compiler: gcc gcc (Ubuntu 9.4.0-1ubuntu1~20.04.2) 9.4.0 CentOS Stream 10 Kernel: 5.15 Compiler: gcc gcc (GCC) 14.2.1 20250110 (Red Hat 14.2.1-8) CentOS Stream 9 Kernel: 5.15 Compiler: gcc gcc (GCC) 11.5.0 20240719 (Red Hat 11.5.0-11) Debian GNU/Linux 12 Kernel: 5.15 Compiler: gcc gcc (Debian 12.2.0-14+deb12u1) 12.2.0 Ubuntu 22.04 Kernel: 5.15 Compiler: gcc gcc (Ubuntu 11.4.0-1ubuntu1~22.04) 11.4.0 Red Hat Enterprise Linux 8.10 Kernel: 5.15 Compiler: gcc gcc (GCC) 8.5.0 20210514 (Red Hat 8.5.0-22) Fedora Linux 42 Kernel: 5.15 Compiler: clang gcc (GCC) 15.2.1 20250808 (Red Hat 15.2.1-1) Red Hat Enterprise Linux 9.5 Kernel: 5.15 Compiler: gcc gcc (GCC) 11.5.0 20240719 (Red Hat 11.5.0-2) Ubuntu 24.04 Kernel: 5.15 Compiler: gcc gcc (Ubuntu 13.3.0-6ubuntu2~24.04) 13.3.0 Windows Server 2025 Kernel: 10.0.26100 Compiler: clang 15.0.7, gcc 14.1.0 (MinGW), and MSVC VS 19.39.33521 To view detailed results, visit: https://lab.dpdk.org/results/dashboard/tarballs/35660/ UNH-IOL DPDK Community Lab To manage your email subscriptions, visit: https://lab.dpdk.org/results/dashboard/preferences/subscriptions/