From mboxrd@z Thu Jan 1 00:00:00 1970 Return-Path: Received: from mails.dpdk.org (mails.dpdk.org [217.70.189.124]) by inbox.dpdk.org (Postfix) with ESMTP id 8F84748B5D for ; Thu, 20 Nov 2025 20:17:36 +0100 (CET) Received: from mails.dpdk.org (localhost [127.0.0.1]) by mails.dpdk.org (Postfix) with ESMTP id 6747F40267; Thu, 20 Nov 2025 20:17:36 +0100 (CET) Received: from mail-yx1-f99.google.com (mail-yx1-f99.google.com [74.125.224.99]) by mails.dpdk.org (Postfix) with ESMTP id 9544440267 for ; Thu, 20 Nov 2025 20:17:34 +0100 (CET) Received: by mail-yx1-f99.google.com with SMTP id 956f58d0204a3-63f96d5038dso1097617d50.1 for ; Thu, 20 Nov 2025 11:17:34 -0800 (PST) DKIM-Signature: v=1; a=rsa-sha256; c=relaxed/relaxed; d=iol.unh.edu; s=unh-iol; t=1763666254; x=1764271054; darn=dpdk.org; h=cc:to:from:subject:message-id:date:from:to:cc:subject:date :message-id:reply-to; bh=XNx7i4j8oMvwd80ouhKqHoABATeY6KK1xLhPbD0WjqI=; b=ZdJ79vICQOnhTx+3N0ezdPCiw8IxqdZPW2v+4V49H0ShOB0gcJqRUczQXrUDYFFQiW 7KRWLLyRcax7roKYK4OkYRUdAhAsorReInDpgxjoBv/w8A++s35Yz0rVbDU1pgnT1F6W I9mLRey+hv/WVJHMv0F+9Po1nL99zzSTLB7dQ= X-Google-DKIM-Signature: v=1; a=rsa-sha256; c=relaxed/relaxed; d=1e100.net; s=20230601; t=1763666254; x=1764271054; h=cc:to:from:subject:message-id:date:x-gm-gg:x-gm-message-state:from :to:cc:subject:date:message-id:reply-to; bh=XNx7i4j8oMvwd80ouhKqHoABATeY6KK1xLhPbD0WjqI=; b=LjHzw60hVN8/jmsXcI+KWXxzdNR8/XPveqb9y6OXY1tr1icWf+LzjVW0/v3Btk6oSs rEhsfD06YGiCQsYsDkN5mT6SDkR/u+lCqX8wdKUSPwrAlADwVw8As4WEc47JuS8boLXv FbUaHZkPZ8ns0c7IEviMEL5i8gzLdTv5Z6IWj5Sj2woAu7v/j3dXSF7H/ruda3ztTKYo eENTZQe9gqrWDFc6P3RT/yDDZRd5lGIa4rlYH1YSk9JJDkVyezMK4iz5TVbvfcTQ/2iK Ig/3xjYQeqH4zrB2Pwohaak14WsYYTPVNQzQqpuORY4diSEm2GooggVIxw+rpPWrYm0D v3yQ== X-Gm-Message-State: AOJu0YyLi1nIn0m5ku7fSLVTvxxEhXfKz5PswEV0y1fWI3J7ZFvU1xJP /4fisazYqGMGaj74fA6zjAb0EooBGhgb3AAfACNfkZdb1v8z3jAw3egLO8PVwzKXtypsx69Cdn4 WhJUiW5ZK9JLkVEzDgnRj7QX26IDBNIhOVYxuYt4EvxEF X-Gm-Gg: ASbGncvcw7Gq4hY6E8Ph+1QQ0DZJQPtQNkEikoGJJ3uCcbjWbt4HE7zDPDSSa37yqWi ExqzoHrknyx++/OSWOgaMytXe8kaqBTEl6tLjpgj6g2jvqbFXGOVJDZdPllVI62V5YwJrfa2RWe G2CWSBMmLRC30b2ebDcEiMP0XGRnvwi1ER4wu4BYTzlz+p4Ag3O73gRZ/WHRBHVaIemaFZPFqh2 ZItLQXZHHFy80If5sGsymJLP+QmOy391OZWDNF2K3Yi667gcnMTO73m9HBHEYq6sS2ob+N4Xg7x GxUeXQDv1sSqaS4Ww/xngwZQymUh3XXu4ShVl/II5+6KVmgL5oA3kRVDI2fKU4a2xxhxznxInoe 8WelsNzQNQ3x5sUqGfzO1lGF98lwRgMiPspnCpcsJ+Q== X-Google-Smtp-Source: AGHT+IGhE/nXkWLHu81VqUDx5PrdupRVBAfv07OFVBd20nw8H/huphxehzT/9KaXbp1ThXl5Nq2hb20bLklR X-Received: by 2002:a05:690e:408b:b0:63f:c6b3:cd03 with SMTP id 956f58d0204a3-642f9dd8b19mr2107212d50.8.1763666253781; Thu, 20 Nov 2025 11:17:33 -0800 (PST) Received: from postal.iol.unh.edu (postal.iol.unh.edu. [132.177.123.84]) by smtp-relay.gmail.com with ESMTPS id 00721157ae682-78a79921275sm2110667b3.20.2025.11.20.11.17.33 (version=TLS1_2 cipher=ECDHE-ECDSA-AES128-GCM-SHA256 bits=128/128); Thu, 20 Nov 2025 11:17:33 -0800 (PST) X-Relaying-Domain: iol.unh.edu Date: Thu, 20 Nov 2025 11:17:33 -0800 (PST) Message-ID: <691f694d.050a0220.250287.a40eSMTPIN_ADDED_MISSING@mx.google.com> Received: from [172.21.0.3] (unknown [172.18.0.240]) by postal.iol.unh.edu (Postfix) with ESMTP id 652526051830; Thu, 20 Nov 2025 14:17:33 -0500 (EST) Subject: |SUCCESS| [GIT MASTER] ef98b88455bf4a7c8b7aa3106a761c9e9270d6a3 From: dpdklab@iol.unh.edu To: Test Report Cc: dpdk-test-reports@iol.unh.edu Content-Type: text/plain X-BeenThere: test-report@dpdk.org X-Mailman-Version: 2.1.29 Precedence: list List-Id: automatic DPDK test reports List-Unsubscribe: , List-Archive: List-Post: List-Help: List-Subscribe: , Errors-To: test-report-bounces@dpdk.org _Testing PASS_ Branch: dpdk ef98b88455bf4a7c8b7aa3106a761c9e9270d6a3 --> testing pass Upstream job id: Generic-VM-Unit-Test-DPDK#32700 Test environment and result as below: +-------------------------------+----------------+ | Environment | dpdk_unit_test | +===============================+================+ | Fedora Linux 42 | PASS | +-------------------------------+----------------+ | Arch Linux 20250613.0.365270 | PASS | +-------------------------------+----------------+ | Red Hat Enterprise Linux 8.10 | PASS | +-------------------------------+----------------+ | Fedora Linux 40 | PASS | +-------------------------------+----------------+ | Debian GNU/Linux 12 | PASS | +-------------------------------+----------------+ | Ubuntu 20.04 | PASS | +-------------------------------+----------------+ | Fedora Linux 41 | PASS | +-------------------------------+----------------+ | Ubuntu 22.04 | PASS | +-------------------------------+----------------+ | Ubuntu 24.04 | PASS | +-------------------------------+----------------+ | CentOS Stream 10 | PASS | +-------------------------------+----------------+ | Red Hat Enterprise Linux 9.5 | PASS | +-------------------------------+----------------+ | CentOS Stream 9 | PASS | +-------------------------------+----------------+ | Windows Server 2022 | PASS | +-------------------------------+----------------+ Fedora Linux 42 Kernel: 5.15 Compiler: clang gcc (GCC) 15.2.1 20250808 (Red Hat 15.2.1-1) Arch Linux 20250613.0.365270 Kernel: 5.15 Compiler: gcc gcc (GCC) 15.1.1 20250425 Red Hat Enterprise Linux 8.10 Kernel: 5.15 Compiler: gcc gcc (GCC) 8.5.0 20210514 (Red Hat 8.5.0-22) Fedora Linux 40 Kernel: 5.15 Compiler: gcc gcc (GCC) 14.2.1 20240912 (Red Hat 14.2.1-3) Debian GNU/Linux 12 Kernel: 5.15 Compiler: gcc gcc (Debian 12.2.0-14+deb12u1) 12.2.0 Ubuntu 20.04 Kernel: 5.15 Compiler: gcc gcc (Ubuntu 9.4.0-1ubuntu1~20.04.2) 9.4.0 Fedora Linux 41 Kernel: 5.15 Compiler: gcc gcc (GCC) 14.3.1 20250523 (Red Hat 14.3.1-1) Ubuntu 22.04 Kernel: 5.15 Compiler: gcc gcc (Ubuntu 11.4.0-1ubuntu1~22.04) 11.4.0 Ubuntu 24.04 Kernel: 5.15 Compiler: gcc gcc (Ubuntu 13.3.0-6ubuntu2~24.04) 13.3.0 CentOS Stream 10 Kernel: 5.15 Compiler: gcc gcc (GCC) 14.2.1 20250110 (Red Hat 14.2.1-8) Red Hat Enterprise Linux 9.5 Kernel: 5.15 Compiler: gcc gcc (GCC) 11.5.0 20240719 (Red Hat 11.5.0-2) CentOS Stream 9 Kernel: 5.15 Compiler: gcc gcc (GCC) 11.5.0 20240719 (Red Hat 11.5.0-11) Windows Server 2022 Kernel: 10.0.20348.2031 Compiler: clang 15.0.7, gcc 14.1.0 (MinGW), and MSVC VS 19.39.33521 To view detailed results, visit: https://lab.dpdk.org/results/dashboard/tarballs/35659/ UNH-IOL DPDK Community Lab To manage your email subscriptions, visit: https://lab.dpdk.org/results/dashboard/preferences/subscriptions/