From mboxrd@z Thu Jan 1 00:00:00 1970 Return-Path: Received: from mails.dpdk.org (mails.dpdk.org [217.70.189.124]) by inbox.dpdk.org (Postfix) with ESMTP id E232E48B5D for ; Thu, 20 Nov 2025 20:31:11 +0100 (CET) Received: from mails.dpdk.org (localhost [127.0.0.1]) by mails.dpdk.org (Postfix) with ESMTP id DE6B440267; Thu, 20 Nov 2025 20:31:11 +0100 (CET) Received: from mail-il1-f225.google.com (mail-il1-f225.google.com [209.85.166.225]) by mails.dpdk.org (Postfix) with ESMTP id 0F39640267 for ; Thu, 20 Nov 2025 20:31:11 +0100 (CET) Received: by mail-il1-f225.google.com with SMTP id e9e14a558f8ab-4331b4d5c6eso5365555ab.2 for ; Thu, 20 Nov 2025 11:31:11 -0800 (PST) DKIM-Signature: v=1; a=rsa-sha256; c=relaxed/relaxed; d=iol.unh.edu; s=unh-iol; t=1763667070; x=1764271870; darn=dpdk.org; h=references:in-reply-to:cc:to:from:subject:message-id:date:from:to :cc:subject:date:message-id:reply-to; bh=OMsP4JsNS2dnfCe95jeZso6vKpBG9KzZ/nlhVYNyL1Y=; b=cOmZR8xEuACU4ArnuNI3vhP7cAnvmQBqsmtoSdTlQ+zpbCWtfZ3/LZNG657/wam6u/ 3JdeRESg69VLAZ3FS2BK7aBuC+XX0/j+gMzR1w18SwqlzovoUdPELKwAgfwE4EhsvvkC jdPJlb1As0CaStBBHchy9pT7LrvyeQt+ytHJQ= X-Google-DKIM-Signature: v=1; a=rsa-sha256; c=relaxed/relaxed; d=1e100.net; s=20230601; t=1763667070; x=1764271870; h=references:in-reply-to:cc:to:from:subject:message-id:date:x-gm-gg :x-gm-message-state:from:to:cc:subject:date:message-id:reply-to; bh=OMsP4JsNS2dnfCe95jeZso6vKpBG9KzZ/nlhVYNyL1Y=; b=K0UkIdu70dmbGoo3leQ++89Jq0AS59UuIBoMQCXxsgRQc4+nVQbQ1wdexOYym//V0u 4iaNZCO7batGtAY9q6/s1rwH/IH2izyO7scej0NFr+a4neoT97gHdvkmOImIDNpKG7xs csJB+K3LjOrQPSZ6HXgmkoem6RzQK/X3LoFgdhLgiP+In58kxrbn4SEryZNTkAsmQOak lEIzPQPkSnU6wipBvpeMcXs9ogCxqAOShghPqSJ9J4fA+tajU1iBfvoz9mwQ5kgrDT+e Mj5YnHXiqJedrMOGJSghhlU0ppgR323f4uIoKu4WwdRMaDaS1bkKjxdfdji5wl1obUcR ptXg== X-Gm-Message-State: AOJu0YxYk/XHCgf5MSZL/NMs31hhBbnTfKbOF5moBRZnn4NLvhuT85MV U+oJAjto3Ym9QR29pvSPUF8JqKtnyrrMtKeLLz6usDqQtPKulnDW57PBQ2nX77enBSlmQfNZJaz 8rBua4cDnTO6Hb5xHRLqbRek50bfkE6ICeGdjdiwwVydy X-Gm-Gg: ASbGncv9p/NY6mY6LmjMVnEQtA7YidyKRN85iFD8OPir2dVgTx65rus6vrqDAmfMBvQ nakfh95rpuNRUVKKZeCx38Pg89nrQaw74cKeQdgBvgweMllI5et57kXbpmDwIYDTt+zQkYUs7wS A2Jfe2fiDmsrv6+iIGnYR3zEQT4spDF2nXEgPkAn5cYGvFKH6X2PB12hf6b3eSq+2belR+c6g1o tYmg0sAuaqw3/iNFTRYAii9j2IxZFqbRoZpQrATYGoZhu5YI9aEzn5sEBJT4nEH3KF8v9mOK+5L B+oIwfa/Z9LGCkG0lSvNrBTPZg897HWXVCPHGXPVEZSU26qsHq5NjKADeS08mqAKsXLmVJU8pIM pJWWRR9L89/llje76gCT+44mLWBgTdzU3JTlZeS4TOw== X-Google-Smtp-Source: AGHT+IEMDLsBBJoZIl2BgkG0mWhyOi55nur4L1gcVeko+yxCBUf4EDTAwNYNf6qeosr1ihO9570HIwTtPcqx X-Received: by 2002:a05:6e02:330e:b0:433:795e:2da with SMTP id e9e14a558f8ab-435b821a631mr3866485ab.3.1763667070310; Thu, 20 Nov 2025 11:31:10 -0800 (PST) Received: from postal.iol.unh.edu (postal.iol.unh.edu. [132.177.123.84]) by smtp-relay.gmail.com with ESMTPS id e9e14a558f8ab-435a9055178sm3072665ab.5.2025.11.20.11.31.10 (version=TLS1_2 cipher=ECDHE-ECDSA-AES128-GCM-SHA256 bits=128/128); Thu, 20 Nov 2025 11:31:10 -0800 (PST) X-Relaying-Domain: iol.unh.edu Date: Thu, 20 Nov 2025 11:31:10 -0800 (PST) Message-ID: <691f6c7e.050a0220.215560.f528SMTPIN_ADDED_MISSING@mx.google.com> Received: from [172.21.0.5] (unknown [172.18.0.240]) by postal.iol.unh.edu (Postfix) with ESMTP id 5E28D6051830; Thu, 20 Nov 2025 14:31:09 -0500 (EST) Subject: |SUCCESS| pw158933 [PATCH] drivers/net: fix Tx packet prepare From: dpdklab@iol.unh.edu To: Test Report Cc: dpdk-test-reports@iol.unh.edu, Stephen Hemminger In-Reply-To: <20251119130333.2697937-1-thomas@monjalon.net> References: <20251119130333.2697937-1-thomas@monjalon.net> Content-Type: text/plain X-BeenThere: test-report@dpdk.org X-Mailman-Version: 2.1.29 Precedence: list List-Id: automatic DPDK test reports List-Unsubscribe: , List-Archive: List-Post: List-Help: List-Subscribe: , Errors-To: test-report-bounces@dpdk.org Test-Label: iol-compile-amd64-testing Test-Status: SUCCESS http://dpdk.org/patch/158933 _Testing PASS_ Submitter: Thomas Monjalon Date: Wednesday, November 19 2025 13:03:33 DPDK git baseline: Repo:dpdk-next-net Branch: master CommitID:a544492a05ec5bd542a5d0706b8c466398b8fbb0 158933 --> testing pass Upstream job id: Windows-Compile-DPDK-VS#7618 Test environment and result as below: +-------------------------------+--------------------+------------------+-------------------+ | Environment | dpdk_meson_compile | dpdk_compile_ovs | dpdk_msvc_compile | +===============================+====================+==================+===================+ | FreeBSD 14.2 | PASS | SKIPPED | SKIPPED | +-------------------------------+--------------------+------------------+-------------------+ | Ubuntu 22.04 | PASS | SKIPPED | SKIPPED | +-------------------------------+--------------------+------------------+-------------------+ | CentOS Stream 10 | PASS | SKIPPED | SKIPPED | +-------------------------------+--------------------+------------------+-------------------+ | Fedora Linux 42 | PASS | PASS | SKIPPED | +-------------------------------+--------------------+------------------+-------------------+ | CentOS Stream 9 | PASS | SKIPPED | SKIPPED | +-------------------------------+--------------------+------------------+-------------------+ | Ubuntu 20.04 | PASS | SKIPPED | SKIPPED | +-------------------------------+--------------------+------------------+-------------------+ | Debian GNU/Linux 12 | PASS | SKIPPED | SKIPPED | +-------------------------------+--------------------+------------------+-------------------+ | Ubuntu 24.04 | PASS | PASS | SKIPPED | +-------------------------------+--------------------+------------------+-------------------+ | openSUSE Leap 15.6 | PASS | SKIPPED | SKIPPED | +-------------------------------+--------------------+------------------+-------------------+ | Red Hat Enterprise Linux 9.5 | PASS | SKIPPED | SKIPPED | +-------------------------------+--------------------+------------------+-------------------+ | Red Hat Enterprise Linux 8.10 | PASS | SKIPPED | SKIPPED | +-------------------------------+--------------------+------------------+-------------------+ | Alpine Linux 3.22.0 | PASS | SKIPPED | SKIPPED | +-------------------------------+--------------------+------------------+-------------------+ | Windows Server 2022 | SKIPPED | SKIPPED | PASS | +-------------------------------+--------------------+------------------+-------------------+ FreeBSD 14.2 Kernel: 14.2-RELEASE Compiler: clang 18.1.6 Ubuntu 22.04 Kernel: 5.15 Compiler: gcc gcc (Ubuntu 11.4.0-1ubuntu1~22.04) 11.4.0 CentOS Stream 10 Kernel: 5.15 Compiler: gcc gcc (GCC) 14.2.1 20250110 (Red Hat 14.2.1-8) Fedora Linux 42 Kernel: 5.15 Compiler: clang gcc (GCC) 15.2.1 20250808 (Red Hat 15.2.1-1) CentOS Stream 9 Kernel: 5.15 Compiler: gcc gcc (GCC) 11.5.0 20240719 (Red Hat 11.5.0-11) Ubuntu 20.04 Kernel: 4.19 Compiler: gcc gcc (Ubuntu 9.4.0-1ubuntu1~20.04.2) 9.4.0 Debian GNU/Linux 12 Kernel: 5.15 Compiler: gcc gcc (Debian 12.2.0-14+deb12u1) 12.2.0 Ubuntu 24.04 Kernel: 5.15 Compiler: gcc gcc (Ubuntu 13.3.0-6ubuntu2~24.04) 13.3.0 openSUSE Leap 15.6 Kernel: 5.15 Compiler: gcc gcc (SUSE Linux) 7.5.0 Red Hat Enterprise Linux 9.5 Kernel: 5.15 Compiler: gcc gcc (GCC) 11.5.0 20240719 (Red Hat 11.5.0-2) Red Hat Enterprise Linux 8.10 Kernel: 5.15 Compiler: gcc gcc (GCC) 8.5.0 20210514 (Red Hat 8.5.0-22) Alpine Linux 3.22.0 Kernel: 5.15 Compiler: gcc gcc (Alpine 14.2.0) 14.2.0 Windows Server 2022 Kernel: 10.0.20348.2031 Compiler: clang 15.0.7, gcc 14.1.0 (MinGW), and MSVC VS 19.39.33521 To view detailed results, visit: https://lab.dpdk.org/results/dashboard/patchsets/34643/ UNH-IOL DPDK Community Lab To manage your email subscriptions, visit: https://lab.dpdk.org/results/dashboard/preferences/subscriptions/