From mboxrd@z Thu Jan 1 00:00:00 1970 Return-Path: Received: from mails.dpdk.org (mails.dpdk.org [217.70.189.124]) by inbox.dpdk.org (Postfix) with ESMTP id 0E17448B5D for ; Thu, 20 Nov 2025 20:32:26 +0100 (CET) Received: from mails.dpdk.org (localhost [127.0.0.1]) by mails.dpdk.org (Postfix) with ESMTP id 08BF740267; Thu, 20 Nov 2025 20:32:26 +0100 (CET) Received: from mail-pl1-f225.google.com (mail-pl1-f225.google.com [209.85.214.225]) by mails.dpdk.org (Postfix) with ESMTP id 288AD40267 for ; Thu, 20 Nov 2025 20:32:25 +0100 (CET) Received: by mail-pl1-f225.google.com with SMTP id d9443c01a7336-29555b384acso15138865ad.1 for ; Thu, 20 Nov 2025 11:32:25 -0800 (PST) DKIM-Signature: v=1; a=rsa-sha256; c=relaxed/relaxed; d=iol.unh.edu; s=unh-iol; t=1763667144; x=1764271944; darn=dpdk.org; h=cc:to:from:subject:message-id:date:from:to:cc:subject:date :message-id:reply-to; bh=5Uwot+nEq/qO2w3Tdse9dyJw8SLZp7MgdCfmHJqkNZY=; b=LJ9ARG3S7uXEBEhNejKLIWUq/MzwIKl2++Fd/g6spIFzztr35tZYwkS2JurQTq/pol uOYStLIjBdKacwRaz4QPEFT3ZHjXu4MEDNdWWn3O4i6MDzE4CmsJHBHXLGQbKznPlIky eaV1n2xkRkwUkiTNRV4Ol7aZHJ0ZIIx/bYbWs= X-Google-DKIM-Signature: v=1; a=rsa-sha256; c=relaxed/relaxed; d=1e100.net; s=20230601; t=1763667144; x=1764271944; h=cc:to:from:subject:message-id:date:x-gm-gg:x-gm-message-state:from :to:cc:subject:date:message-id:reply-to; bh=5Uwot+nEq/qO2w3Tdse9dyJw8SLZp7MgdCfmHJqkNZY=; b=jhwDB/NoGbbL96/8YGxD49e5MRDJDuXaMwhgt04xrmqt14sknSug22kUSfSqX5QuR/ D2qbnG4VZfuUTeWFVsPLeWGgzP6voyzd6yAorYxBSHXgTXHJtimKPKCjtWtVhvj7aA+y zd2jwbcg1Ih1eRep1em0ozJ46QG5CW5fzvUzzMnKMIcleuTmpGt8/ZexvgfK8HDUt/x7 zgqLC7mji/1j/8nZDU8a0g7pPGq57EgVd/vQu0Y1jQMjPQ+u9V6ky3UIMDnezX+jXC0q K6Zrh2vByhSPYp6YBUCdPGexurvWcnXQDvwakwe3LP8Jn1zp1VwbMPLwi/0+8Df2HOVo MRIg== X-Gm-Message-State: AOJu0YwTFsKvVq0B8U4HFLql6qgeV/vgjJHm628SBXaXWpN6UBcuVeqv /HHdiiRIKW9BqsHT6jxPmE5vFM+nYKdryui+wySstfJe+jzTKasB8na/z1Y1xaD2ERpA0OUJKgb 0gB9AJ8iTG3Al7DBxAI8Tlzak/xSu/3k+uJbA X-Gm-Gg: ASbGncsrqUeV9HwNBgiOkBN5Wk4dKc6b9pR6tdxHgygNRY7dhwJJNyQIZ7qAGMf0rzk wMCbahLKujFvyIk7J7RjKk6i84NI4+R+yBcwCycxhpLRJQMGyVpZ0l3NB0LUZNJUFH3T5Dne4wM ANCrwQzMUYTYhPPNbfmUtHakDQFny1cECe+eqJEg03XnZ1rRks7lvbNbaiP4KEo6Mc33N/5IlvJ HYELbFEc1EF2mGdbE0TU+gGlKMvRId+r4jU++D99SHn3jxuPhmUkh580hcD+heFMUinOTDHSIFu 6GCNjI7X1oRzGz7ylUvMSkPYnHhLPA6EfErbN7FG1kY9Vrnq3oHdT2IfSkUWc74jwgU9BiqcZGH Glxesmc4PF3J6AXAjCD6A7K3900R/xYr0+ypn/VAKRQ== X-Google-Smtp-Source: AGHT+IEuCErIW1M4mC6T7YcucxKX4IQRrSOp01f/3hwfohWYdyJ7dvmxM6daPn0OLgGTp3hbQSsSgbviqRTB X-Received: by 2002:a17:903:3bc8:b0:299:dd98:fac2 with SMTP id d9443c01a7336-29b5b14480dmr55413785ad.54.1763667144270; Thu, 20 Nov 2025 11:32:24 -0800 (PST) Received: from postal.iol.unh.edu (postal.iol.unh.edu. [132.177.123.84]) by smtp-relay.gmail.com with ESMTPS id d9443c01a7336-29b5b24865esm3658105ad.53.2025.11.20.11.32.24 (version=TLS1_2 cipher=ECDHE-ECDSA-AES128-GCM-SHA256 bits=128/128); Thu, 20 Nov 2025 11:32:24 -0800 (PST) X-Relaying-Domain: iol.unh.edu Date: Thu, 20 Nov 2025 11:32:24 -0800 (PST) Message-ID: <691f6cc8.170a0220.2c20b4.1f39SMTPIN_ADDED_MISSING@mx.google.com> Received: from [172.21.0.3] (unknown [172.18.0.240]) by postal.iol.unh.edu (Postfix) with ESMTP id 57CE06051830; Thu, 20 Nov 2025 14:32:23 -0500 (EST) Subject: |SUCCESS| [GIT MASTER] d297bb24650efb7040a66a3270e01c94fc8ee4f5 From: dpdklab@iol.unh.edu To: Test Report Cc: dpdk-test-reports@iol.unh.edu, Xueming Li , Kevin Traynor , Luca Boccassi Content-Type: text/plain X-BeenThere: test-report@dpdk.org X-Mailman-Version: 2.1.29 Precedence: list List-Id: automatic DPDK test reports List-Unsubscribe: , List-Archive: List-Post: List-Help: List-Subscribe: , Errors-To: test-report-bounces@dpdk.org _Testing PASS_ Branch: tags/v22.11 d297bb24650efb7040a66a3270e01c94fc8ee4f5 --> testing pass Upstream job id: Windows-Compile-DPDK-Native#32534 Test environment and result as below: +-------------------------------+--------------------+-------------------------+----------------------+ | Environment | dpdk_meson_compile | dpdk_llvm_clang_compile | dpdk_mingw64_compile | +===============================+====================+=========================+======================+ | FreeBSD 14.2 | PASS | SKIPPED | SKIPPED | +-------------------------------+--------------------+-------------------------+----------------------+ | Ubuntu 20.04 | PASS | SKIPPED | SKIPPED | +-------------------------------+--------------------+-------------------------+----------------------+ | CentOS Stream 10 | PASS | SKIPPED | SKIPPED | +-------------------------------+--------------------+-------------------------+----------------------+ | CentOS Stream 9 | PASS | SKIPPED | SKIPPED | +-------------------------------+--------------------+-------------------------+----------------------+ | Debian GNU/Linux 12 | PASS | SKIPPED | SKIPPED | +-------------------------------+--------------------+-------------------------+----------------------+ | Ubuntu 22.04 | PASS | SKIPPED | SKIPPED | +-------------------------------+--------------------+-------------------------+----------------------+ | Red Hat Enterprise Linux 8.10 | PASS | SKIPPED | SKIPPED | +-------------------------------+--------------------+-------------------------+----------------------+ | Fedora Linux 42 | PASS | SKIPPED | SKIPPED | +-------------------------------+--------------------+-------------------------+----------------------+ | Red Hat Enterprise Linux 9.5 | PASS | SKIPPED | SKIPPED | +-------------------------------+--------------------+-------------------------+----------------------+ | Ubuntu 24.04 | PASS | SKIPPED | SKIPPED | +-------------------------------+--------------------+-------------------------+----------------------+ | Windows Server 2025 | SKIPPED | PASS | SKIPPED | +-------------------------------+--------------------+-------------------------+----------------------+ | Windows Server 2022 | SKIPPED | SKIPPED | PASS | +-------------------------------+--------------------+-------------------------+----------------------+ FreeBSD 14.2 Kernel: 14.2-RELEASE Compiler: clang 18.1.6 Ubuntu 20.04 Kernel: 4.19 Compiler: gcc gcc (Ubuntu 9.4.0-1ubuntu1~20.04.2) 9.4.0 CentOS Stream 10 Kernel: 5.15 Compiler: gcc gcc (GCC) 14.2.1 20250110 (Red Hat 14.2.1-8) CentOS Stream 9 Kernel: 5.15 Compiler: gcc gcc (GCC) 11.5.0 20240719 (Red Hat 11.5.0-11) Debian GNU/Linux 12 Kernel: 5.15 Compiler: gcc gcc (Debian 12.2.0-14+deb12u1) 12.2.0 Ubuntu 22.04 Kernel: 5.15 Compiler: gcc gcc (Ubuntu 11.4.0-1ubuntu1~22.04) 11.4.0 Red Hat Enterprise Linux 8.10 Kernel: 5.15 Compiler: gcc gcc (GCC) 8.5.0 20210514 (Red Hat 8.5.0-22) Fedora Linux 42 Kernel: 5.15 Compiler: clang gcc (GCC) 15.2.1 20250808 (Red Hat 15.2.1-1) Red Hat Enterprise Linux 9.5 Kernel: 5.15 Compiler: gcc gcc (GCC) 11.5.0 20240719 (Red Hat 11.5.0-2) Ubuntu 24.04 Kernel: 5.15 Compiler: gcc gcc (Ubuntu 13.3.0-6ubuntu2~24.04) 13.3.0 Windows Server 2025 Kernel: 10.0.26100 Compiler: clang 15.0.7, gcc 14.1.0 (MinGW), and MSVC VS 19.39.33521 Windows Server 2022 Kernel: 10.0.20348.2031 Compiler: clang 15.0.7, gcc 14.1.0 (MinGW), and MSVC VS 19.39.33521 To view detailed results, visit: https://lab.dpdk.org/results/dashboard/tarballs/35660/ UNH-IOL DPDK Community Lab To manage your email subscriptions, visit: https://lab.dpdk.org/results/dashboard/preferences/subscriptions/