From mboxrd@z Thu Jan 1 00:00:00 1970 Return-Path: Received: from mails.dpdk.org (mails.dpdk.org [217.70.189.124]) by inbox.dpdk.org (Postfix) with ESMTP id ED03848B5D for ; Thu, 20 Nov 2025 20:58:41 +0100 (CET) Received: from mails.dpdk.org (localhost [127.0.0.1]) by mails.dpdk.org (Postfix) with ESMTP id C93BD40267; Thu, 20 Nov 2025 20:58:41 +0100 (CET) Received: from mail-pl1-f225.google.com (mail-pl1-f225.google.com [209.85.214.225]) by mails.dpdk.org (Postfix) with ESMTP id 88CAF40267 for ; Thu, 20 Nov 2025 20:58:40 +0100 (CET) Received: by mail-pl1-f225.google.com with SMTP id d9443c01a7336-2956d816c10so15144155ad.1 for ; Thu, 20 Nov 2025 11:58:40 -0800 (PST) DKIM-Signature: v=1; a=rsa-sha256; c=relaxed/relaxed; d=iol.unh.edu; s=unh-iol; t=1763668719; x=1764273519; darn=dpdk.org; h=references:in-reply-to:cc:to:from:subject:message-id:date:from:to :cc:subject:date:message-id:reply-to; bh=hjr7HMoMki7OBcDbiuOnbYk+Kh3wLczASDp6YW2rA9w=; b=VblFQOJTnQUYBZotLiT25UPnhqULBfa4nYy1rsVk3ya9UPKaPAIKu3S4B9oUaZYxMR +JgtjzLB7GbAA0XXshGtGHn4Uap45L9KMY8oUVzbr1OYwT/IYehl2kIJgDNOlUxfWLOZ 27+g76Iz0Mu4dJ8CyFOOvzB6esu2aMryhbHF4= X-Google-DKIM-Signature: v=1; a=rsa-sha256; c=relaxed/relaxed; d=1e100.net; s=20230601; t=1763668719; x=1764273519; h=references:in-reply-to:cc:to:from:subject:message-id:date:x-gm-gg :x-gm-message-state:from:to:cc:subject:date:message-id:reply-to; bh=hjr7HMoMki7OBcDbiuOnbYk+Kh3wLczASDp6YW2rA9w=; b=mIgfJXmnxJAQf9+wexO+VNPoj0FNaKDUW6k8OLU4O8M0C/u6X3uFMiq/bzR3OkeMef lxA2imHa+3GWcApel1HXhnB0JQjU1FleSAzzMGXnHYFsz+v+WH9met4mKdYY0HcfGcsE o8EEU8JLtDib8rk1jg/eccJ3f6Fm6+aEPtzomJoqSGtplg08MrnPM43shIkWpxIARe5s egrO6dZVaDyuV8rITq7hFdfHOvh9LF3SmLKovLID9Go4ElYUoA3ZofqDQYbtoacQATQj Yls1GcUgn0MMxqzaKnDZhIB9horsVWusynt7eByJdxCseX5ga8UsXVV/KJ5UiG3Ej+/x CDUQ== X-Gm-Message-State: AOJu0YxKqb3ufTXdrFnp8LL4ialVLuBV7nJrYEdSg+bgWOF1yK8rIzx9 rN7iJ3uIq3lUnv6gS9+9gnQiBsHV8CyvQs4liaApD7v/icoYH7zQ2ja5LuMJKwpwWxEEmQZDgSG /g7b/kDQs0LPvqkgtRT/3MkIb2P47YG/mJUnIJXitp9m0FM/ZZLVViGgSKjOE X-Gm-Gg: ASbGncs4lArjBYea8vUCpGuO2FpyWTqZWVJ4dW6UDoAoAP8R3hNVNnaZqqFl8lJi3a7 e+q5E43EdE0/Pt40q2JObxbSnRqgwKRupFwknS8YEK2BqFalOH8/x4imOxrkbAtTWR9K1IcF7N9 pQY7OFJsPDvVP2rXaUEsXfve5N5myGPtBJtH0GEuGT5nntHpAzLbV5Ympv3TY8sMOSFh7rdN9RW OG6wskvJ0YDnbuL/NC9zj6xo2qLwjJa4CuUMFObyg08OV/FbhuAcxel4CmgswGBQvByCL0vXagG U7M5m7xJ0mBFJuRssJf61dhQqTod4Y8/dkz56H98moXAWzls0VDFmQxVWOYT/gOKcxB3FPrflQF bc07OWgSP7G0WetC2+M8= X-Google-Smtp-Source: AGHT+IGJ2OnoN11KWCdzGj7YLH0G37pbUFA0s3NSwhFLEDUC/xumgfOLjX77o491n5xlom/zRsmQRLCDdu3E X-Received: by 2002:a17:903:2346:b0:298:43f4:cc51 with SMTP id d9443c01a7336-29b69180bc5mr7941625ad.60.1763668719561; Thu, 20 Nov 2025 11:58:39 -0800 (PST) Received: from postal.iol.unh.edu (postal.iol.unh.edu. [2606:4100:3880:1234::84]) by smtp-relay.gmail.com with ESMTPS id d9443c01a7336-29b5b21c73dsm3779995ad.50.2025.11.20.11.58.39 (version=TLS1_2 cipher=ECDHE-ECDSA-AES128-GCM-SHA256 bits=128/128); Thu, 20 Nov 2025 11:58:39 -0800 (PST) X-Relaying-Domain: iol.unh.edu Date: Thu, 20 Nov 2025 11:58:39 -0800 (PST) Message-ID: <691f72ef.170a0220.328063.279fSMTPIN_ADDED_MISSING@mx.google.com> Received: from [172.21.0.4] (unknown [172.18.0.240]) by postal.iol.unh.edu (Postfix) with ESMTP id ED3F8604D420; Thu, 20 Nov 2025 14:58:38 -0500 (EST) Subject: |SUCCESS| pw158935 [PATCH] eal/x86: reduce memcpy code duplication From: dpdklab@iol.unh.edu To: Test Report Cc: dpdk-test-reports@iol.unh.edu In-Reply-To: <20251120114554.950287-1-mb@smartsharesystems.com> References: <20251120114554.950287-1-mb@smartsharesystems.com> Content-Type: text/plain X-BeenThere: test-report@dpdk.org X-Mailman-Version: 2.1.29 Precedence: list List-Id: automatic DPDK test reports List-Unsubscribe: , List-Archive: List-Post: List-Help: List-Subscribe: , Errors-To: test-report-bounces@dpdk.org Test-Label: iol-compile-amd64-testing Test-Status: SUCCESS http://dpdk.org/patch/158935 _Testing PASS_ Submitter: Morten Brorup Date: Thursday, November 20 2025 11:45:54 DPDK git baseline: Repo:dpdk Branch: master CommitID:ef98b88455bf4a7c8b7aa3106a761c9e9270d6a3 158935 --> testing pass Upstream job id: Windows-Compile-DPDK-VS#7619 Test environment and result as below: +-------------------------------+--------------------+------------------+-------------------+ | Environment | dpdk_meson_compile | dpdk_compile_ovs | dpdk_msvc_compile | +===============================+====================+==================+===================+ | FreeBSD 14.2 | PASS | SKIPPED | SKIPPED | +-------------------------------+--------------------+------------------+-------------------+ | Fedora Linux 42 | PASS | PASS | SKIPPED | +-------------------------------+--------------------+------------------+-------------------+ | Red Hat Enterprise Linux 9.5 | PASS | SKIPPED | SKIPPED | +-------------------------------+--------------------+------------------+-------------------+ | Red Hat Enterprise Linux 8.10 | PASS | SKIPPED | SKIPPED | +-------------------------------+--------------------+------------------+-------------------+ | CentOS Stream 9 | PASS | SKIPPED | SKIPPED | +-------------------------------+--------------------+------------------+-------------------+ | openSUSE Leap 15.6 | PASS | SKIPPED | SKIPPED | +-------------------------------+--------------------+------------------+-------------------+ | CentOS Stream 10 | PASS | SKIPPED | SKIPPED | +-------------------------------+--------------------+------------------+-------------------+ | Ubuntu 24.04 | PASS | PASS | SKIPPED | +-------------------------------+--------------------+------------------+-------------------+ | Debian GNU/Linux 12 | PASS | SKIPPED | SKIPPED | +-------------------------------+--------------------+------------------+-------------------+ | Ubuntu 22.04 | PASS | SKIPPED | SKIPPED | +-------------------------------+--------------------+------------------+-------------------+ | Ubuntu 20.04 | PASS | SKIPPED | SKIPPED | +-------------------------------+--------------------+------------------+-------------------+ | Alpine Linux 3.22.0 | PASS | SKIPPED | SKIPPED | +-------------------------------+--------------------+------------------+-------------------+ | Windows Server 2022 | SKIPPED | SKIPPED | PASS | +-------------------------------+--------------------+------------------+-------------------+ FreeBSD 14.2 Kernel: 14.2-RELEASE Compiler: clang 18.1.6 Fedora Linux 42 Kernel: 5.15 Compiler: clang gcc (GCC) 15.2.1 20250808 (Red Hat 15.2.1-1) Red Hat Enterprise Linux 9.5 Kernel: 5.15 Compiler: gcc gcc (GCC) 11.5.0 20240719 (Red Hat 11.5.0-2) Red Hat Enterprise Linux 8.10 Kernel: 5.15 Compiler: gcc gcc (GCC) 8.5.0 20210514 (Red Hat 8.5.0-22) CentOS Stream 9 Kernel: 5.15 Compiler: gcc gcc (GCC) 11.5.0 20240719 (Red Hat 11.5.0-11) openSUSE Leap 15.6 Kernel: 5.15 Compiler: gcc gcc (SUSE Linux) 7.5.0 CentOS Stream 10 Kernel: 5.15 Compiler: gcc gcc (GCC) 14.2.1 20250110 (Red Hat 14.2.1-8) Ubuntu 24.04 Kernel: 5.15 Compiler: gcc gcc (Ubuntu 13.3.0-6ubuntu2~24.04) 13.3.0 Debian GNU/Linux 12 Kernel: 5.15 Compiler: gcc gcc (Debian 12.2.0-14+deb12u1) 12.2.0 Ubuntu 22.04 Kernel: 5.15 Compiler: gcc gcc (Ubuntu 11.4.0-1ubuntu1~22.04) 11.4.0 Ubuntu 20.04 Kernel: 4.19 Compiler: gcc gcc (Ubuntu 9.4.0-1ubuntu1~20.04.2) 9.4.0 Alpine Linux 3.22.0 Kernel: 5.15 Compiler: gcc gcc (Alpine 14.2.0) 14.2.0 Windows Server 2022 Kernel: 10.0.20348.2031 Compiler: clang 15.0.7, gcc 14.1.0 (MinGW), and MSVC VS 19.39.33521 To view detailed results, visit: https://lab.dpdk.org/results/dashboard/patchsets/34645/ UNH-IOL DPDK Community Lab To manage your email subscriptions, visit: https://lab.dpdk.org/results/dashboard/preferences/subscriptions/