From mboxrd@z Thu Jan 1 00:00:00 1970 Return-Path: Received: from mails.dpdk.org (mails.dpdk.org [217.70.189.124]) by inbox.dpdk.org (Postfix) with ESMTP id D650548B5D for ; Thu, 20 Nov 2025 21:19:28 +0100 (CET) Received: from mails.dpdk.org (localhost [127.0.0.1]) by mails.dpdk.org (Postfix) with ESMTP id B450340267; Thu, 20 Nov 2025 21:19:28 +0100 (CET) Received: from mail-pj1-f98.google.com (mail-pj1-f98.google.com [209.85.216.98]) by mails.dpdk.org (Postfix) with ESMTP id 43B8440267 for ; Thu, 20 Nov 2025 21:19:27 +0100 (CET) Received: by mail-pj1-f98.google.com with SMTP id 98e67ed59e1d1-340c39ee02dso1096378a91.1 for ; Thu, 20 Nov 2025 12:19:27 -0800 (PST) DKIM-Signature: v=1; a=rsa-sha256; c=relaxed/relaxed; d=iol.unh.edu; s=unh-iol; t=1763669966; x=1764274766; darn=dpdk.org; h=cc:to:from:subject:message-id:date:from:to:cc:subject:date :message-id:reply-to; bh=n9aMHRULhhwUFaq7xMqVGC3SkEsLU0d+/EILj0syBXI=; b=DRUyg7lVss7Q6EQ9kjh/deAWRROpGhQVevuqKqA09Dz1poxpYkSM8y+YbbzyKot7LY LZaCJmL+KwZsE1D0fUGEjUHz9EGjCF65S/XMhYWZzRHJtwaDvYSGjOOvXl+1odz+f4vv caEFxzdfyHcCZPiR3Rc6M5Q3n4KwAmJnG9ef8= X-Google-DKIM-Signature: v=1; a=rsa-sha256; c=relaxed/relaxed; d=1e100.net; s=20230601; t=1763669966; x=1764274766; h=cc:to:from:subject:message-id:date:x-gm-gg:x-gm-message-state:from :to:cc:subject:date:message-id:reply-to; bh=n9aMHRULhhwUFaq7xMqVGC3SkEsLU0d+/EILj0syBXI=; b=a3oUXKSuvK6ix+tpw5neJqy2nfK8PoKwpcO5cVzcWh6vVWbjX9arXfQd13ItiGJ8y6 nGwGI68lcWkhNO5ee5LR8eTtl/8/vUx6T7jlWlex2APgoRRnWtwJ2MazP76/9dw7hyMz NJDJi3axUbkaxIInq2huM3ondGdhcdNdDXYga6NOxy9ee/KXqrw+SXKFJi3ll5cF/Pz9 k7aFSsbyyas1gLzbEAsSYwhO5MhO6tFDP7frR1pCDvDIGQj1fBYrIFO/yBmMxv7rj/7z kEzQxOUrETEU6n4weEr02rj5myy0kuAMLDVmVZhjc5j/Wiv0OaGEJ1F+E8H1b9Y62Smr KW0g== X-Gm-Message-State: AOJu0YzOfsxiK5IjIwq0n7oWEPgbVw/P6sxKJh+SNq9xWT3KiSrj2MmO kzmJHbHDfF70GiYiQUPTJZkz6r274iCFLeYOoM+QtCghhxcMsBiOvFi5GDf/BqgSBJWXZw9/FkZ UbDGh3VB9cqPpa1szqfJjOAC8+XesTGjeqdci X-Gm-Gg: ASbGncs+a7SlaHBETNNdh6Z0W3dg8Pyn4kmOF8eLs8a+B3Y1f/9SyXUPRJHAp+zrua4 kykcxUZPOPj2nxNEpteUqR3ZvWapePjtSJ9bwNt22U8AAx7nCmJS2ec87tXe99aajaIMNpcMCLg j5Jjygh/wMv/vQHLF+ZyImjHeXgNVaRMIBX1rmLXOA1zZFbIKMug2tdq0oH81ybGRbIdgVkCtoM o5GGYu5R7lGnCyMiYTkz4s5qbKSexCDimQAYjMpgn9ZLJKQL0jqEaCKVQ9V+ZHL3TCFDN2DfABF 2LpKWPoB3uCfRKKVbezuMJYal33tI9HUulDZ1DLK6kYT6lX0dbxS91VUAg2D/UnC/mPjGhXy9Er eHtdHC6XBANOIOtLyZgArDWCXwswu2NyZODqZGY5ejg== X-Google-Smtp-Source: AGHT+IHy/D/W4m5Wij1zNmRAt8IUmRegV/uEtGzwKX82S5WDPYcbIlDRL8gHXnXO8ww/lhZEeiRaGYM1Oxut X-Received: by 2002:a17:90b:1344:b0:33e:2d0f:479b with SMTP id 98e67ed59e1d1-34731bc8d6bmr696244a91.6.1763669966196; Thu, 20 Nov 2025 12:19:26 -0800 (PST) Received: from postal.iol.unh.edu (postal.iol.unh.edu. [132.177.123.84]) by smtp-relay.gmail.com with ESMTPS id 98e67ed59e1d1-345af0e7e0csm407064a91.0.2025.11.20.12.19.26 (version=TLS1_2 cipher=ECDHE-ECDSA-AES128-GCM-SHA256 bits=128/128); Thu, 20 Nov 2025 12:19:26 -0800 (PST) X-Relaying-Domain: iol.unh.edu Date: Thu, 20 Nov 2025 12:19:26 -0800 (PST) Message-ID: <691f77ce.170a0220.ab5bb.8a57SMTPIN_ADDED_MISSING@mx.google.com> Received: from [172.21.0.2] (unknown [172.18.0.240]) by postal.iol.unh.edu (Postfix) with ESMTP id 6E3866050A61; Thu, 20 Nov 2025 15:19:25 -0500 (EST) Subject: |SUCCESS| [GIT MASTER] 0bd935abcb823f581ce53986986aa54eaf6f8140 From: dpdklab@iol.unh.edu To: Test Report Cc: dpdk-test-reports@iol.unh.edu, Xueming Li , Kevin Traynor , Luca Boccassi Content-Type: text/plain X-BeenThere: test-report@dpdk.org X-Mailman-Version: 2.1.29 Precedence: list List-Id: automatic DPDK test reports List-Unsubscribe: , List-Archive: List-Post: List-Help: List-Subscribe: , Errors-To: test-report-bounces@dpdk.org _Testing PASS_ Branch: tags/v24.11 0bd935abcb823f581ce53986986aa54eaf6f8140 --> testing pass Upstream job id: Windows-Compile-DPDK-Native#32537 Test environment and result as below: +-------------------------------+--------------------+------------------+-------------------+-------------------------+ | Environment | dpdk_meson_compile | dpdk_compile_ovs | dpdk_msvc_compile | dpdk_llvm_clang_compile | +===============================+====================+==================+===================+=========================+ | Ubuntu 20.04 | PASS | SKIPPED | SKIPPED | SKIPPED | +-------------------------------+--------------------+------------------+-------------------+-------------------------+ | Fedora Linux 42 | PASS | PASS | SKIPPED | SKIPPED | +-------------------------------+--------------------+------------------+-------------------+-------------------------+ | openSUSE Leap 15.6 | PASS | SKIPPED | SKIPPED | SKIPPED | +-------------------------------+--------------------+------------------+-------------------+-------------------------+ | Debian GNU/Linux 12 | PASS | SKIPPED | SKIPPED | SKIPPED | +-------------------------------+--------------------+------------------+-------------------+-------------------------+ | CentOS Stream 9 | PASS | SKIPPED | SKIPPED | SKIPPED | +-------------------------------+--------------------+------------------+-------------------+-------------------------+ | Red Hat Enterprise Linux 9.5 | PASS | SKIPPED | SKIPPED | SKIPPED | +-------------------------------+--------------------+------------------+-------------------+-------------------------+ | CentOS Stream 10 | PASS | SKIPPED | SKIPPED | SKIPPED | +-------------------------------+--------------------+------------------+-------------------+-------------------------+ | Red Hat Enterprise Linux 8.10 | PASS | SKIPPED | SKIPPED | SKIPPED | +-------------------------------+--------------------+------------------+-------------------+-------------------------+ | Ubuntu 22.04 | PASS | SKIPPED | SKIPPED | SKIPPED | +-------------------------------+--------------------+------------------+-------------------+-------------------------+ | Ubuntu 24.04 | PASS | PASS | SKIPPED | SKIPPED | +-------------------------------+--------------------+------------------+-------------------+-------------------------+ | Alpine Linux 3.22.0 | PASS | SKIPPED | SKIPPED | SKIPPED | +-------------------------------+--------------------+------------------+-------------------+-------------------------+ | FreeBSD 14.2 | PASS | SKIPPED | SKIPPED | SKIPPED | +-------------------------------+--------------------+------------------+-------------------+-------------------------+ | Windows Server 2022 | SKIPPED | SKIPPED | PASS | SKIPPED | +-------------------------------+--------------------+------------------+-------------------+-------------------------+ | Windows Server 2025 | SKIPPED | SKIPPED | SKIPPED | PASS | +-------------------------------+--------------------+------------------+-------------------+-------------------------+ Ubuntu 20.04 Kernel: 4.19 Compiler: gcc gcc (Ubuntu 9.4.0-1ubuntu1~20.04.2) 9.4.0 Fedora Linux 42 Kernel: 5.15 Compiler: clang gcc (GCC) 15.2.1 20250808 (Red Hat 15.2.1-1) openSUSE Leap 15.6 Kernel: 5.15 Compiler: gcc gcc (SUSE Linux) 7.5.0 Debian GNU/Linux 12 Kernel: 5.15 Compiler: gcc gcc (Debian 12.2.0-14+deb12u1) 12.2.0 CentOS Stream 9 Kernel: 5.15 Compiler: gcc gcc (GCC) 11.5.0 20240719 (Red Hat 11.5.0-11) Red Hat Enterprise Linux 9.5 Kernel: 5.15 Compiler: gcc gcc (GCC) 11.5.0 20240719 (Red Hat 11.5.0-2) CentOS Stream 10 Kernel: 5.15 Compiler: gcc gcc (GCC) 14.2.1 20250110 (Red Hat 14.2.1-8) Red Hat Enterprise Linux 8.10 Kernel: 5.15 Compiler: gcc gcc (GCC) 8.5.0 20210514 (Red Hat 8.5.0-22) Ubuntu 22.04 Kernel: 5.15 Compiler: gcc gcc (Ubuntu 11.4.0-1ubuntu1~22.04) 11.4.0 Ubuntu 24.04 Kernel: 5.15 Compiler: gcc gcc (Ubuntu 13.3.0-6ubuntu2~24.04) 13.3.0 Alpine Linux 3.22.0 Kernel: 5.15 Compiler: gcc gcc (Alpine 14.2.0) 14.2.0 FreeBSD 14.2 Kernel: 14.2-RELEASE Compiler: clang 18.1.6 Windows Server 2022 Kernel: 10.0.20348.2031 Compiler: clang 15.0.7, gcc 14.1.0 (MinGW), and MSVC VS 19.39.33521 Windows Server 2025 Kernel: 10.0.26100 Compiler: clang 15.0.7, gcc 14.1.0 (MinGW), and MSVC VS 19.39.33521 To view detailed results, visit: https://lab.dpdk.org/results/dashboard/tarballs/35662/ UNH-IOL DPDK Community Lab To manage your email subscriptions, visit: https://lab.dpdk.org/results/dashboard/preferences/subscriptions/