From mboxrd@z Thu Jan 1 00:00:00 1970 Return-Path: Received: from mails.dpdk.org (mails.dpdk.org [217.70.189.124]) by inbox.dpdk.org (Postfix) with ESMTP id 4003748B5D for ; Thu, 20 Nov 2025 21:35:45 +0100 (CET) Received: from mails.dpdk.org (localhost [127.0.0.1]) by mails.dpdk.org (Postfix) with ESMTP id 3BECA40267; Thu, 20 Nov 2025 21:35:45 +0100 (CET) Received: from mail-qk1-f226.google.com (mail-qk1-f226.google.com [209.85.222.226]) by mails.dpdk.org (Postfix) with ESMTP id 7338E40267 for ; Thu, 20 Nov 2025 21:35:43 +0100 (CET) Received: by mail-qk1-f226.google.com with SMTP id af79cd13be357-8b2e530a748so115438585a.0 for ; Thu, 20 Nov 2025 12:35:43 -0800 (PST) DKIM-Signature: v=1; a=rsa-sha256; c=relaxed/relaxed; d=iol.unh.edu; s=unh-iol; t=1763670943; x=1764275743; darn=dpdk.org; h=cc:to:from:subject:message-id:date:from:to:cc:subject:date :message-id:reply-to; bh=chPxSFCZT46mg/LRIIMHFcqcpggAQaI8u49vrPpJPRA=; b=hNn7Uzdas1/muGiPsIiOXwUIHF4OM1VXoBq9cfusP1BJoF61mnGhK53ZNQiXtZNTZh 3pVKLPKdQSLW+onXNQ/Tjcq/TeFbc6quMOAxcXb2W1IaxMIQvJZWsmgFDLoMT1QCKtDF SpO9onkb/yc7+5++F6MU0u5tB0KMQNZ4Vwbjs= X-Google-DKIM-Signature: v=1; a=rsa-sha256; c=relaxed/relaxed; d=1e100.net; s=20230601; t=1763670943; x=1764275743; h=cc:to:from:subject:message-id:date:x-gm-gg:x-gm-message-state:from :to:cc:subject:date:message-id:reply-to; bh=chPxSFCZT46mg/LRIIMHFcqcpggAQaI8u49vrPpJPRA=; b=XWhsNZuJq0Na/l3Ce2qD0G2rjtQE9DHrvAipTAJW+weZMyeFMvM6Ur24SoZd0HY/12 u+hV0jXaemYnsCrgnSIhK8CSHzdxTpxbAdw0hRZradJFoiyQENObUSBrrVtBHH2KX5oK wIMCBUdl/9qDjudxgXqpMZ770o1grONAIMvbaqkjyPMifiN5p1oVWsOhOzzTWsTYGbLg y4Jfkj8zhQpA3Xd2wGFceDI0EYvr8ffPDTKImt4vliSnUdoss/EVdfCqGWtOe0G2Oqjn Rvw+UQwic6ZrgFXtQEgjdKJd+TCXlSmZblX0WMcSECugMwhLLXen4rdeKreAgrB3KaYw iiUA== X-Gm-Message-State: AOJu0Ywlgof0QV/mKmK3gPWWI2ZEVwcQsetDwt52uKyiKarnxngUDJ01 3pf4IAqRh1et2jE6l4+p6JMJBJJwh4o5XYVPGuyQFg1bu+LfsCjKAwkD2ylUuVNF50oa/l68y28 SkRs8qjwpP5lpqBW5ytZgEbujntntmsANs/yC X-Gm-Gg: ASbGncvrnARp1P2bwR2Rgd7E3d2yMwQbh7VhKOl+EQZ/8VnIX1OkeiKRmoxuGcUd9XO aOHNzw3b8DHT5x4/xiATOQc/zRoboj4+atZxgP3X+zs3nsy1Qah41iHD1+fCiV80V7/cCzT//2/ hhgQ2QSmnfRbc64EtLZlDK5B/UtjZ+r5OeeDQGlZouu1i5N/dMXLE1Ltvv3T3THUfWINe/W1JOH MvTb8pk6bd2PnxGqTPqBol63rcuHPRLPUaAbqXXzCqCRUI0FEKFSx8bBAjRnOooayfuhhwGee6p 3EXAKGN+lwUSyH+Cs/kEkK8cL62CtSlbhYmOrxKmIRWhxJYUSJsEtpKfRwS+Me2WGvSrKNHGPDg SA81NlOELWRLSj+F8V09j2nIlRV1VVMLc6vheLHf++Q== X-Google-Smtp-Source: AGHT+IHrG/WW/PEASAAXqPk6fU/V98uZov3pqYlN3NMqnuZbYYm1LBPn1i98TXsmhPZgHYImX8WMivRM9xeZ X-Received: by 2002:a05:620a:1a21:b0:8b2:eab0:629a with SMTP id af79cd13be357-8b338774b81mr144120985a.70.1763670942774; Thu, 20 Nov 2025 12:35:42 -0800 (PST) Received: from postal.iol.unh.edu (postal.iol.unh.edu. [132.177.123.84]) by smtp-relay.gmail.com with ESMTPS id af79cd13be357-8b32957f0c4sm30948185a.4.2025.11.20.12.35.42 (version=TLS1_2 cipher=ECDHE-ECDSA-AES128-GCM-SHA256 bits=128/128); Thu, 20 Nov 2025 12:35:42 -0800 (PST) X-Relaying-Domain: iol.unh.edu Date: Thu, 20 Nov 2025 12:35:42 -0800 (PST) Message-ID: <691f7b9e.050a0220.1bff87.f42eSMTPIN_ADDED_MISSING@mx.google.com> Received: from [172.21.0.3] (unknown [172.18.0.240]) by postal.iol.unh.edu (Postfix) with ESMTP id 387656050A61; Thu, 20 Nov 2025 15:35:42 -0500 (EST) Subject: |SUCCESS| [GIT MASTER] 0bd935abcb823f581ce53986986aa54eaf6f8140 From: dpdklab@iol.unh.edu To: Test Report Cc: dpdk-test-reports@iol.unh.edu, Xueming Li , Kevin Traynor , Luca Boccassi Content-Type: text/plain X-BeenThere: test-report@dpdk.org X-Mailman-Version: 2.1.29 Precedence: list List-Id: automatic DPDK test reports List-Unsubscribe: , List-Archive: List-Post: List-Help: List-Subscribe: , Errors-To: test-report-bounces@dpdk.org _Testing PASS_ Branch: tags/v24.11 0bd935abcb823f581ce53986986aa54eaf6f8140 --> testing pass Upstream job id: Windows-Compile-DPDK-Native#32538 Test environment and result as below: +-------------------------------+--------------------+------------------+-------------------+-------------------------+----------------------+ | Environment | dpdk_meson_compile | dpdk_compile_ovs | dpdk_msvc_compile | dpdk_llvm_clang_compile | dpdk_mingw64_compile | +===============================+====================+==================+===================+=========================+======================+ | Ubuntu 20.04 | PASS | SKIPPED | SKIPPED | SKIPPED | SKIPPED | +-------------------------------+--------------------+------------------+-------------------+-------------------------+----------------------+ | Fedora Linux 42 | PASS | PASS | SKIPPED | SKIPPED | SKIPPED | +-------------------------------+--------------------+------------------+-------------------+-------------------------+----------------------+ | openSUSE Leap 15.6 | PASS | SKIPPED | SKIPPED | SKIPPED | SKIPPED | +-------------------------------+--------------------+------------------+-------------------+-------------------------+----------------------+ | Debian GNU/Linux 12 | PASS | SKIPPED | SKIPPED | SKIPPED | SKIPPED | +-------------------------------+--------------------+------------------+-------------------+-------------------------+----------------------+ | CentOS Stream 9 | PASS | SKIPPED | SKIPPED | SKIPPED | SKIPPED | +-------------------------------+--------------------+------------------+-------------------+-------------------------+----------------------+ | Red Hat Enterprise Linux 9.5 | PASS | SKIPPED | SKIPPED | SKIPPED | SKIPPED | +-------------------------------+--------------------+------------------+-------------------+-------------------------+----------------------+ | CentOS Stream 10 | PASS | SKIPPED | SKIPPED | SKIPPED | SKIPPED | +-------------------------------+--------------------+------------------+-------------------+-------------------------+----------------------+ | Red Hat Enterprise Linux 8.10 | PASS | SKIPPED | SKIPPED | SKIPPED | SKIPPED | +-------------------------------+--------------------+------------------+-------------------+-------------------------+----------------------+ | Ubuntu 22.04 | PASS | SKIPPED | SKIPPED | SKIPPED | SKIPPED | +-------------------------------+--------------------+------------------+-------------------+-------------------------+----------------------+ | Ubuntu 24.04 | PASS | PASS | SKIPPED | SKIPPED | SKIPPED | +-------------------------------+--------------------+------------------+-------------------+-------------------------+----------------------+ | Alpine Linux 3.22.0 | PASS | SKIPPED | SKIPPED | SKIPPED | SKIPPED | +-------------------------------+--------------------+------------------+-------------------+-------------------------+----------------------+ | FreeBSD 14.2 | PASS | SKIPPED | SKIPPED | SKIPPED | SKIPPED | +-------------------------------+--------------------+------------------+-------------------+-------------------------+----------------------+ | Windows Server 2022 | SKIPPED | SKIPPED | PASS | SKIPPED | PASS | +-------------------------------+--------------------+------------------+-------------------+-------------------------+----------------------+ | Windows Server 2025 | SKIPPED | SKIPPED | SKIPPED | PASS | SKIPPED | +-------------------------------+--------------------+------------------+-------------------+-------------------------+----------------------+ Ubuntu 20.04 Kernel: 4.19 Compiler: gcc gcc (Ubuntu 9.4.0-1ubuntu1~20.04.2) 9.4.0 Fedora Linux 42 Kernel: 5.15 Compiler: clang gcc (GCC) 15.2.1 20250808 (Red Hat 15.2.1-1) openSUSE Leap 15.6 Kernel: 5.15 Compiler: gcc gcc (SUSE Linux) 7.5.0 Debian GNU/Linux 12 Kernel: 5.15 Compiler: gcc gcc (Debian 12.2.0-14+deb12u1) 12.2.0 CentOS Stream 9 Kernel: 5.15 Compiler: gcc gcc (GCC) 11.5.0 20240719 (Red Hat 11.5.0-11) Red Hat Enterprise Linux 9.5 Kernel: 5.15 Compiler: gcc gcc (GCC) 11.5.0 20240719 (Red Hat 11.5.0-2) CentOS Stream 10 Kernel: 5.15 Compiler: gcc gcc (GCC) 14.2.1 20250110 (Red Hat 14.2.1-8) Red Hat Enterprise Linux 8.10 Kernel: 5.15 Compiler: gcc gcc (GCC) 8.5.0 20210514 (Red Hat 8.5.0-22) Ubuntu 22.04 Kernel: 5.15 Compiler: gcc gcc (Ubuntu 11.4.0-1ubuntu1~22.04) 11.4.0 Ubuntu 24.04 Kernel: 5.15 Compiler: gcc gcc (Ubuntu 13.3.0-6ubuntu2~24.04) 13.3.0 Alpine Linux 3.22.0 Kernel: 5.15 Compiler: gcc gcc (Alpine 14.2.0) 14.2.0 FreeBSD 14.2 Kernel: 14.2-RELEASE Compiler: clang 18.1.6 Windows Server 2022 Kernel: 10.0.20348.2031 Compiler: clang 15.0.7, gcc 14.1.0 (MinGW), and MSVC VS 19.39.33521 Windows Server 2025 Kernel: 10.0.26100 Compiler: clang 15.0.7, gcc 14.1.0 (MinGW), and MSVC VS 19.39.33521 To view detailed results, visit: https://lab.dpdk.org/results/dashboard/tarballs/35662/ UNH-IOL DPDK Community Lab To manage your email subscriptions, visit: https://lab.dpdk.org/results/dashboard/preferences/subscriptions/