From mboxrd@z Thu Jan 1 00:00:00 1970 Return-Path: Received: from mails.dpdk.org (mails.dpdk.org [217.70.189.124]) by inbox.dpdk.org (Postfix) with ESMTP id 44E9A48B5D for ; Thu, 20 Nov 2025 21:44:58 +0100 (CET) Received: from mails.dpdk.org (localhost [127.0.0.1]) by mails.dpdk.org (Postfix) with ESMTP id 24F9440285; Thu, 20 Nov 2025 21:44:58 +0100 (CET) Received: from mail-io1-f100.google.com (mail-io1-f100.google.com [209.85.166.100]) by mails.dpdk.org (Postfix) with ESMTP id 56A3C40285 for ; Thu, 20 Nov 2025 21:44:56 +0100 (CET) Received: by mail-io1-f100.google.com with SMTP id ca18e2360f4ac-949031532f9so55821539f.0 for ; Thu, 20 Nov 2025 12:44:56 -0800 (PST) DKIM-Signature: v=1; a=rsa-sha256; c=relaxed/relaxed; d=iol.unh.edu; s=unh-iol; t=1763671495; x=1764276295; darn=dpdk.org; h=cc:to:from:subject:message-id:date:from:to:cc:subject:date :message-id:reply-to; bh=LwIXjs1t6fNRYlpasTULu80MjYINtiM5761ESO8vdDQ=; b=SyG4GNWnjyDOZFFYRmguQUfNAgE0EMhSfSv/OmDUm4MaSuwACSpmZXNQDZ7jeGX2P4 t+w2kb7vzjYvtPEWxOs5TKCA7OqpXKfy05RjjFmxd9TDJA2RDC5XF1ObTsRLY0MwG6CV 6+c+rjy7wx3mfCKCVINR+mOjmYXywoqGcy/U0= X-Google-DKIM-Signature: v=1; a=rsa-sha256; c=relaxed/relaxed; d=1e100.net; s=20230601; t=1763671495; x=1764276295; h=cc:to:from:subject:message-id:date:x-gm-gg:x-gm-message-state:from :to:cc:subject:date:message-id:reply-to; bh=LwIXjs1t6fNRYlpasTULu80MjYINtiM5761ESO8vdDQ=; b=uqfFQUyfuqT6h3G4EPe43WbNwPDYkwkSRPjlyRwXd25+Vn9WpEs/MNejBKelgEpCZe khczOow8uQIaTb5u9Y9forR2ZE87gck8CInfKnqm/EzlKzh+VBvhX7MpzWisT2ybA1yX grLfSqrZ2bJQY13ZYWrDv1fDC30LOqneo++qJaRyWHaAQGBloPu6kkuDqAhCyXEYCcQa Z6VY3c0qtwVCGGbSU1VJFb2Elv3SDwNz9cwnKCK9cMquATZcfW5R4eM+GJRiQbIjqPHr xfF/XOjvaba3yCqTJHQTPFTjWoyBVAqQmqsg3xc12OzRwcWijQoADOAmOSoI8MVbILXP Za4w== X-Gm-Message-State: AOJu0Yy6AMi9TOhdcx1vSJKSElSgja/8Wj3TWr8oX9mMZ9KLQHb7LSjj oy9CgDEs/MBn3zSsFrvrLg+BFQxL4he/bN6fEJQY1bwilYZZCojSFq6iepFjuy7pMNpxuyNwKYX xgQ/IvxvIM2FcSCWP58zC5o+pTnT22dUV8GQ1cntdk5+rLeyGA2qq X-Gm-Gg: ASbGncuQ9QzLFj9cSQCJtzce12ydcI31m6jJoPckZa9c2yGUtLt9quXEfzIDdfnEKGz Z8fG/oElmA5VGGI5rLE3VxhmqF5YvrwcZaYXwKZ6TEu6KoWeWg6RT+F7rhvwoR6FBS/+XpPmL9n NwCxx0PsZXZNo4wmUlXDF/5DHJQ5AIekHVMlPHAPkNF6XcsIDbtBmQ7t+K9ojaTR1Qm7iTVEsVl fbgh6uM2dhJgGobPRGxmVCxcKnoyfnBMbap2nfNcs0CN1oEfIdf4fMyBMRq52LqdAvqD1NOa8r7 l2RX4cRVhKEAtRlp9A691Xafr6/QI6TqtIBygrNSbWmEjYTW6tc+TDdWBm1pa+68N8Q1K+RYI3C VyzXmFDRvAjBTWfl5gr4= X-Google-Smtp-Source: AGHT+IE1s044FLBh8HYLt13hoxtojT6ctWnhiCGK5sUyBRA1TL5yS5BMj+lJc5K4KeesS9g9Mxvw3Ff1NWsY X-Received: by 2002:a05:6638:b1f4:b0:572:c2ff:b9bd with SMTP id 8926c6da1cb9f-5b96574a2c3mr27394173.0.1763671495578; Thu, 20 Nov 2025 12:44:55 -0800 (PST) Received: from postal.iol.unh.edu (postal.iol.unh.edu. [2606:4100:3880:1234::84]) by smtp-relay.gmail.com with ESMTPS id 8926c6da1cb9f-5b954a09276sm307200173.6.2025.11.20.12.44.55 (version=TLS1_2 cipher=ECDHE-ECDSA-AES128-GCM-SHA256 bits=128/128); Thu, 20 Nov 2025 12:44:55 -0800 (PST) X-Relaying-Domain: iol.unh.edu Date: Thu, 20 Nov 2025 12:44:55 -0800 (PST) Message-ID: <691f7dc7.050a0220.8696d.ef4fSMTPIN_ADDED_MISSING@mx.google.com> Received: from [172.21.0.2] (unknown [172.18.0.240]) by postal.iol.unh.edu (Postfix) with ESMTP id 1EF7C6050A61; Thu, 20 Nov 2025 15:44:55 -0500 (EST) Subject: |SUCCESS| [GIT MASTER] 0bd935abcb823f581ce53986986aa54eaf6f8140 From: dpdklab@iol.unh.edu To: Test Report Cc: dpdk-test-reports@iol.unh.edu, Xueming Li , Kevin Traynor , Luca Boccassi Content-Type: text/plain X-BeenThere: test-report@dpdk.org X-Mailman-Version: 2.1.29 Precedence: list List-Id: automatic DPDK test reports List-Unsubscribe: , List-Archive: List-Post: List-Help: List-Subscribe: , Errors-To: test-report-bounces@dpdk.org _Testing PASS_ Branch: tags/v24.11 0bd935abcb823f581ce53986986aa54eaf6f8140 --> testing pass Upstream job id: Generic-VM-Unit-Test-DPDK#32705 Test environment and result as below: +-------------------------------+----------------+ | Environment | dpdk_unit_test | +===============================+================+ | Fedora Linux 42 | PASS | +-------------------------------+----------------+ | Debian GNU/Linux 12 | PASS | +-------------------------------+----------------+ | Fedora Linux 41 | PASS | +-------------------------------+----------------+ | CentOS Stream 9 | PASS | +-------------------------------+----------------+ | Ubuntu 22.04 | PASS | +-------------------------------+----------------+ | Ubuntu 20.04 | PASS | +-------------------------------+----------------+ | Fedora Linux 40 | PASS | +-------------------------------+----------------+ | CentOS Stream 10 | PASS | +-------------------------------+----------------+ | Ubuntu 24.04 | PASS | +-------------------------------+----------------+ | Red Hat Enterprise Linux 9.5 | PASS | +-------------------------------+----------------+ | Red Hat Enterprise Linux 8.10 | PASS | +-------------------------------+----------------+ | Windows Server 2022 | PASS | +-------------------------------+----------------+ Fedora Linux 42 Kernel: 5.15 Compiler: clang gcc (GCC) 15.2.1 20250808 (Red Hat 15.2.1-1) Debian GNU/Linux 12 Kernel: 5.15 Compiler: gcc gcc (Debian 12.2.0-14+deb12u1) 12.2.0 Fedora Linux 41 Kernel: 5.15 Compiler: clang gcc (GCC) 14.3.1 20250523 (Red Hat 14.3.1-1) CentOS Stream 9 Kernel: 5.15 Compiler: gcc gcc (GCC) 11.5.0 20240719 (Red Hat 11.5.0-11) Ubuntu 22.04 Kernel: 5.15 Compiler: gcc gcc (Ubuntu 11.4.0-1ubuntu1~22.04) 11.4.0 Ubuntu 20.04 Kernel: 5.15 Compiler: gcc gcc (Ubuntu 9.4.0-1ubuntu1~20.04.2) 9.4.0 Fedora Linux 40 Kernel: 5.15 Compiler: gcc gcc (GCC) 14.2.1 20240912 (Red Hat 14.2.1-3) CentOS Stream 10 Kernel: 5.15 Compiler: gcc gcc (GCC) 14.2.1 20250110 (Red Hat 14.2.1-8) Ubuntu 24.04 Kernel: 5.15 Compiler: gcc gcc (Ubuntu 13.3.0-6ubuntu2~24.04) 13.3.0 Red Hat Enterprise Linux 9.5 Kernel: 5.15 Compiler: gcc gcc (GCC) 11.5.0 20240719 (Red Hat 11.5.0-2) Red Hat Enterprise Linux 8.10 Kernel: 5.15 Compiler: gcc gcc (GCC) 8.5.0 20210514 (Red Hat 8.5.0-22) Windows Server 2022 Kernel: 10.0.20348.2031 Compiler: clang 15.0.7, gcc 14.1.0 (MinGW), and MSVC VS 19.39.33521 To view detailed results, visit: https://lab.dpdk.org/results/dashboard/tarballs/35662/ UNH-IOL DPDK Community Lab To manage your email subscriptions, visit: https://lab.dpdk.org/results/dashboard/preferences/subscriptions/