From mboxrd@z Thu Jan 1 00:00:00 1970 Return-Path: Received: from mails.dpdk.org (mails.dpdk.org [217.70.189.124]) by inbox.dpdk.org (Postfix) with ESMTP id 50DDE48B5D for ; Thu, 20 Nov 2025 21:46:17 +0100 (CET) Received: from mails.dpdk.org (localhost [127.0.0.1]) by mails.dpdk.org (Postfix) with ESMTP id 4A75940285; Thu, 20 Nov 2025 21:46:17 +0100 (CET) Received: from mail-qv1-f100.google.com (mail-qv1-f100.google.com [209.85.219.100]) by mails.dpdk.org (Postfix) with ESMTP id CA02D40285 for ; Thu, 20 Nov 2025 21:46:15 +0100 (CET) Received: by mail-qv1-f100.google.com with SMTP id 6a1803df08f44-882360ca0e2so9355556d6.0 for ; Thu, 20 Nov 2025 12:46:15 -0800 (PST) DKIM-Signature: v=1; a=rsa-sha256; c=relaxed/relaxed; d=iol.unh.edu; s=unh-iol; t=1763671575; x=1764276375; darn=dpdk.org; h=references:in-reply-to:cc:to:from:subject:message-id:date:from:to :cc:subject:date:message-id:reply-to; bh=0kzGI5hwYp6k1j1L7FlGbYSttGrB1oVHKtKa2fo2IQI=; b=NLdA8CAfB4ShKk7I540bTMStvNAq7UoSX4us0RxgOWs33irqdN5+ZEk5SeCHSaIN7n 67C/SW1qUNH73KcUzZebYS77YPKUz9ACJ4eruMNmMMXAJhO20ZGUEUDxzZF+4pfHhdV0 sRqZVOkTJYHhlIVJeUecXc6VR9G0TLVS5grDg= X-Google-DKIM-Signature: v=1; a=rsa-sha256; c=relaxed/relaxed; d=1e100.net; s=20230601; t=1763671575; x=1764276375; h=references:in-reply-to:cc:to:from:subject:message-id:date:x-gm-gg :x-gm-message-state:from:to:cc:subject:date:message-id:reply-to; bh=0kzGI5hwYp6k1j1L7FlGbYSttGrB1oVHKtKa2fo2IQI=; b=OBT0RFQEL3h1sn2eG+jJATrKIxX7Q8pDgbX/QRMITOBqgd39Q3FWHiBF3d4ma0lt3c Gmj7cS3zrWhZuwFI1LVZi/Is3GVO14PByKRLFHR5VHJs96fn1+57ON7OyybiWqtjVIJf mX6OBIWUMElKuA7vOXWSGU4rzxRdY1RxgfKMbflabbcmcbmbly3AYQfJaKiz/ptTaGBz ID+Pr5HsMC+NgHAK32aHZnLQchZAt/YVQ9OnXqOZP/iP0+YqXey9BESNY4Dq0LAdHo8J QFcOizFaxg/dSD0kddpUMr+hEDIS0PFt2r4rE7gAVqQ4eEYfBeAkN9ng0z3GO+zgk+p9 Potw== X-Gm-Message-State: AOJu0YzUrtHrdUpSthr4yJhcxRCriwXkXWx+PzjwkwnvbjxJDNLGmPgX V+K7Nvwxp3G3KVVq4PdxhikkGBJnb4NhLcY3WcZIXz/HhY5qKrM7ADbzmklSeHZRMrBquNLD6la ZdsnxyaPrMfhaWxzsaRhQ9R8J8YWCfOjdvHgvwBceEC49 X-Gm-Gg: ASbGnctDHTWBrGRTxYcWH/ivSIKhhdjhoXkWt4NZtZB5uIKnwDa5ySucYnQGJeQUsI+ IU3ZbUgxfgNM10yzV9u0Os5mq/epVmqeqZXRGXXrgc8oJ0HiGyV3F4+6TZINPpUlH3F+eyKoV4p 4IXI32uX3j33X3QNTxwfWQhXz5Zx9sw9sP/cLryakxAQ9JElilJcnDzDmFtotkLv/K5Do25RGIx GTccKDpJ4Krg0ov0cWp/ZnIIlDCG8bWClQf2FeWtI628BfVPddNSc0qFx+8GUfdyiLK5D84Wbe7 COxyagzzI2B/GC2JgidfWKg+LB8iGnsfmYGPuMX8MHa5gqhniSvmpuUZI5npWyz6vQIirrq9pYn RkgE6PyhjPScrxHxHJ/kiFyh5SHyDbMM60uGffPyP4g== X-Google-Smtp-Source: AGHT+IHWVvyQ0tcX1aQ0jy+ugjQz1bpMBKAXUKan50DVeaRXO3FtZ9LhHwK/CrH6Y/X1lf+RPvAu9nnNpXeL X-Received: by 2002:a05:6214:3d86:b0:882:7fa6:c158 with SMTP id 6a1803df08f44-8847a449229mr15223616d6.42.1763671575140; Thu, 20 Nov 2025 12:46:15 -0800 (PST) Received: from postal.iol.unh.edu (postal.iol.unh.edu. [132.177.123.84]) by smtp-relay.gmail.com with ESMTPS id 6a1803df08f44-8846e457db6sm3660636d6.5.2025.11.20.12.46.15 (version=TLS1_2 cipher=ECDHE-ECDSA-AES128-GCM-SHA256 bits=128/128); Thu, 20 Nov 2025 12:46:15 -0800 (PST) X-Relaying-Domain: iol.unh.edu Date: Thu, 20 Nov 2025 12:46:15 -0800 (PST) Message-ID: <691f7e17.050a0220.3c9c7d.2703SMTPIN_ADDED_MISSING@mx.google.com> Received: from [172.21.0.5] (unknown [172.18.0.240]) by postal.iol.unh.edu (Postfix) with ESMTP id D35C26050A61; Thu, 20 Nov 2025 15:46:14 -0500 (EST) Subject: |SUCCESS| pw158935 [PATCH] eal/x86: reduce memcpy code duplication From: dpdklab@iol.unh.edu To: Test Report Cc: dpdk-test-reports@iol.unh.edu In-Reply-To: <20251120114554.950287-1-mb@smartsharesystems.com> References: <20251120114554.950287-1-mb@smartsharesystems.com> Content-Type: text/plain X-BeenThere: test-report@dpdk.org X-Mailman-Version: 2.1.29 Precedence: list List-Id: automatic DPDK test reports List-Unsubscribe: , List-Archive: List-Post: List-Help: List-Subscribe: , Errors-To: test-report-bounces@dpdk.org Test-Label: iol-compile-arm64-testing Test-Status: SUCCESS http://dpdk.org/patch/158935 _Testing PASS_ Submitter: Morten Brorup Date: Thursday, November 20 2025 11:45:54 DPDK git baseline: Repo:dpdk Branch: master CommitID:ef98b88455bf4a7c8b7aa3106a761c9e9270d6a3 158935 --> testing pass Upstream job id: Generic-DPDK-Compile-Meson#446291 Test environment and result as below: +------------------------------+--------------------+ | Environment | dpdk_meson_compile | +==============================+====================+ | Fedora Linux 42 | PASS | +------------------------------+--------------------+ | Debian GNU/Linux 12 | PASS | +------------------------------+--------------------+ | Red Hat Enterprise Linux 9.5 | PASS | +------------------------------+--------------------+ | Ubuntu 22.04 | PASS | +------------------------------+--------------------+ | CentOS Stream 10 | PASS | +------------------------------+--------------------+ | Ubuntu 20.04 | PASS | +------------------------------+--------------------+ | Ubuntu 24.04 | PASS | +------------------------------+--------------------+ | CentOS Stream 9 | PASS | +------------------------------+--------------------+ Fedora Linux 42 Kernel: 5.4 Compiler: clang gcc (GCC) 15.2.1 20250808 (Red Hat 15.2.1-1) Debian GNU/Linux 12 Kernel: 5.4 Compiler: gcc gcc (Debian 12.2.0-14+deb12u1) 12.2.0 Red Hat Enterprise Linux 9.5 Kernel: 5.4 Compiler: gcc gcc (GCC) 11.5.0 20240719 (Red Hat 11.5.0-2) Ubuntu 22.04 Kernel: 5.4 Compiler: gcc gcc (Ubuntu 11.4.0-1ubuntu1~22.04) 11.4.0 CentOS Stream 10 Kernel: 5.4 Compiler: gcc gcc (GCC) 14.2.1 20250110 (Red Hat 14.2.1-8) Ubuntu 20.04 Kernel: 5.4 Compiler: gcc gcc (Ubuntu 9.4.0-1ubuntu1~20.04.2) 9.4.0 Ubuntu 24.04 Kernel: 5.4 Compiler: gcc gcc (Ubuntu 13.3.0-6ubuntu2~24.04) 13.3.0 CentOS Stream 9 Kernel: 5.4 Compiler: gcc gcc (GCC) 11.5.0 20240719 (Red Hat 11.5.0-11) To view detailed results, visit: https://lab.dpdk.org/results/dashboard/patchsets/34645/ UNH-IOL DPDK Community Lab To manage your email subscriptions, visit: https://lab.dpdk.org/results/dashboard/preferences/subscriptions/