From mboxrd@z Thu Jan 1 00:00:00 1970 Return-Path: Received: from mails.dpdk.org (mails.dpdk.org [217.70.189.124]) by inbox.dpdk.org (Postfix) with ESMTP id 7212C48B5D for ; Thu, 20 Nov 2025 21:47:27 +0100 (CET) Received: from mails.dpdk.org (localhost [127.0.0.1]) by mails.dpdk.org (Postfix) with ESMTP id 6C37440285; Thu, 20 Nov 2025 21:47:27 +0100 (CET) Received: from mail-pl1-f226.google.com (mail-pl1-f226.google.com [209.85.214.226]) by mails.dpdk.org (Postfix) with ESMTP id F3EEF40285 for ; Thu, 20 Nov 2025 21:47:25 +0100 (CET) Received: by mail-pl1-f226.google.com with SMTP id d9443c01a7336-29586626fbeso15774645ad.0 for ; Thu, 20 Nov 2025 12:47:25 -0800 (PST) DKIM-Signature: v=1; a=rsa-sha256; c=relaxed/relaxed; d=iol.unh.edu; s=unh-iol; t=1763671645; x=1764276445; darn=dpdk.org; h=references:in-reply-to:cc:to:from:subject:message-id:date:from:to :cc:subject:date:message-id:reply-to; bh=1y/a6BGhAg/Lt9pItycDmJDHxW4yHnQofguyr6i1upc=; b=BpDGeL4tfTXfiASqmDppDMDB08JcFi33Qk1WntVTj4UTk5CsoWgIH2kRP2H864vQUu TYyZ/ymvJX+wgoBLtr9A0R2HKP8jjDXPzMAzuNVl50BUGrxFImMwlwgldfAsl034UM1K lD8mHzdpx28Uzm1sw9HD8U/lurOxy9oe3YOdA= X-Google-DKIM-Signature: v=1; a=rsa-sha256; c=relaxed/relaxed; d=1e100.net; s=20230601; t=1763671645; x=1764276445; h=references:in-reply-to:cc:to:from:subject:message-id:date:x-gm-gg :x-gm-message-state:from:to:cc:subject:date:message-id:reply-to; bh=1y/a6BGhAg/Lt9pItycDmJDHxW4yHnQofguyr6i1upc=; b=phQ1pQWH8JdLlftd71bqnuyK/VWWFY8fS5Cyy0//yt/S22tzqL/XDdhV2daiX/9vXC uWvtzGNMIn2divO1YEFmX19Gf3rFwTNjacs3RdN+Aa4SjA7NKUJWau+98UdVpufRrz10 dhMhL6aHeUQ8fKwQqaw1YVm/7IzUwWbz5trTry5gnxdtIOqKf/P2lhFvv5l4O9OHzwxj wzPs0E5Jgi6IiZJGq86KejvE+Ygb6JMsTbjKcIdnoNbi3lFlCBloJCYo6sQ232sSLFPn Qh7pBgiwt1x3/3cpeGbYSZIKVGbi0T21iaJVo+8Pb0g2Wrj5Phap4le2ZuOKx0vbeOX5 +vbA== X-Gm-Message-State: AOJu0Yxd1xY/6afDXwpdROK6P0MGcgxIukSUL1yr0GWEYvRkQUazHG/M peA2h+R6Rd8I2ntTdxxsChO1kHkUCGRG1XcaR/O0ZSwvvMVeaRNGcKkCYXQfRYuzep7rabBo/oM uJS3DK36BFrcNkSM4ESe3+qFH7GA5c0kySuHSIAiGj9Qo X-Gm-Gg: ASbGncuPqqxrGCEo8YDbcfZd1ib/MvI+7l2lidbvA31XiIS92MJZYKDQZoSbrYw5sWf lVmk/0dmZ2040Or2qa0CwTI9GKGNUJ0yK88UHky9JScb8O4zIPyxams13St/E4hAA5n5mU8Zmwr D+OYQjzUTb44RKiX7nx5CtgMNq6SgvMBbCI/DgB+iS6P99wknwFTnVpBr47CK9fzhiVUjFM6UV/ trRrFknh9cQmA4JhAOWirZJscv3WJINclvKUOSriXmkOg+V1VJ3JkBHFj+7uzQ7u/Ng+fGId0sa xqzo2bmU96DeHI0hw6c/ygSusJ05FBZr1GPVQFIfHgqQ5vsVjJR6KPiPsk8yo6hD7315jfoFw2q TUAIuKuvDquavx+J9mmh4djVjDBymYYeeMaMhSUNZ0Q== X-Google-Smtp-Source: AGHT+IH9YuqfzmaOUuGBPnnwqqbwHN1fvEyf4NgxWJUJFoYMNEpaNS4u+wD/C+ZcmPgAJT0k9gj6BgBBRPW7 X-Received: by 2002:a17:90b:1d85:b0:341:8c8e:38b5 with SMTP id 98e67ed59e1d1-34731c64632mr733337a91.25.1763671644901; Thu, 20 Nov 2025 12:47:24 -0800 (PST) Received: from postal.iol.unh.edu (postal.iol.unh.edu. [132.177.123.84]) by smtp-relay.gmail.com with ESMTPS id 98e67ed59e1d1-34727c3769dsm262626a91.5.2025.11.20.12.47.24 (version=TLS1_2 cipher=ECDHE-ECDSA-AES128-GCM-SHA256 bits=128/128); Thu, 20 Nov 2025 12:47:24 -0800 (PST) X-Relaying-Domain: iol.unh.edu Date: Thu, 20 Nov 2025 12:47:24 -0800 (PST) Message-ID: <691f7e5c.170a0220.189d74.cec8SMTPIN_ADDED_MISSING@mx.google.com> Received: from [172.21.0.2] (unknown [172.18.0.240]) by postal.iol.unh.edu (Postfix) with ESMTP id 276236050A61; Thu, 20 Nov 2025 15:47:24 -0500 (EST) Subject: |SUCCESS| pw158933 [PATCH] drivers/net: fix Tx packet prepare From: dpdklab@iol.unh.edu To: Test Report Cc: dpdk-test-reports@iol.unh.edu, Stephen Hemminger In-Reply-To: <20251119130333.2697937-1-thomas@monjalon.net> References: <20251119130333.2697937-1-thomas@monjalon.net> Content-Type: text/plain X-BeenThere: test-report@dpdk.org X-Mailman-Version: 2.1.29 Precedence: list List-Id: automatic DPDK test reports List-Unsubscribe: , List-Archive: List-Post: List-Help: List-Subscribe: , Errors-To: test-report-bounces@dpdk.org Test-Label: iol-compile-amd64-testing Test-Status: SUCCESS http://dpdk.org/patch/158933 _Testing PASS_ Submitter: Thomas Monjalon Date: Wednesday, November 19 2025 13:03:33 DPDK git baseline: Repo:dpdk-next-net Branch: master CommitID:a544492a05ec5bd542a5d0706b8c466398b8fbb0 158933 --> testing pass Upstream job id: Windows-Compile-DPDK-Native#32539 Test environment and result as below: +-------------------------------+--------------------+------------------+-------------------+-------------------------+ | Environment | dpdk_meson_compile | dpdk_compile_ovs | dpdk_msvc_compile | dpdk_llvm_clang_compile | +===============================+====================+==================+===================+=========================+ | FreeBSD 14.2 | PASS | SKIPPED | SKIPPED | SKIPPED | +-------------------------------+--------------------+------------------+-------------------+-------------------------+ | Ubuntu 22.04 | PASS | SKIPPED | SKIPPED | SKIPPED | +-------------------------------+--------------------+------------------+-------------------+-------------------------+ | CentOS Stream 10 | PASS | SKIPPED | SKIPPED | SKIPPED | +-------------------------------+--------------------+------------------+-------------------+-------------------------+ | Fedora Linux 42 | PASS | PASS | SKIPPED | SKIPPED | +-------------------------------+--------------------+------------------+-------------------+-------------------------+ | CentOS Stream 9 | PASS | SKIPPED | SKIPPED | SKIPPED | +-------------------------------+--------------------+------------------+-------------------+-------------------------+ | Ubuntu 20.04 | PASS | SKIPPED | SKIPPED | SKIPPED | +-------------------------------+--------------------+------------------+-------------------+-------------------------+ | Debian GNU/Linux 12 | PASS | SKIPPED | SKIPPED | SKIPPED | +-------------------------------+--------------------+------------------+-------------------+-------------------------+ | Ubuntu 24.04 | PASS | PASS | SKIPPED | SKIPPED | +-------------------------------+--------------------+------------------+-------------------+-------------------------+ | openSUSE Leap 15.6 | PASS | SKIPPED | SKIPPED | SKIPPED | +-------------------------------+--------------------+------------------+-------------------+-------------------------+ | Red Hat Enterprise Linux 9.5 | PASS | SKIPPED | SKIPPED | SKIPPED | +-------------------------------+--------------------+------------------+-------------------+-------------------------+ | Red Hat Enterprise Linux 8.10 | PASS | SKIPPED | SKIPPED | SKIPPED | +-------------------------------+--------------------+------------------+-------------------+-------------------------+ | Alpine Linux 3.22.0 | PASS | SKIPPED | SKIPPED | SKIPPED | +-------------------------------+--------------------+------------------+-------------------+-------------------------+ | Windows Server 2022 | SKIPPED | SKIPPED | PASS | SKIPPED | +-------------------------------+--------------------+------------------+-------------------+-------------------------+ | Windows Server 2025 | SKIPPED | SKIPPED | SKIPPED | PASS | +-------------------------------+--------------------+------------------+-------------------+-------------------------+ FreeBSD 14.2 Kernel: 14.2-RELEASE Compiler: clang 18.1.6 Ubuntu 22.04 Kernel: 5.15 Compiler: gcc gcc (Ubuntu 11.4.0-1ubuntu1~22.04) 11.4.0 CentOS Stream 10 Kernel: 5.15 Compiler: gcc gcc (GCC) 14.2.1 20250110 (Red Hat 14.2.1-8) Fedora Linux 42 Kernel: 5.15 Compiler: clang gcc (GCC) 15.2.1 20250808 (Red Hat 15.2.1-1) CentOS Stream 9 Kernel: 5.15 Compiler: gcc gcc (GCC) 11.5.0 20240719 (Red Hat 11.5.0-11) Ubuntu 20.04 Kernel: 4.19 Compiler: gcc gcc (Ubuntu 9.4.0-1ubuntu1~20.04.2) 9.4.0 Debian GNU/Linux 12 Kernel: 5.15 Compiler: gcc gcc (Debian 12.2.0-14+deb12u1) 12.2.0 Ubuntu 24.04 Kernel: 5.15 Compiler: gcc gcc (Ubuntu 13.3.0-6ubuntu2~24.04) 13.3.0 openSUSE Leap 15.6 Kernel: 5.15 Compiler: gcc gcc (SUSE Linux) 7.5.0 Red Hat Enterprise Linux 9.5 Kernel: 5.15 Compiler: gcc gcc (GCC) 11.5.0 20240719 (Red Hat 11.5.0-2) Red Hat Enterprise Linux 8.10 Kernel: 5.15 Compiler: gcc gcc (GCC) 8.5.0 20210514 (Red Hat 8.5.0-22) Alpine Linux 3.22.0 Kernel: 5.15 Compiler: gcc gcc (Alpine 14.2.0) 14.2.0 Windows Server 2022 Kernel: 10.0.20348.2031 Compiler: clang 15.0.7, gcc 14.1.0 (MinGW), and MSVC VS 19.39.33521 Windows Server 2025 Kernel: 10.0.26100 Compiler: clang 15.0.7, gcc 14.1.0 (MinGW), and MSVC VS 19.39.33521 To view detailed results, visit: https://lab.dpdk.org/results/dashboard/patchsets/34643/ UNH-IOL DPDK Community Lab To manage your email subscriptions, visit: https://lab.dpdk.org/results/dashboard/preferences/subscriptions/