From mboxrd@z Thu Jan 1 00:00:00 1970 Return-Path: Received: from mails.dpdk.org (mails.dpdk.org [217.70.189.124]) by inbox.dpdk.org (Postfix) with ESMTP id D9AB048B5E for ; Thu, 20 Nov 2025 22:02:00 +0100 (CET) Received: from mails.dpdk.org (localhost [127.0.0.1]) by mails.dpdk.org (Postfix) with ESMTP id D3AD540267; Thu, 20 Nov 2025 22:02:00 +0100 (CET) Received: from mail-il1-f226.google.com (mail-il1-f226.google.com [209.85.166.226]) by mails.dpdk.org (Postfix) with ESMTP id 9B67040267 for ; Thu, 20 Nov 2025 22:01:59 +0100 (CET) Received: by mail-il1-f226.google.com with SMTP id e9e14a558f8ab-43326c74911so7551315ab.2 for ; Thu, 20 Nov 2025 13:01:59 -0800 (PST) DKIM-Signature: v=1; a=rsa-sha256; c=relaxed/relaxed; d=iol.unh.edu; s=unh-iol; t=1763672519; x=1764277319; darn=dpdk.org; h=cc:to:from:subject:message-id:date:from:to:cc:subject:date :message-id:reply-to; bh=Y6qf4dNE8bjEFxiaG6i6acYRcR7A9P8Mf0GptGqyobw=; b=B51IvX2S5RvvsnrcEo56zt6jZxl3QT7c8BZ6t8UeNs5QUyniHsldyBf2diXBq/rfUH FdlzpxoRGrZq9Kam+CnHxBldfxNjrBSXZ3MyWvrE8jfNXUHComOORJt2rFf0PMa719Ay qUmXJA9rbkPM4Kk2NEoQaFMt40OxHiP3V114o= X-Google-DKIM-Signature: v=1; a=rsa-sha256; c=relaxed/relaxed; d=1e100.net; s=20230601; t=1763672519; x=1764277319; h=cc:to:from:subject:message-id:date:x-gm-gg:x-gm-message-state:from :to:cc:subject:date:message-id:reply-to; bh=Y6qf4dNE8bjEFxiaG6i6acYRcR7A9P8Mf0GptGqyobw=; b=k88LF7P6u+rCIN3ZFG9B1ZuVwuOhpWPWvBs1grUDIlP1WBlLyvntuoL4kYTmm/bTVw oKHvJl3X9JizWDYzQdKzoRv7c8n7ArM+2yRV4a7XbnfPSFdLhULieUvTSxtNatTdA6Mw S80dR2aV6AXnVFXeklYd2dP7IVtUcQBE0rGoLzp1XWWF9MebhFZ5evXDW2iUbmxEXRhQ 092XTubTTA28kl0cP2B6xXFNaW95sll5l4XI64PkKrLC7IcmhR4nsbFdNJRtb2elefsr yHKoJ+BRf8L3CnXU9xfXV5VybFEE4HPUiLAqe39kmmG4LP3R3O4C6oetv/U1z9+PE1/w GIVA== X-Gm-Message-State: AOJu0YyBDr2EeFFudLyS8DWQPxItnpzPCH2cO4a3+zYs/GYD0E6S2FZ+ seqDIcIzn0YlZ8cs5sD7OeAEO9DkiH6zcODK56mMLE/u1Arsen7nOINuL/oXK94ruUQMu5LTpqs Fa0FleHYx9eXtwCBV3HTLoNJPkLUjbG5lOHkO X-Gm-Gg: ASbGnct0IVcNAAQ0csMVLjebxqS419dJKYwxXHm2m3M/bBjdanAgDiawwwz82yh0tYQ w7+33gzfkuQqbm6LyDEwhq3Bpab/Vae5q1BGX5g+xnrS++405gtTm8NzozOyqSMyyMrC3J35FTo 3IxalYHR8buYFjb5uLPVmVqaMmqwvjG0RGULsRxiaINDRvm3HDlDhsSd5PPrkxTX8IIqBmFseWc ztYZouKg7FuHpS6RH44C7cEkLoZy7bR8B2cqTA7O/48Op37bqd6ci8SIeNfyBhB8yeXB9m4Rpa0 w0Cc+Qbsw6iCT8wXm75HKbWy/IFS3QMyTCDsH3f0jYHC780GeKhqKsEt9dplc8tKqiN7rqv0is9 qt1pceBpJn8OYgUMvkRjp6tPRU4PbECEoro6ruj+lwg== X-Google-Smtp-Source: AGHT+IFt3kOWPKGJ+D71sYrl91uUq1Jirufq365Z0A0I8RKKj+Lskllg/2/Q0BzXnYDbMaWug4yQ7oLZwTom X-Received: by 2002:a05:6e02:3305:b0:434:96ea:ff71 with SMTP id e9e14a558f8ab-435b8e7b9d3mr1128085ab.33.1763672518738; Thu, 20 Nov 2025 13:01:58 -0800 (PST) Received: from postal.iol.unh.edu (postal.iol.unh.edu. [132.177.123.84]) by smtp-relay.gmail.com with ESMTPS id e9e14a558f8ab-435a905e7d5sm3191115ab.12.2025.11.20.13.01.58 (version=TLS1_2 cipher=ECDHE-ECDSA-AES128-GCM-SHA256 bits=128/128); Thu, 20 Nov 2025 13:01:58 -0800 (PST) X-Relaying-Domain: iol.unh.edu Date: Thu, 20 Nov 2025 13:01:58 -0800 (PST) Message-ID: <691f81c6.050a0220.84f65.fcc3SMTPIN_ADDED_MISSING@mx.google.com> Received: from [172.21.0.4] (unknown [172.18.0.240]) by postal.iol.unh.edu (Postfix) with ESMTP id 0CC146050A61; Thu, 20 Nov 2025 16:01:58 -0500 (EST) Subject: |SUCCESS| [GIT MASTER] 0bd935abcb823f581ce53986986aa54eaf6f8140 From: dpdklab@iol.unh.edu To: Test Report Cc: dpdk-test-reports@iol.unh.edu, Xueming Li , Kevin Traynor , Luca Boccassi Content-Type: text/plain X-BeenThere: test-report@dpdk.org X-Mailman-Version: 2.1.29 Precedence: list List-Id: automatic DPDK test reports List-Unsubscribe: , List-Archive: List-Post: List-Help: List-Subscribe: , Errors-To: test-report-bounces@dpdk.org _Testing PASS_ Branch: tags/v24.11 0bd935abcb823f581ce53986986aa54eaf6f8140 --> testing pass Upstream job id: Generic-VM-Unit-Test-DPDK#32706 Test environment and result as below: +-------------------------------+----------------+ | Environment | dpdk_unit_test | +===============================+================+ | Fedora Linux 42 | PASS | +-------------------------------+----------------+ | Debian GNU/Linux 12 | PASS | +-------------------------------+----------------+ | Fedora Linux 41 | PASS | +-------------------------------+----------------+ | CentOS Stream 9 | PASS | +-------------------------------+----------------+ | Ubuntu 22.04 | PASS | +-------------------------------+----------------+ | Ubuntu 20.04 | PASS | +-------------------------------+----------------+ | Fedora Linux 40 | PASS | +-------------------------------+----------------+ | CentOS Stream 10 | PASS | +-------------------------------+----------------+ | Ubuntu 24.04 | PASS | +-------------------------------+----------------+ | Red Hat Enterprise Linux 9.5 | PASS | +-------------------------------+----------------+ | Red Hat Enterprise Linux 8.10 | PASS | +-------------------------------+----------------+ | Windows Server 2022 | PASS | +-------------------------------+----------------+ Fedora Linux 42 Kernel: 5.15 Compiler: clang gcc (GCC) 15.2.1 20250808 (Red Hat 15.2.1-1) Debian GNU/Linux 12 Kernel: 5.15 Compiler: gcc gcc (Debian 12.2.0-14+deb12u1) 12.2.0 Fedora Linux 41 Kernel: 5.15 Compiler: clang gcc (GCC) 14.3.1 20250523 (Red Hat 14.3.1-1) CentOS Stream 9 Kernel: 5.15 Compiler: gcc gcc (GCC) 11.5.0 20240719 (Red Hat 11.5.0-11) Ubuntu 22.04 Kernel: 5.15 Compiler: gcc gcc (Ubuntu 11.4.0-1ubuntu1~22.04) 11.4.0 Ubuntu 20.04 Kernel: 5.15 Compiler: gcc gcc (Ubuntu 9.4.0-1ubuntu1~20.04.2) 9.4.0 Fedora Linux 40 Kernel: 5.15 Compiler: gcc gcc (GCC) 14.2.1 20240912 (Red Hat 14.2.1-3) CentOS Stream 10 Kernel: 5.15 Compiler: gcc gcc (GCC) 14.2.1 20250110 (Red Hat 14.2.1-8) Ubuntu 24.04 Kernel: 5.15 Compiler: gcc gcc (Ubuntu 13.3.0-6ubuntu2~24.04) 13.3.0 Red Hat Enterprise Linux 9.5 Kernel: 5.15 Compiler: gcc gcc (GCC) 11.5.0 20240719 (Red Hat 11.5.0-2) Red Hat Enterprise Linux 8.10 Kernel: 5.15 Compiler: gcc gcc (GCC) 8.5.0 20210514 (Red Hat 8.5.0-22) Windows Server 2022 Kernel: 10.0.20348.2031 Compiler: clang 15.0.7, gcc 14.1.0 (MinGW), and MSVC VS 19.39.33521 To view detailed results, visit: https://lab.dpdk.org/results/dashboard/tarballs/35662/ UNH-IOL DPDK Community Lab To manage your email subscriptions, visit: https://lab.dpdk.org/results/dashboard/preferences/subscriptions/