From mboxrd@z Thu Jan 1 00:00:00 1970 Return-Path: Received: from mails.dpdk.org (mails.dpdk.org [217.70.189.124]) by inbox.dpdk.org (Postfix) with ESMTP id D8B8048B5E for ; Thu, 20 Nov 2025 22:12:38 +0100 (CET) Received: from mails.dpdk.org (localhost [127.0.0.1]) by mails.dpdk.org (Postfix) with ESMTP id D268340267; Thu, 20 Nov 2025 22:12:38 +0100 (CET) Received: from mail-pl1-f225.google.com (mail-pl1-f225.google.com [209.85.214.225]) by mails.dpdk.org (Postfix) with ESMTP id 6466140267 for ; Thu, 20 Nov 2025 22:12:38 +0100 (CET) Received: by mail-pl1-f225.google.com with SMTP id d9443c01a7336-29845b06dd2so16684445ad.2 for ; Thu, 20 Nov 2025 13:12:38 -0800 (PST) DKIM-Signature: v=1; a=rsa-sha256; c=relaxed/relaxed; d=iol.unh.edu; s=unh-iol; t=1763673157; x=1764277957; darn=dpdk.org; h=references:in-reply-to:cc:to:from:subject:message-id:date:from:to :cc:subject:date:message-id:reply-to; bh=FShkFTvNPaohCp2WMUuzNDyzz7W1QP426iiUvvc7IPY=; b=BbSbUtfbmtlDEi6hpcOZc5E66+dNMrAvLFVgKw0ttqhEERidJgHenf6QgvtMWZJYzS JQz6HONDTslgwj9L3fOUaG70aWc9/bLgvaE22apElSGMawIgChzuidrpBaagveb8ua9T lhYNnWm63WpWoYSHMcXlXLGFAjz1ezMU7d678= X-Google-DKIM-Signature: v=1; a=rsa-sha256; c=relaxed/relaxed; d=1e100.net; s=20230601; t=1763673157; x=1764277957; h=references:in-reply-to:cc:to:from:subject:message-id:date:x-gm-gg :x-gm-message-state:from:to:cc:subject:date:message-id:reply-to; bh=FShkFTvNPaohCp2WMUuzNDyzz7W1QP426iiUvvc7IPY=; b=DRLcKVmHsLoVFfkIMHeAimNYRB/Bjn7+FVlNPm88QGWu6pbMCErDPU6SM9ZhUX/yWD dvEYMIpmDd43WV/situ0rhpOzo/UGGJI3CPFivMBGaGD3bPZzd5BMJMP9q5Rmvdc14LV Wz8uGvfXKcM/WcTghTw7KfgMimHKFzAtYyiAvtQwFc7EXcbhlHuSIgLCilh8alZ3sGnu lk2oUOioEzRHPIbFy0rmVBa0D0kywOFmUHtYSZKxEjRRoBxmOiRMzqK8y13z16na5PMH Kn1b6bRzNUNiGo1/3+Jb0ZNJou6X0yk4UavRppHrHPV7j1oAVd1H5nFASomKQyZINqsO lxDQ== X-Gm-Message-State: AOJu0YzgjCCAKxcvNw/zXfTAIYWA/spO100MQPYqlhovAs39Hjt+6lVW xNogEai8gNx68ZTGl5eajCR5L77zdDNpJN+STEwfxuMle5Qgs8qAiAOQ3keGQW4lgC4hfN2hOa/ UCmglcgcWYLGywWmQQe/4yIXPDc5en2TgTqcPU5HohFkc X-Gm-Gg: ASbGncvNSmktQdyV9jPTWyuPS6mVuDbmVSvOeMP0joir0b8gc+HRHrKqFy6uyJ2wHGj EJwmMjkBW0ZnpUdSjgaaxw5TqCZ+sJ38q1IipJIi3h8mAlTN4inCJGjbqcgj0G6ogLQib/iAfW7 fTIJGbK9IPK9sNHQVXNTCTi1ibN+tEncNiFKTZ3e/bvEYgLSsSP4doC6JMQq/Gc6/0IrakGxs9u PG+tZ7pf++l8Qus/T7FUmfK4j4+BOPyNzZ+q2u6p8y2ZR3KkLa0ytRETXpYxu6eITKOp8aCMPFA RJghPQy5pUmra45pN46xO3pBAOfngGo7Cq34Z+jXFOJgETyUO2f2J0TXLGQu7BfWO8+avQhYk+m 5tXqSVfpzfSv1HzDARB6d8NiYXj9GPWhSVoYtOdwWSQ== X-Google-Smtp-Source: AGHT+IHgsIrRbm5BSOntlAI35Q4IrlQr/XXeSNrq/bIBnwWotfGoAPeziJ2aikEQTvOfJhjAAwB2tKitBU4X X-Received: by 2002:a17:903:1acc:b0:298:43f4:cc4b with SMTP id d9443c01a7336-29b6bee8919mr651135ad.26.1763673157476; Thu, 20 Nov 2025 13:12:37 -0800 (PST) Received: from postal.iol.unh.edu (postal.iol.unh.edu. [132.177.123.84]) by smtp-relay.gmail.com with ESMTPS id d9443c01a7336-29b5b24bc64sm3914855ad.55.2025.11.20.13.12.37 (version=TLS1_2 cipher=ECDHE-ECDSA-AES128-GCM-SHA256 bits=128/128); Thu, 20 Nov 2025 13:12:37 -0800 (PST) X-Relaying-Domain: iol.unh.edu Date: Thu, 20 Nov 2025 13:12:37 -0800 (PST) Message-ID: <691f8445.170a0220.20547b.32c6SMTPIN_ADDED_MISSING@mx.google.com> Received: from [172.21.0.3] (unknown [172.18.0.240]) by postal.iol.unh.edu (Postfix) with ESMTP id E8B0A6051830; Thu, 20 Nov 2025 16:12:36 -0500 (EST) Subject: |SUCCESS| pw158933 [PATCH] drivers/net: fix Tx packet prepare From: dpdklab@iol.unh.edu To: Test Report Cc: dpdk-test-reports@iol.unh.edu, Stephen Hemminger In-Reply-To: <20251119130333.2697937-1-thomas@monjalon.net> References: <20251119130333.2697937-1-thomas@monjalon.net> Content-Type: text/plain X-BeenThere: test-report@dpdk.org X-Mailman-Version: 2.1.29 Precedence: list List-Id: automatic DPDK test reports List-Unsubscribe: , List-Archive: List-Post: List-Help: List-Subscribe: , Errors-To: test-report-bounces@dpdk.org Test-Label: iol-compile-amd64-testing Test-Status: SUCCESS http://dpdk.org/patch/158933 _Testing PASS_ Submitter: Thomas Monjalon Date: Wednesday, November 19 2025 13:03:33 DPDK git baseline: Repo:dpdk-next-net Branch: master CommitID:a544492a05ec5bd542a5d0706b8c466398b8fbb0 158933 --> testing pass Upstream job id: Windows-Compile-DPDK-Native#32540 Test environment and result as below: +-------------------------------+--------------------+------------------+-------------------+-------------------------+----------------------+ | Environment | dpdk_meson_compile | dpdk_compile_ovs | dpdk_msvc_compile | dpdk_llvm_clang_compile | dpdk_mingw64_compile | +===============================+====================+==================+===================+=========================+======================+ | FreeBSD 14.2 | PASS | SKIPPED | SKIPPED | SKIPPED | SKIPPED | +-------------------------------+--------------------+------------------+-------------------+-------------------------+----------------------+ | Ubuntu 22.04 | PASS | SKIPPED | SKIPPED | SKIPPED | SKIPPED | +-------------------------------+--------------------+------------------+-------------------+-------------------------+----------------------+ | CentOS Stream 10 | PASS | SKIPPED | SKIPPED | SKIPPED | SKIPPED | +-------------------------------+--------------------+------------------+-------------------+-------------------------+----------------------+ | Fedora Linux 42 | PASS | PASS | SKIPPED | SKIPPED | SKIPPED | +-------------------------------+--------------------+------------------+-------------------+-------------------------+----------------------+ | CentOS Stream 9 | PASS | SKIPPED | SKIPPED | SKIPPED | SKIPPED | +-------------------------------+--------------------+------------------+-------------------+-------------------------+----------------------+ | Ubuntu 20.04 | PASS | SKIPPED | SKIPPED | SKIPPED | SKIPPED | +-------------------------------+--------------------+------------------+-------------------+-------------------------+----------------------+ | Debian GNU/Linux 12 | PASS | SKIPPED | SKIPPED | SKIPPED | SKIPPED | +-------------------------------+--------------------+------------------+-------------------+-------------------------+----------------------+ | Ubuntu 24.04 | PASS | PASS | SKIPPED | SKIPPED | SKIPPED | +-------------------------------+--------------------+------------------+-------------------+-------------------------+----------------------+ | openSUSE Leap 15.6 | PASS | SKIPPED | SKIPPED | SKIPPED | SKIPPED | +-------------------------------+--------------------+------------------+-------------------+-------------------------+----------------------+ | Red Hat Enterprise Linux 9.5 | PASS | SKIPPED | SKIPPED | SKIPPED | SKIPPED | +-------------------------------+--------------------+------------------+-------------------+-------------------------+----------------------+ | Red Hat Enterprise Linux 8.10 | PASS | SKIPPED | SKIPPED | SKIPPED | SKIPPED | +-------------------------------+--------------------+------------------+-------------------+-------------------------+----------------------+ | Alpine Linux 3.22.0 | PASS | SKIPPED | SKIPPED | SKIPPED | SKIPPED | +-------------------------------+--------------------+------------------+-------------------+-------------------------+----------------------+ | Windows Server 2022 | SKIPPED | SKIPPED | PASS | SKIPPED | PASS | +-------------------------------+--------------------+------------------+-------------------+-------------------------+----------------------+ | Windows Server 2025 | SKIPPED | SKIPPED | SKIPPED | PASS | SKIPPED | +-------------------------------+--------------------+------------------+-------------------+-------------------------+----------------------+ FreeBSD 14.2 Kernel: 14.2-RELEASE Compiler: clang 18.1.6 Ubuntu 22.04 Kernel: 5.15 Compiler: gcc gcc (Ubuntu 11.4.0-1ubuntu1~22.04) 11.4.0 CentOS Stream 10 Kernel: 5.15 Compiler: gcc gcc (GCC) 14.2.1 20250110 (Red Hat 14.2.1-8) Fedora Linux 42 Kernel: 5.15 Compiler: clang gcc (GCC) 15.2.1 20250808 (Red Hat 15.2.1-1) CentOS Stream 9 Kernel: 5.15 Compiler: gcc gcc (GCC) 11.5.0 20240719 (Red Hat 11.5.0-11) Ubuntu 20.04 Kernel: 4.19 Compiler: gcc gcc (Ubuntu 9.4.0-1ubuntu1~20.04.2) 9.4.0 Debian GNU/Linux 12 Kernel: 5.15 Compiler: gcc gcc (Debian 12.2.0-14+deb12u1) 12.2.0 Ubuntu 24.04 Kernel: 5.15 Compiler: gcc gcc (Ubuntu 13.3.0-6ubuntu2~24.04) 13.3.0 openSUSE Leap 15.6 Kernel: 5.15 Compiler: gcc gcc (SUSE Linux) 7.5.0 Red Hat Enterprise Linux 9.5 Kernel: 5.15 Compiler: gcc gcc (GCC) 11.5.0 20240719 (Red Hat 11.5.0-2) Red Hat Enterprise Linux 8.10 Kernel: 5.15 Compiler: gcc gcc (GCC) 8.5.0 20210514 (Red Hat 8.5.0-22) Alpine Linux 3.22.0 Kernel: 5.15 Compiler: gcc gcc (Alpine 14.2.0) 14.2.0 Windows Server 2022 Kernel: 10.0.20348.2031 Compiler: clang 15.0.7, gcc 14.1.0 (MinGW), and MSVC VS 19.39.33521 Windows Server 2025 Kernel: 10.0.26100 Compiler: clang 15.0.7, gcc 14.1.0 (MinGW), and MSVC VS 19.39.33521 To view detailed results, visit: https://lab.dpdk.org/results/dashboard/patchsets/34643/ UNH-IOL DPDK Community Lab To manage your email subscriptions, visit: https://lab.dpdk.org/results/dashboard/preferences/subscriptions/