From mboxrd@z Thu Jan 1 00:00:00 1970 Return-Path: Received: from mails.dpdk.org (mails.dpdk.org [217.70.189.124]) by inbox.dpdk.org (Postfix) with ESMTP id 7F96C48B5E for ; Thu, 20 Nov 2025 22:18:42 +0100 (CET) Received: from mails.dpdk.org (localhost [127.0.0.1]) by mails.dpdk.org (Postfix) with ESMTP id 5C48940267; Thu, 20 Nov 2025 22:18:42 +0100 (CET) Received: from mail-oi1-f225.google.com (mail-oi1-f225.google.com [209.85.167.225]) by mails.dpdk.org (Postfix) with ESMTP id CE6BD40267 for ; Thu, 20 Nov 2025 22:18:41 +0100 (CET) Received: by mail-oi1-f225.google.com with SMTP id 5614622812f47-450ac3ed719so637607b6e.0 for ; Thu, 20 Nov 2025 13:18:41 -0800 (PST) DKIM-Signature: v=1; a=rsa-sha256; c=relaxed/relaxed; d=iol.unh.edu; s=unh-iol; t=1763673521; x=1764278321; darn=dpdk.org; h=references:in-reply-to:cc:to:from:subject:message-id:date:from:to :cc:subject:date:message-id:reply-to; bh=e+qIpUJ/blTkudQ7H7KoeHFFy+VfoIklCFnZOja5gv4=; b=DGeUb8whn7/giWVU3yJsRtFiiybF0PAN0NjWhzQjP5yFo8Mr3ofsa9sqLKq7Xv4zhW +kS9KT5d5XgUaqt0W0I4hJcp8qutxoT0j3JvI469d1r5ZaAo4rPwN4jyk/3XEw4E/GKG svjP0XBAWSq8Rc4JctezCaF0tjo6jDCF59ofo= X-Google-DKIM-Signature: v=1; a=rsa-sha256; c=relaxed/relaxed; d=1e100.net; s=20230601; t=1763673521; x=1764278321; h=references:in-reply-to:cc:to:from:subject:message-id:date:x-gm-gg :x-gm-message-state:from:to:cc:subject:date:message-id:reply-to; bh=e+qIpUJ/blTkudQ7H7KoeHFFy+VfoIklCFnZOja5gv4=; b=hjcd3bWsFOV411NrV/fRm6521A8SxiXad3tXbp2hMR4BmNvp++AFo6zeY6rzCBiDfL a7inAwvDNkTShhJWv1T/eixoDKAywWWnXHZtV2FwERXy8VxdyUYXtAVJVOkNuZP4FpKC NieJKSH3FDGUIf1RRqcN3sqDff1WR8aKJRr4f0lSo19BafdtvzKIoxslhh90iqRMLtID IEhpRi/DOSGLJ1ImfhyaFvZT8/7V0jfrYuU213dYW7zfWZ04TeOeMh7gPoxwfE0w8kN5 jPVlN2Jkl8luPUahw6hhp3pC6Im/pQ0IHk8d3Fd9oP3rTonRe11KK/zcH4yXiKdJvxa+ +Y7A== X-Gm-Message-State: AOJu0Yzb0Mo4Ce+Ks0SjapAVpFtnwJsL/CXtv9cRbKnh1YE8nFlB5y6o MbKSBiwhlBaIMXeK4sWlQsYJianuLwO40PxbtnPCdXBmnW22YwiFHCGZeBeXdDExQfR1q/IjVQ/ nP2WMv7oU9Im330sBk8ts2o2pR4HVFTtldNgZyfHpUC3U X-Gm-Gg: ASbGncvZQzGJkzbgPdopGKHjhAAf+JmoAIQpraguPJtMsOg5T16N4Qi+tCUkfzwulgh /n5btArYZSSNLG4PzA9hyjmtEZFQ3aqXN3m2+nh81nAbvSKQ5LKzRQjpT4+rdyqF+2Iwqz3S47u 6XoFjKuUQxMdFB+N+wFFZ3s2sQ5rdfQ9EJ53cIFo6QjrdfOuWt0J05HiqcK7lPHrw8dLL1dNWQz lKAkadP2eoAkBdRUppnRVGyRIfK9Rxa5mp4GMf5FFJxznL9i1TyjagEk5JDvT/HSOOn05FM92nX jIHbWgDoacEtPf/XC8CpaiYlzTZU7/k4VUy/1nkMdxfMUQlo85OiaJlE+U64dQZTsaFPRI7NA3G TLqzsGZ/0NvJo4nUAI4Au3d8/vvZ1IPLTbyqgBdbf5w== X-Google-Smtp-Source: AGHT+IF9+bVLRyGWrZ5hiLgYZIoUOFwkColOqGZFqZAMs+6c+kghIWuZ5wH0HmCrFm6YjW6AE9st8cObccqs X-Received: by 2002:a05:6808:4489:b0:450:bf96:29e7 with SMTP id 5614622812f47-45112a9e665mr49802b6e.28.1763673520806; Thu, 20 Nov 2025 13:18:40 -0800 (PST) Received: from postal.iol.unh.edu (postal.iol.unh.edu. [132.177.123.84]) by smtp-relay.gmail.com with ESMTPS id 586e51a60fabf-3ec9c2cfe93sm333968fac.4.2025.11.20.13.18.40 (version=TLS1_2 cipher=ECDHE-ECDSA-AES128-GCM-SHA256 bits=128/128); Thu, 20 Nov 2025 13:18:40 -0800 (PST) X-Relaying-Domain: iol.unh.edu Date: Thu, 20 Nov 2025 13:18:40 -0800 (PST) Message-ID: <691f85b0.050a0220.1e124.0f62SMTPIN_ADDED_MISSING@mx.google.com> Received: from [172.21.0.2] (unknown [172.18.0.240]) by postal.iol.unh.edu (Postfix) with ESMTP id 4A77C604D420; Thu, 20 Nov 2025 16:18:40 -0500 (EST) Subject: |SUCCESS| pw158933 [PATCH] drivers/net: fix Tx packet prepare From: dpdklab@iol.unh.edu To: Test Report Cc: dpdk-test-reports@iol.unh.edu, Stephen Hemminger In-Reply-To: <20251119130333.2697937-1-thomas@monjalon.net> References: <20251119130333.2697937-1-thomas@monjalon.net> Content-Type: text/plain X-BeenThere: test-report@dpdk.org X-Mailman-Version: 2.1.29 Precedence: list List-Id: automatic DPDK test reports List-Unsubscribe: , List-Archive: List-Post: List-Help: List-Subscribe: , Errors-To: test-report-bounces@dpdk.org Test-Label: iol-unit-amd64-testing Test-Status: SUCCESS http://dpdk.org/patch/158933 _Testing PASS_ Submitter: Thomas Monjalon Date: Wednesday, November 19 2025 13:03:33 DPDK git baseline: Repo:dpdk-next-net Branch: master CommitID:a544492a05ec5bd542a5d0706b8c466398b8fbb0 158933 --> testing pass Upstream job id: Generic-VM-Unit-Test-DPDK#32707 Test environment and result as below: +-------------------------------+----------------+ | Environment | dpdk_unit_test | +===============================+================+ | CentOS Stream 9 | PASS | +-------------------------------+----------------+ | Red Hat Enterprise Linux 8.10 | PASS | +-------------------------------+----------------+ | Fedora Linux 40 | PASS | +-------------------------------+----------------+ | CentOS Stream 10 | PASS | +-------------------------------+----------------+ | Fedora Linux 42 | PASS | +-------------------------------+----------------+ | Fedora Linux 41 | PASS | +-------------------------------+----------------+ | Debian GNU/Linux 12 | PASS | +-------------------------------+----------------+ | Ubuntu 24.04 | PASS | +-------------------------------+----------------+ | Ubuntu 20.04 | PASS | +-------------------------------+----------------+ | Red Hat Enterprise Linux 9.5 | PASS | +-------------------------------+----------------+ | Ubuntu 22.04 | PASS | +-------------------------------+----------------+ | Windows Server 2022 | PASS | +-------------------------------+----------------+ CentOS Stream 9 Kernel: 5.15 Compiler: gcc gcc (GCC) 11.5.0 20240719 (Red Hat 11.5.0-11) Red Hat Enterprise Linux 8.10 Kernel: 5.15 Compiler: gcc gcc (GCC) 8.5.0 20210514 (Red Hat 8.5.0-22) Fedora Linux 40 Kernel: 5.15 Compiler: clang gcc (GCC) 14.2.1 20240912 (Red Hat 14.2.1-3) CentOS Stream 10 Kernel: 5.15 Compiler: gcc gcc (GCC) 14.2.1 20250110 (Red Hat 14.2.1-8) Fedora Linux 42 Kernel: 5.15 Compiler: clang gcc (GCC) 15.2.1 20250808 (Red Hat 15.2.1-1) Fedora Linux 41 Kernel: 5.15 Compiler: clang gcc (GCC) 14.3.1 20250523 (Red Hat 14.3.1-1) Debian GNU/Linux 12 Kernel: 5.15 Compiler: gcc gcc (Debian 12.2.0-14+deb12u1) 12.2.0 Ubuntu 24.04 Kernel: 5.15 Compiler: gcc gcc (Ubuntu 13.3.0-6ubuntu2~24.04) 13.3.0 Ubuntu 20.04 Kernel: 5.15 Compiler: gcc gcc (Ubuntu 9.4.0-1ubuntu1~20.04.2) 9.4.0 Red Hat Enterprise Linux 9.5 Kernel: 5.15 Compiler: gcc gcc (GCC) 11.5.0 20240719 (Red Hat 11.5.0-2) Ubuntu 22.04 Kernel: 5.15 Compiler: gcc gcc (Ubuntu 11.4.0-1ubuntu1~22.04) 11.4.0 Windows Server 2022 Kernel: 10.0.20348.2031 Compiler: clang 15.0.7, gcc 14.1.0 (MinGW), and MSVC VS 19.39.33521 To view detailed results, visit: https://lab.dpdk.org/results/dashboard/patchsets/34643/ UNH-IOL DPDK Community Lab To manage your email subscriptions, visit: https://lab.dpdk.org/results/dashboard/preferences/subscriptions/