From mboxrd@z Thu Jan 1 00:00:00 1970 Return-Path: Received: from mails.dpdk.org (mails.dpdk.org [217.70.189.124]) by inbox.dpdk.org (Postfix) with ESMTP id 4305248B5E for ; Thu, 20 Nov 2025 22:26:46 +0100 (CET) Received: from mails.dpdk.org (localhost [127.0.0.1]) by mails.dpdk.org (Postfix) with ESMTP id 2341040267; Thu, 20 Nov 2025 22:26:46 +0100 (CET) Received: from mail-io1-f97.google.com (mail-io1-f97.google.com [209.85.166.97]) by mails.dpdk.org (Postfix) with ESMTP id F3D8640267 for ; Thu, 20 Nov 2025 22:26:44 +0100 (CET) Received: by mail-io1-f97.google.com with SMTP id ca18e2360f4ac-94880a46f3fso47501139f.2 for ; Thu, 20 Nov 2025 13:26:44 -0800 (PST) DKIM-Signature: v=1; a=rsa-sha256; c=relaxed/relaxed; d=iol.unh.edu; s=unh-iol; t=1763674004; x=1764278804; darn=dpdk.org; h=references:in-reply-to:cc:to:from:subject:message-id:date:from:to :cc:subject:date:message-id:reply-to; bh=4jacWrCApk2b7/81IjeAEzWivWdLpugBS4hJs6Sx13c=; b=gYxtCRRRZntz2x7jlPTqlmthtrO3wOM8wFPbeobtqEwjbgFjo9k6H08WR6JfWa+Mp2 kwQTi3yJhPnDwE5R/LAvdWEoiUzxxkviwUwrSTcznCoslVHGv9j4xs/SfxjO2PrW4/0/ aZTtztffzVdwg2vxiYUMkgUxP0WvlsVH6owrM= X-Google-DKIM-Signature: v=1; a=rsa-sha256; c=relaxed/relaxed; d=1e100.net; s=20230601; t=1763674004; x=1764278804; h=references:in-reply-to:cc:to:from:subject:message-id:date:x-gm-gg :x-gm-message-state:from:to:cc:subject:date:message-id:reply-to; bh=4jacWrCApk2b7/81IjeAEzWivWdLpugBS4hJs6Sx13c=; b=i07sKlvyckewlYC4BJ6q2jnFFiGtX7tMMONsBWq1Gli1J6foKK32fQT6E+1spsSwgP qDzFaAADLSWI2TWDbqIx9+In/L6HmnPPx67LUxWy1EnsBldvefG2dxOspXK+dwKAjL+7 Tue1YdBPMgcqfupgauJUNqBp/Y9wiqvOFJHwk1rb7wyvMhjSOMPwT8m/xgM+KW1HBeVT QHxe0ap9KSYTdf7/0slIQs64HFWyYu15Ot7vH1HKb/7U22EzoqDS/5MFyyVjL45cCKp2 Wa+u+BpdOIgUEbbHWqDPj4nUonYFCIEvXkxwh2q5NeJyuoa8zCeuLQW0aQwMw3eKmRvz vqZQ== X-Gm-Message-State: AOJu0YwerHshzrjgJ9QPBTKEixa0WwoLSBMt0R3baPLzFzfL/+90kA+g Dx4Aw1+bTJc9I0Aljkp47ElKb2DIiQaNs+vbAH+sJXWaeqEvkQNYo6vhaS4PEAc6ODPbCfclr9J Yv1Vv6OoivCZYHXK1WLAAsiHtbj8eIuP9NCqFXa1bT9be X-Gm-Gg: ASbGncuLJSRIqgE7IxE5wC6Hhcm8ZeFVsW9aK7qmeP2bO01eL1NM+sHPieaOz0Z1cvs AxV/5acBV/95xczbPSq4L+if+IVJj3et3Bob7zwLSAmOI2ZGlQztFpH5nGp3sMdWsCm7oNHeftF 8UIDXE2kiksru2vbQYk+jEpKJq3XY0neo1iB3I65QDKO+6W6Ljbmf2oPpPnHDKLs+awaNC8cJZY 8teA8fI2gKGY7MrqkvVlRq2QxqxBgOGHdjZPc2QMT/u+7Z5IJWSmUYDxDrquwp6yRv879LRHTHZ kBZ35atwnxeBmWw/lWodyjdBmfl3h1ZiBNi6fK0WynlUIbY1+p8PXqYKBVPy2HTqmGp29r1FRqY azzAlu/dg7x8/Pff/3cxPw+8a77Yn6e2E6rA8J584uA== X-Google-Smtp-Source: AGHT+IHD/7IMh99ovHgsaLiGA+cUPzcm1JqUVdg6+3yhjMrYPNgAbNDavKeYA6ZuV1S12pb/pTUi8ElnDtqJ X-Received: by 2002:a05:6638:3d8f:b0:5b7:d710:6624 with SMTP id 8926c6da1cb9f-5b9541d617bmr3827082173.23.1763674004219; Thu, 20 Nov 2025 13:26:44 -0800 (PST) Received: from postal.iol.unh.edu (postal.iol.unh.edu. [132.177.123.84]) by smtp-relay.gmail.com with ESMTPS id 8926c6da1cb9f-5b954b18645sm307799173.30.2025.11.20.13.26.44 (version=TLS1_2 cipher=ECDHE-ECDSA-AES128-GCM-SHA256 bits=128/128); Thu, 20 Nov 2025 13:26:44 -0800 (PST) X-Relaying-Domain: iol.unh.edu Date: Thu, 20 Nov 2025 13:26:44 -0800 (PST) Message-ID: <691f8794.050a0220.19de8a.f384SMTPIN_ADDED_MISSING@mx.google.com> Received: from [172.21.0.3] (unknown [172.18.0.240]) by postal.iol.unh.edu (Postfix) with ESMTP id D639F604D420; Thu, 20 Nov 2025 16:26:43 -0500 (EST) Subject: |SUCCESS| pw158935 [PATCH] eal/x86: reduce memcpy code duplication From: dpdklab@iol.unh.edu To: Test Report Cc: dpdk-test-reports@iol.unh.edu In-Reply-To: <20251120114554.950287-1-mb@smartsharesystems.com> References: <20251120114554.950287-1-mb@smartsharesystems.com> Content-Type: text/plain X-BeenThere: test-report@dpdk.org X-Mailman-Version: 2.1.29 Precedence: list List-Id: automatic DPDK test reports List-Unsubscribe: , List-Archive: List-Post: List-Help: List-Subscribe: , Errors-To: test-report-bounces@dpdk.org Test-Label: iol-compile-amd64-testing Test-Status: SUCCESS http://dpdk.org/patch/158935 _Testing PASS_ Submitter: Morten Brorup Date: Thursday, November 20 2025 11:45:54 DPDK git baseline: Repo:dpdk Branch: master CommitID:ef98b88455bf4a7c8b7aa3106a761c9e9270d6a3 158935 --> testing pass Upstream job id: Windows-Compile-DPDK-Native#32541 Test environment and result as below: +-------------------------------+--------------------+------------------+-------------------+-------------------------+ | Environment | dpdk_meson_compile | dpdk_compile_ovs | dpdk_msvc_compile | dpdk_llvm_clang_compile | +===============================+====================+==================+===================+=========================+ | FreeBSD 14.2 | PASS | SKIPPED | SKIPPED | SKIPPED | +-------------------------------+--------------------+------------------+-------------------+-------------------------+ | Fedora Linux 42 | PASS | PASS | SKIPPED | SKIPPED | +-------------------------------+--------------------+------------------+-------------------+-------------------------+ | Red Hat Enterprise Linux 9.5 | PASS | SKIPPED | SKIPPED | SKIPPED | +-------------------------------+--------------------+------------------+-------------------+-------------------------+ | Red Hat Enterprise Linux 8.10 | PASS | SKIPPED | SKIPPED | SKIPPED | +-------------------------------+--------------------+------------------+-------------------+-------------------------+ | CentOS Stream 9 | PASS | SKIPPED | SKIPPED | SKIPPED | +-------------------------------+--------------------+------------------+-------------------+-------------------------+ | openSUSE Leap 15.6 | PASS | SKIPPED | SKIPPED | SKIPPED | +-------------------------------+--------------------+------------------+-------------------+-------------------------+ | CentOS Stream 10 | PASS | SKIPPED | SKIPPED | SKIPPED | +-------------------------------+--------------------+------------------+-------------------+-------------------------+ | Ubuntu 24.04 | PASS | PASS | SKIPPED | SKIPPED | +-------------------------------+--------------------+------------------+-------------------+-------------------------+ | Debian GNU/Linux 12 | PASS | SKIPPED | SKIPPED | SKIPPED | +-------------------------------+--------------------+------------------+-------------------+-------------------------+ | Ubuntu 22.04 | PASS | SKIPPED | SKIPPED | SKIPPED | +-------------------------------+--------------------+------------------+-------------------+-------------------------+ | Ubuntu 20.04 | PASS | SKIPPED | SKIPPED | SKIPPED | +-------------------------------+--------------------+------------------+-------------------+-------------------------+ | Alpine Linux 3.22.0 | PASS | SKIPPED | SKIPPED | SKIPPED | +-------------------------------+--------------------+------------------+-------------------+-------------------------+ | Windows Server 2022 | SKIPPED | SKIPPED | PASS | SKIPPED | +-------------------------------+--------------------+------------------+-------------------+-------------------------+ | Windows Server 2025 | SKIPPED | SKIPPED | SKIPPED | PASS | +-------------------------------+--------------------+------------------+-------------------+-------------------------+ FreeBSD 14.2 Kernel: 14.2-RELEASE Compiler: clang 18.1.6 Fedora Linux 42 Kernel: 5.15 Compiler: clang gcc (GCC) 15.2.1 20250808 (Red Hat 15.2.1-1) Red Hat Enterprise Linux 9.5 Kernel: 5.15 Compiler: gcc gcc (GCC) 11.5.0 20240719 (Red Hat 11.5.0-2) Red Hat Enterprise Linux 8.10 Kernel: 5.15 Compiler: gcc gcc (GCC) 8.5.0 20210514 (Red Hat 8.5.0-22) CentOS Stream 9 Kernel: 5.15 Compiler: gcc gcc (GCC) 11.5.0 20240719 (Red Hat 11.5.0-11) openSUSE Leap 15.6 Kernel: 5.15 Compiler: gcc gcc (SUSE Linux) 7.5.0 CentOS Stream 10 Kernel: 5.15 Compiler: gcc gcc (GCC) 14.2.1 20250110 (Red Hat 14.2.1-8) Ubuntu 24.04 Kernel: 5.15 Compiler: gcc gcc (Ubuntu 13.3.0-6ubuntu2~24.04) 13.3.0 Debian GNU/Linux 12 Kernel: 5.15 Compiler: gcc gcc (Debian 12.2.0-14+deb12u1) 12.2.0 Ubuntu 22.04 Kernel: 5.15 Compiler: gcc gcc (Ubuntu 11.4.0-1ubuntu1~22.04) 11.4.0 Ubuntu 20.04 Kernel: 4.19 Compiler: gcc gcc (Ubuntu 9.4.0-1ubuntu1~20.04.2) 9.4.0 Alpine Linux 3.22.0 Kernel: 5.15 Compiler: gcc gcc (Alpine 14.2.0) 14.2.0 Windows Server 2022 Kernel: 10.0.20348.2031 Compiler: clang 15.0.7, gcc 14.1.0 (MinGW), and MSVC VS 19.39.33521 Windows Server 2025 Kernel: 10.0.26100 Compiler: clang 15.0.7, gcc 14.1.0 (MinGW), and MSVC VS 19.39.33521 To view detailed results, visit: https://lab.dpdk.org/results/dashboard/patchsets/34645/ UNH-IOL DPDK Community Lab To manage your email subscriptions, visit: https://lab.dpdk.org/results/dashboard/preferences/subscriptions/