From mboxrd@z Thu Jan 1 00:00:00 1970 Return-Path: Received: from mails.dpdk.org (mails.dpdk.org [217.70.189.124]) by inbox.dpdk.org (Postfix) with ESMTP id 7783348B5E for ; Thu, 20 Nov 2025 22:36:43 +0100 (CET) Received: from mails.dpdk.org (localhost [127.0.0.1]) by mails.dpdk.org (Postfix) with ESMTP id 0424840267; Thu, 20 Nov 2025 22:36:43 +0100 (CET) Received: from mail-pf1-f225.google.com (mail-pf1-f225.google.com [209.85.210.225]) by mails.dpdk.org (Postfix) with ESMTP id 1C4DE40267 for ; Thu, 20 Nov 2025 22:36:42 +0100 (CET) Received: by mail-pf1-f225.google.com with SMTP id d2e1a72fcca58-7b8eff36e3bso1990272b3a.2 for ; Thu, 20 Nov 2025 13:36:41 -0800 (PST) DKIM-Signature: v=1; a=rsa-sha256; c=relaxed/relaxed; d=iol.unh.edu; s=unh-iol; t=1763674601; x=1764279401; darn=dpdk.org; h=references:in-reply-to:cc:to:from:subject:message-id:date:from:to :cc:subject:date:message-id:reply-to; bh=nWFvt0xyMInAgJ8QQiOPCHyjUV4L08XkEgCMzNvAl7M=; b=BB+/hsTE0ywi/jfakcCGSHV8c0CT++hFnKOimkscQWKxbzt88IHEaznPY+ivl+kyWh pluADamb9jrpMdhCTEVuxhJn4fOEeHHQtZ+L2hRgBM4r/p+P+upvnNhoKluH9D8VlPAM 3QlE2lpJp+v7+lFrAV0HO8hHRhZl8JhUZQu2A= X-Google-DKIM-Signature: v=1; a=rsa-sha256; c=relaxed/relaxed; d=1e100.net; s=20230601; t=1763674601; x=1764279401; h=references:in-reply-to:cc:to:from:subject:message-id:date:x-gm-gg :x-gm-message-state:from:to:cc:subject:date:message-id:reply-to; bh=nWFvt0xyMInAgJ8QQiOPCHyjUV4L08XkEgCMzNvAl7M=; b=vE56T7tbwEvrnQT8Wchrt6DEyYUVz3svfPzmcl4bPGZT2BbNlpaJkzwMUvvUq+scW6 jIW30tdcYaI/hyJMRA1ftcznR10id8BKE/GEWEAC2JFbeul5lQi5d18t6guO2xfGcb0U fdXXAdFUUt2Gf3LaGnmOfa1LUtlzSE0qfNDqVP5MNYOxZSBPRaWK1DDMqUtTyjYByA0o v/Nxc68tCz2OFFnJMs9hmKd/dYEWcpDjPdjId2Gv1zngmAfZ7lfnH3EUa29q71YTWbV+ T4fAEk7xsOlkk+5xwcQrkmFJrwcyLOd3/k24zWKbLGIyPCYwk8mZVdX8o9cz2wDsN2X/ 6uwQ== X-Gm-Message-State: AOJu0Yx4CWMLxGTz7Wxb++1Zca/NBiQef8kCekT+gXGQJKLqLS3u9OVR YRkGZv+u6xsehQIvemWVvBvSudWGrWOaIqG8dwc/0o2AM4dmofFmq4meuxUv/KRxUCKfoyOWbiJ LcT1O//CpL+V8RaTjPSN2OxVg1QP5XzR34AvO+ZXSNgal X-Gm-Gg: ASbGnctJI8mGdduqLRZa1o3goJ/G9yWcxp5mChrHTSaEnk6xB4jvs8oEzZeNiv1G/vW y3WrOXKgn7VcU+8L+RvXrXcJ4l7JTXMYp4+5ZEOULZT3aWUNvQOsdpS3HJJV28Z2a/Ss24inxQe kUXs1zDflYFP0AYWQcv7Fko1w+UJEcUBWysxKTmRHeZjHmeFQwUAYTJ83yT3J8+b79JaaHOkf6o jtiENfQvu5+7l87DQUlGOofrI0QADDrwB7jYOqofw4Orv6gon+pGNUImLAwU316t7Oz+5PjsWp8 6Ekerpt7dECa7HNwH3x2lYiNRyafNbE3srKaAFpNZ0afz08+rHCSgkCDSdNODsRV9VQG7gbsvWU qlwZ7stBm2Zl6B0fIWst4pxfvxavkUs1gGOjVHkkhrg== X-Google-Smtp-Source: AGHT+IEbkBDQnD4Rj6wuPDNBgupe7LoDWl2CzENbeQMLSsC98rQhjD0UcP4s4uj4b8KE9krvbAP9jUhb11tv X-Received: by 2002:a05:7022:2494:b0:119:e56b:c746 with SMTP id a92af1059eb24-11c9380da06mr2463028c88.11.1763674600947; Thu, 20 Nov 2025 13:36:40 -0800 (PST) Received: from postal.iol.unh.edu (postal.iol.unh.edu. [132.177.123.84]) by smtp-relay.gmail.com with ESMTPS id a92af1059eb24-11c93e43731sm419155c88.7.2025.11.20.13.36.40 (version=TLS1_2 cipher=ECDHE-ECDSA-AES128-GCM-SHA256 bits=128/128); Thu, 20 Nov 2025 13:36:40 -0800 (PST) X-Relaying-Domain: iol.unh.edu Date: Thu, 20 Nov 2025 13:36:40 -0800 (PST) Message-ID: <691f89e8.050a0220.313744.5990SMTPIN_ADDED_MISSING@mx.google.com> Received: from [172.21.0.3] (unknown [172.18.0.240]) by postal.iol.unh.edu (Postfix) with ESMTP id 48875604D420; Thu, 20 Nov 2025 16:36:40 -0500 (EST) Subject: |SUCCESS| pw158933 [PATCH] drivers/net: fix Tx packet prepare From: dpdklab@iol.unh.edu To: Test Report Cc: dpdk-test-reports@iol.unh.edu, Stephen Hemminger In-Reply-To: <20251119130333.2697937-1-thomas@monjalon.net> References: <20251119130333.2697937-1-thomas@monjalon.net> Content-Type: text/plain X-BeenThere: test-report@dpdk.org X-Mailman-Version: 2.1.29 Precedence: list List-Id: automatic DPDK test reports List-Unsubscribe: , List-Archive: List-Post: List-Help: List-Subscribe: , Errors-To: test-report-bounces@dpdk.org Test-Label: iol-unit-amd64-testing Test-Status: SUCCESS http://dpdk.org/patch/158933 _Testing PASS_ Submitter: Thomas Monjalon Date: Wednesday, November 19 2025 13:03:33 DPDK git baseline: Repo:dpdk-next-net Branch: master CommitID:a544492a05ec5bd542a5d0706b8c466398b8fbb0 158933 --> testing pass Upstream job id: Generic-VM-Unit-Test-DPDK#32708 Test environment and result as below: +-------------------------------+----------------+ | Environment | dpdk_unit_test | +===============================+================+ | CentOS Stream 9 | PASS | +-------------------------------+----------------+ | Red Hat Enterprise Linux 8.10 | PASS | +-------------------------------+----------------+ | Fedora Linux 40 | PASS | +-------------------------------+----------------+ | CentOS Stream 10 | PASS | +-------------------------------+----------------+ | Fedora Linux 42 | PASS | +-------------------------------+----------------+ | Fedora Linux 41 | PASS | +-------------------------------+----------------+ | Debian GNU/Linux 12 | PASS | +-------------------------------+----------------+ | Ubuntu 24.04 | PASS | +-------------------------------+----------------+ | Ubuntu 20.04 | PASS | +-------------------------------+----------------+ | Red Hat Enterprise Linux 9.5 | PASS | +-------------------------------+----------------+ | Ubuntu 22.04 | PASS | +-------------------------------+----------------+ | Windows Server 2022 | PASS | +-------------------------------+----------------+ CentOS Stream 9 Kernel: 5.15 Compiler: gcc gcc (GCC) 11.5.0 20240719 (Red Hat 11.5.0-11) Red Hat Enterprise Linux 8.10 Kernel: 5.15 Compiler: gcc gcc (GCC) 8.5.0 20210514 (Red Hat 8.5.0-22) Fedora Linux 40 Kernel: 5.15 Compiler: clang gcc (GCC) 14.2.1 20240912 (Red Hat 14.2.1-3) CentOS Stream 10 Kernel: 5.15 Compiler: gcc gcc (GCC) 14.2.1 20250110 (Red Hat 14.2.1-8) Fedora Linux 42 Kernel: 5.15 Compiler: clang gcc (GCC) 15.2.1 20250808 (Red Hat 15.2.1-1) Fedora Linux 41 Kernel: 5.15 Compiler: clang gcc (GCC) 14.3.1 20250523 (Red Hat 14.3.1-1) Debian GNU/Linux 12 Kernel: 5.15 Compiler: gcc gcc (Debian 12.2.0-14+deb12u1) 12.2.0 Ubuntu 24.04 Kernel: 5.15 Compiler: gcc gcc (Ubuntu 13.3.0-6ubuntu2~24.04) 13.3.0 Ubuntu 20.04 Kernel: 5.15 Compiler: gcc gcc (Ubuntu 9.4.0-1ubuntu1~20.04.2) 9.4.0 Red Hat Enterprise Linux 9.5 Kernel: 5.15 Compiler: gcc gcc (GCC) 11.5.0 20240719 (Red Hat 11.5.0-2) Ubuntu 22.04 Kernel: 5.15 Compiler: gcc gcc (Ubuntu 11.4.0-1ubuntu1~22.04) 11.4.0 Windows Server 2022 Kernel: 10.0.20348.2031 Compiler: clang 15.0.7, gcc 14.1.0 (MinGW), and MSVC VS 19.39.33521 To view detailed results, visit: https://lab.dpdk.org/results/dashboard/patchsets/34643/ UNH-IOL DPDK Community Lab To manage your email subscriptions, visit: https://lab.dpdk.org/results/dashboard/preferences/subscriptions/