From mboxrd@z Thu Jan 1 00:00:00 1970 Return-Path: Received: from mails.dpdk.org (mails.dpdk.org [217.70.189.124]) by inbox.dpdk.org (Postfix) with ESMTP id 18AE748B5E for ; Thu, 20 Nov 2025 22:36:48 +0100 (CET) Received: from mails.dpdk.org (localhost [127.0.0.1]) by mails.dpdk.org (Postfix) with ESMTP id 1505C40267; Thu, 20 Nov 2025 22:36:48 +0100 (CET) Received: from mail-pl1-f228.google.com (mail-pl1-f228.google.com [209.85.214.228]) by mails.dpdk.org (Postfix) with ESMTP id 8AA00402A1 for ; Thu, 20 Nov 2025 22:36:43 +0100 (CET) Received: by mail-pl1-f228.google.com with SMTP id d9443c01a7336-299d40b0845so21771635ad.3 for ; Thu, 20 Nov 2025 13:36:43 -0800 (PST) DKIM-Signature: v=1; a=rsa-sha256; c=relaxed/relaxed; d=iol.unh.edu; s=unh-iol; t=1763674603; x=1764279403; darn=dpdk.org; h=references:in-reply-to:cc:to:from:subject:message-id:date:from:to :cc:subject:date:message-id:reply-to; bh=SJvvX7OlR8/F6uMQ9VUcTVk1PwuxGWfXx8h+w3V8zzY=; b=T20EHG4YN8tT6SYBLQAEzknr/9RumQQoijU6Hd6+rJIa0bXs2MPYFqqUmUN5ek7vYe 9KEhT3nd1q5gL7knPhVcMaGznIXrUTYGoJTx+ySWPhZSnhCD6nEyeueL5O5dZLqC2zXT tqxQyUr1o9XJd+A1oP1wMiGpf3NCQmAnUYiII= X-Google-DKIM-Signature: v=1; a=rsa-sha256; c=relaxed/relaxed; d=1e100.net; s=20230601; t=1763674603; x=1764279403; h=references:in-reply-to:cc:to:from:subject:message-id:date:x-gm-gg :x-gm-message-state:from:to:cc:subject:date:message-id:reply-to; bh=SJvvX7OlR8/F6uMQ9VUcTVk1PwuxGWfXx8h+w3V8zzY=; b=sVx30HJe2hPAvsrVVOVVToAO5NbGntBBrWHJVxs4NbhFiol6Fk7wVpo380xGb1r3Gv +idL8xgZUjGARBhcyAMti846zpHDCTvc74pnK0EjPxgnrF94l5gEykzNECkVGEAZ8X62 M1q3PT1/7OuP9gABr23XB8aBttep3gVuJrqzq9z+ZMT9QCvTkgKvMV2w2/Aw3F4Nyql2 pM0Z+/hcuBMTjJMg0vRd9i8Ex755QilH4d86z3j4xMo0iaLytrCFBHIU0GIW3fI+gQIG ZThNyRmgHZv815xTThiEpUDbhgZ7YJfoWVVaKYabBipru825KTga71iDFiwoSeWnjmdT NBZQ== X-Gm-Message-State: AOJu0YxsyTgWJqwt59v9ihfZcQ4ZuTDVXr2LJg1dCXGWa9O1cYTu8Hq9 3SdDKe9bxw27ZgDccSPMrBhBTy+fuOzn0enMF+XwSxxXdLQoa3dkTjXyjotVDCUO2nkJyPqTZgO evPivkKlaO1ZCuKHUMxJokuhHZzmTB1VWP1xNq/nVEQNKc1lZRPf1aENjH8vc X-Gm-Gg: ASbGncsY6INkTJYWWKxFqoKBwvUdo1Gbl3agjvPCd4lw6vv5fc8T+w0b39cbC2hU8Xw FkKi6/yAkzHZZ3V1z9HjMCidBu0PenipMRrJRf6XEJTMCthNZnN2F986nsB65WkuTdp/jfXa845 zQFjhc4pG9NNenY+W2bNTa0d5uRN0Pz20S39EXRIzCbu7nPrG320dbcct6sK30+Q16IQYLwM/Lp Atb3J8Rw0+lGJyG/48N/ayIwTAubFlxZRqb51QcY1IuNMbjSZ9u2mhUaroZaWFF9Qkw3mmF6kc5 GipaCID7MJ6NmYCEUZ62iWqZGXHDC07b0AwDeU+ZHG61QOwLJz9bm1kKmqmdKfZJ3AnsiY4B/ZQ dE9jecfPcMnlttoprWR4= X-Google-Smtp-Source: AGHT+IHPYW+xlQM1wsa+zVqXO2e3/Qtvp3A/i6VHiNgdPn6Z/saw/NQzAfgbIAf4whpUENRPTchbh9fOXA4I X-Received: by 2002:a17:903:1a8e:b0:298:46a9:df1f with SMTP id d9443c01a7336-29b6be78429mr1692095ad.12.1763674602674; Thu, 20 Nov 2025 13:36:42 -0800 (PST) Received: from postal.iol.unh.edu (postal.iol.unh.edu. [2606:4100:3880:1234::84]) by smtp-relay.gmail.com with ESMTPS id d9443c01a7336-29b5b15830asm3846145ad.26.2025.11.20.13.36.42 (version=TLS1_2 cipher=ECDHE-ECDSA-AES128-GCM-SHA256 bits=128/128); Thu, 20 Nov 2025 13:36:42 -0800 (PST) X-Relaying-Domain: iol.unh.edu Date: Thu, 20 Nov 2025 13:36:42 -0800 (PST) Message-ID: <691f89ea.170a0220.b6983.3111SMTPIN_ADDED_MISSING@mx.google.com> Received: from [172.21.0.4] (unknown [172.18.0.240]) by postal.iol.unh.edu (Postfix) with ESMTP id 20713604D420; Thu, 20 Nov 2025 16:36:42 -0500 (EST) Subject: |SUCCESS| pw158935 [PATCH] eal/x86: reduce memcpy code duplication From: dpdklab@iol.unh.edu To: Test Report Cc: dpdk-test-reports@iol.unh.edu In-Reply-To: <20251120114554.950287-1-mb@smartsharesystems.com> References: <20251120114554.950287-1-mb@smartsharesystems.com> Content-Type: text/plain X-BeenThere: test-report@dpdk.org X-Mailman-Version: 2.1.29 Precedence: list List-Id: automatic DPDK test reports List-Unsubscribe: , List-Archive: List-Post: List-Help: List-Subscribe: , Errors-To: test-report-bounces@dpdk.org Test-Label: iol-compile-amd64-testing Test-Status: SUCCESS http://dpdk.org/patch/158935 _Testing PASS_ Submitter: Morten Brorup Date: Thursday, November 20 2025 11:45:54 DPDK git baseline: Repo:dpdk Branch: master CommitID:ef98b88455bf4a7c8b7aa3106a761c9e9270d6a3 158935 --> testing pass Upstream job id: Windows-Compile-DPDK-Native#32542 Test environment and result as below: +-------------------------------+--------------------+------------------+-------------------+-------------------------+----------------------+ | Environment | dpdk_meson_compile | dpdk_compile_ovs | dpdk_msvc_compile | dpdk_llvm_clang_compile | dpdk_mingw64_compile | +===============================+====================+==================+===================+=========================+======================+ | FreeBSD 14.2 | PASS | SKIPPED | SKIPPED | SKIPPED | SKIPPED | +-------------------------------+--------------------+------------------+-------------------+-------------------------+----------------------+ | Fedora Linux 42 | PASS | PASS | SKIPPED | SKIPPED | SKIPPED | +-------------------------------+--------------------+------------------+-------------------+-------------------------+----------------------+ | Red Hat Enterprise Linux 9.5 | PASS | SKIPPED | SKIPPED | SKIPPED | SKIPPED | +-------------------------------+--------------------+------------------+-------------------+-------------------------+----------------------+ | Red Hat Enterprise Linux 8.10 | PASS | SKIPPED | SKIPPED | SKIPPED | SKIPPED | +-------------------------------+--------------------+------------------+-------------------+-------------------------+----------------------+ | CentOS Stream 9 | PASS | SKIPPED | SKIPPED | SKIPPED | SKIPPED | +-------------------------------+--------------------+------------------+-------------------+-------------------------+----------------------+ | openSUSE Leap 15.6 | PASS | SKIPPED | SKIPPED | SKIPPED | SKIPPED | +-------------------------------+--------------------+------------------+-------------------+-------------------------+----------------------+ | CentOS Stream 10 | PASS | SKIPPED | SKIPPED | SKIPPED | SKIPPED | +-------------------------------+--------------------+------------------+-------------------+-------------------------+----------------------+ | Ubuntu 24.04 | PASS | PASS | SKIPPED | SKIPPED | SKIPPED | +-------------------------------+--------------------+------------------+-------------------+-------------------------+----------------------+ | Debian GNU/Linux 12 | PASS | SKIPPED | SKIPPED | SKIPPED | SKIPPED | +-------------------------------+--------------------+------------------+-------------------+-------------------------+----------------------+ | Ubuntu 22.04 | PASS | SKIPPED | SKIPPED | SKIPPED | SKIPPED | +-------------------------------+--------------------+------------------+-------------------+-------------------------+----------------------+ | Ubuntu 20.04 | PASS | SKIPPED | SKIPPED | SKIPPED | SKIPPED | +-------------------------------+--------------------+------------------+-------------------+-------------------------+----------------------+ | Alpine Linux 3.22.0 | PASS | SKIPPED | SKIPPED | SKIPPED | SKIPPED | +-------------------------------+--------------------+------------------+-------------------+-------------------------+----------------------+ | Windows Server 2022 | SKIPPED | SKIPPED | PASS | SKIPPED | PASS | +-------------------------------+--------------------+------------------+-------------------+-------------------------+----------------------+ | Windows Server 2025 | SKIPPED | SKIPPED | SKIPPED | PASS | SKIPPED | +-------------------------------+--------------------+------------------+-------------------+-------------------------+----------------------+ FreeBSD 14.2 Kernel: 14.2-RELEASE Compiler: clang 18.1.6 Fedora Linux 42 Kernel: 5.15 Compiler: clang gcc (GCC) 15.2.1 20250808 (Red Hat 15.2.1-1) Red Hat Enterprise Linux 9.5 Kernel: 5.15 Compiler: gcc gcc (GCC) 11.5.0 20240719 (Red Hat 11.5.0-2) Red Hat Enterprise Linux 8.10 Kernel: 5.15 Compiler: gcc gcc (GCC) 8.5.0 20210514 (Red Hat 8.5.0-22) CentOS Stream 9 Kernel: 5.15 Compiler: gcc gcc (GCC) 11.5.0 20240719 (Red Hat 11.5.0-11) openSUSE Leap 15.6 Kernel: 5.15 Compiler: gcc gcc (SUSE Linux) 7.5.0 CentOS Stream 10 Kernel: 5.15 Compiler: gcc gcc (GCC) 14.2.1 20250110 (Red Hat 14.2.1-8) Ubuntu 24.04 Kernel: 5.15 Compiler: gcc gcc (Ubuntu 13.3.0-6ubuntu2~24.04) 13.3.0 Debian GNU/Linux 12 Kernel: 5.15 Compiler: gcc gcc (Debian 12.2.0-14+deb12u1) 12.2.0 Ubuntu 22.04 Kernel: 5.15 Compiler: gcc gcc (Ubuntu 11.4.0-1ubuntu1~22.04) 11.4.0 Ubuntu 20.04 Kernel: 4.19 Compiler: gcc gcc (Ubuntu 9.4.0-1ubuntu1~20.04.2) 9.4.0 Alpine Linux 3.22.0 Kernel: 5.15 Compiler: gcc gcc (Alpine 14.2.0) 14.2.0 Windows Server 2022 Kernel: 10.0.20348.2031 Compiler: clang 15.0.7, gcc 14.1.0 (MinGW), and MSVC VS 19.39.33521 Windows Server 2025 Kernel: 10.0.26100 Compiler: clang 15.0.7, gcc 14.1.0 (MinGW), and MSVC VS 19.39.33521 To view detailed results, visit: https://lab.dpdk.org/results/dashboard/patchsets/34645/ UNH-IOL DPDK Community Lab To manage your email subscriptions, visit: https://lab.dpdk.org/results/dashboard/preferences/subscriptions/