From mboxrd@z Thu Jan 1 00:00:00 1970 Return-Path: Received: from mails.dpdk.org (mails.dpdk.org [217.70.189.124]) by inbox.dpdk.org (Postfix) with ESMTP id 53C9248B5E for ; Thu, 20 Nov 2025 22:50:37 +0100 (CET) Received: from mails.dpdk.org (localhost [127.0.0.1]) by mails.dpdk.org (Postfix) with ESMTP id 4256C40267; Thu, 20 Nov 2025 22:50:37 +0100 (CET) Received: from mail-qv1-f99.google.com (mail-qv1-f99.google.com [209.85.219.99]) by mails.dpdk.org (Postfix) with ESMTP id 1500940267 for ; Thu, 20 Nov 2025 22:50:36 +0100 (CET) Received: by mail-qv1-f99.google.com with SMTP id 6a1803df08f44-88245cc8c92so10389406d6.0 for ; Thu, 20 Nov 2025 13:50:36 -0800 (PST) DKIM-Signature: v=1; a=rsa-sha256; c=relaxed/relaxed; d=iol.unh.edu; s=unh-iol; t=1763675435; x=1764280235; darn=dpdk.org; h=references:in-reply-to:cc:to:from:subject:message-id:date:from:to :cc:subject:date:message-id:reply-to; bh=+wX8zuWiEazBdkg3eEb/UY983+6wH/+1hcfFvULKBWw=; b=eAGJHtvou38Ve9pSGG1xFbBCAqQMsbdM12zzc8olNwcYfJ/tDBwqAfK/WyorslkaAB UFmdKoQ/+dnchOOySyQhcBsR4fVIwuy7zeI0i37746jw/jX1eXPSaSx6ZQAe7jYfBp7m IU5oAtBsMbPLq2+teIMZrhPA3I5NYLi0r7Q0w= X-Google-DKIM-Signature: v=1; a=rsa-sha256; c=relaxed/relaxed; d=1e100.net; s=20230601; t=1763675435; x=1764280235; h=references:in-reply-to:cc:to:from:subject:message-id:date:x-gm-gg :x-gm-message-state:from:to:cc:subject:date:message-id:reply-to; bh=+wX8zuWiEazBdkg3eEb/UY983+6wH/+1hcfFvULKBWw=; b=Q7HSnXyxVCiqO3UWsz0BX+BCr2JAUpTyzQD476TKWxE6ekdqWU8MrPhx+KBp1av7Qe 24fhaar3ZvrExbLajePjXaZKbfOmv3mzkYVITaITCE4pxgoRqcMyGOlCIefs0pDhbZIS 5QKqohNc4Tt0ngpS8frI1VloiP+k2QY448MoML7uOMd1DxZREhIC8LdncmuPa35tolt1 1mIU+DmruHLLaoYqxMFjokF2qj5YvjiLf5m7WL3egXIfz1XIgrxFJD9lhoHArf3iAI1d AqcDuJKnQvGXPHVbbcZZmVft0CiwwpvqJVjTZzl/gOzJv4m4gTcjvNrQA6E8PQ950sme e+NQ== X-Gm-Message-State: AOJu0Yx4dqd1nzZaUytdXPIMkYg4xZSPR16K/YSvzlTyYY4C3zoqCvXV QDzHmtQcn/zUcDbpWbBR5nS2q6sVu2v8u88bwwpO8s6z0MPhnKTSqcca6iVIbhFmNq/PkqcqS9r JaGU1rOUclOCjpdFkssa6aU3/GNAFWMKwKJRAGNIOUZRf X-Gm-Gg: ASbGncvqwG/+VhmuNrwralznXUjf9lvtlQv/vrgb+8imS35cGN0F7TnDrI54xzQ0MqC xgvyk+gUmOfhkmRKNFQGAq0XXdLUbcY0awhMKDKcx1Kb2EhGhi/XxQl2JuJpBow/Ly0CR8mQeoB 9qo2ckdLslklGGJoAEZc7vP7EkKQTG8/VD06i7lv0mcnrNYViDys8ettuoM5fsXWsb8Q6hBBaPX J5DWtDfy0c+ZZduz/+KMUmFumTQmEDvz84baYJ7Nrh603lm5WLJ+ZfPNjP5Iq9BAh6wBRww+JyD CLXnmXSUaJN5w+4XkhiqjYHc+ywD3RfzXyZxl3YXpJhHYoM3+E87PfcJXFiYD9WRnrpW7WJ/daD oLMY589Xno1RkF4dw3nwBA7AQNENhq1NjexrCheKikA== X-Google-Smtp-Source: AGHT+IFtaF9rql2mWTa0JPwUPIF1LT5u2W+jnHNBUwV9eS7quihjryneyTONBRsFKpUpHB/nBqtXMYTRoowg X-Received: by 2002:a05:6214:45a0:b0:87c:2bd7:ae3d with SMTP id 6a1803df08f44-8847c53f4cemr784546d6.36.1763675435374; Thu, 20 Nov 2025 13:50:35 -0800 (PST) Received: from postal.iol.unh.edu (postal.iol.unh.edu. [132.177.123.84]) by smtp-relay.gmail.com with ESMTPS id 6a1803df08f44-8846e576503sm3608116d6.17.2025.11.20.13.50.35 (version=TLS1_2 cipher=ECDHE-ECDSA-AES128-GCM-SHA256 bits=128/128); Thu, 20 Nov 2025 13:50:35 -0800 (PST) X-Relaying-Domain: iol.unh.edu Date: Thu, 20 Nov 2025 13:50:35 -0800 (PST) Message-ID: <691f8d2b.050a0220.2d408a.1c2aSMTPIN_ADDED_MISSING@mx.google.com> Received: from [172.21.0.2] (unknown [172.18.0.240]) by postal.iol.unh.edu (Postfix) with ESMTP id 1D16B604D420; Thu, 20 Nov 2025 16:50:35 -0500 (EST) Subject: |SUCCESS| pw158935 [PATCH] eal/x86: reduce memcpy code duplication From: dpdklab@iol.unh.edu To: Test Report Cc: dpdk-test-reports@iol.unh.edu In-Reply-To: <20251120114554.950287-1-mb@smartsharesystems.com> References: <20251120114554.950287-1-mb@smartsharesystems.com> Content-Type: text/plain X-BeenThere: test-report@dpdk.org X-Mailman-Version: 2.1.29 Precedence: list List-Id: automatic DPDK test reports List-Unsubscribe: , List-Archive: List-Post: List-Help: List-Subscribe: , Errors-To: test-report-bounces@dpdk.org Test-Label: iol-unit-amd64-testing Test-Status: SUCCESS http://dpdk.org/patch/158935 _Testing PASS_ Submitter: Morten Brorup Date: Thursday, November 20 2025 11:45:54 DPDK git baseline: Repo:dpdk Branch: master CommitID:ef98b88455bf4a7c8b7aa3106a761c9e9270d6a3 158935 --> testing pass Upstream job id: Generic-VM-Unit-Test-DPDK#32709 Test environment and result as below: +-------------------------------+----------------+ | Environment | dpdk_unit_test | +===============================+================+ | Red Hat Enterprise Linux 9.5 | PASS | +-------------------------------+----------------+ | Ubuntu 22.04 | PASS | +-------------------------------+----------------+ | Fedora Linux 42 | PASS | +-------------------------------+----------------+ | CentOS Stream 9 | PASS | +-------------------------------+----------------+ | Ubuntu 24.04 | PASS | +-------------------------------+----------------+ | Debian GNU/Linux 12 | PASS | +-------------------------------+----------------+ | CentOS Stream 10 | PASS | +-------------------------------+----------------+ | Fedora Linux 40 | PASS | +-------------------------------+----------------+ | Ubuntu 20.04 | PASS | +-------------------------------+----------------+ | Fedora Linux 41 | PASS | +-------------------------------+----------------+ | Red Hat Enterprise Linux 8.10 | PASS | +-------------------------------+----------------+ | Windows Server 2022 | PASS | +-------------------------------+----------------+ Red Hat Enterprise Linux 9.5 Kernel: 5.15 Compiler: gcc gcc (GCC) 11.5.0 20240719 (Red Hat 11.5.0-2) Ubuntu 22.04 Kernel: 5.15 Compiler: gcc gcc (Ubuntu 11.4.0-1ubuntu1~22.04) 11.4.0 Fedora Linux 42 Kernel: 5.15 Compiler: gcc gcc (GCC) 15.2.1 20250808 (Red Hat 15.2.1-1) CentOS Stream 9 Kernel: 5.15 Compiler: gcc gcc (GCC) 11.5.0 20240719 (Red Hat 11.5.0-11) Ubuntu 24.04 Kernel: 5.15 Compiler: gcc gcc (Ubuntu 13.3.0-6ubuntu2~24.04) 13.3.0 Debian GNU/Linux 12 Kernel: 5.15 Compiler: gcc gcc (Debian 12.2.0-14+deb12u1) 12.2.0 CentOS Stream 10 Kernel: 5.15 Compiler: gcc gcc (GCC) 14.2.1 20250110 (Red Hat 14.2.1-8) Fedora Linux 40 Kernel: 5.15 Compiler: clang gcc (GCC) 14.2.1 20240912 (Red Hat 14.2.1-3) Ubuntu 20.04 Kernel: 5.15 Compiler: gcc gcc (Ubuntu 9.4.0-1ubuntu1~20.04.2) 9.4.0 Fedora Linux 41 Kernel: 5.15 Compiler: clang gcc (GCC) 14.3.1 20250523 (Red Hat 14.3.1-1) Red Hat Enterprise Linux 8.10 Kernel: 5.15 Compiler: gcc gcc (GCC) 8.5.0 20210514 (Red Hat 8.5.0-22) Windows Server 2022 Kernel: 10.0.20348.2031 Compiler: clang 15.0.7, gcc 14.1.0 (MinGW), and MSVC VS 19.39.33521 To view detailed results, visit: https://lab.dpdk.org/results/dashboard/patchsets/34645/ UNH-IOL DPDK Community Lab To manage your email subscriptions, visit: https://lab.dpdk.org/results/dashboard/preferences/subscriptions/