From mboxrd@z Thu Jan 1 00:00:00 1970 Return-Path: Received: from mails.dpdk.org (mails.dpdk.org [217.70.189.124]) by inbox.dpdk.org (Postfix) with ESMTP id 5AFE848B5E for ; Thu, 20 Nov 2025 22:50:53 +0100 (CET) Received: from mails.dpdk.org (localhost [127.0.0.1]) by mails.dpdk.org (Postfix) with ESMTP id 5716440267; Thu, 20 Nov 2025 22:50:53 +0100 (CET) Received: from mail-oo1-f98.google.com (mail-oo1-f98.google.com [209.85.161.98]) by mails.dpdk.org (Postfix) with ESMTP id 315F840267 for ; Thu, 20 Nov 2025 22:50:52 +0100 (CET) Received: by mail-oo1-f98.google.com with SMTP id 006d021491bc7-657464a9010so330274eaf.3 for ; Thu, 20 Nov 2025 13:50:52 -0800 (PST) DKIM-Signature: v=1; a=rsa-sha256; c=relaxed/relaxed; d=iol.unh.edu; s=unh-iol; t=1763675451; x=1764280251; darn=dpdk.org; h=references:in-reply-to:cc:to:from:subject:message-id:date:from:to :cc:subject:date:message-id:reply-to; bh=i3nrc6T5k5JnX38nul692sSnGxWV5f8uOVKPmaY4Lto=; b=WxoFTZUYhcX5Hb9W2qgfZlxkZnuyhXtrFN0cNFF1sWU3PPLe4LRHl2zXqeLUzFyoMs RAO/cNlETMlPnzoxY/q38gUq9kWxJa3+fpNaPbuUt6tqQizBKlJf/FZbbtSgBAcuePCE UCJzqf4+AqjAmeZXtwbcKt7yUjkW43Y22/+t0= X-Google-DKIM-Signature: v=1; a=rsa-sha256; c=relaxed/relaxed; d=1e100.net; s=20230601; t=1763675451; x=1764280251; h=references:in-reply-to:cc:to:from:subject:message-id:date:x-gm-gg :x-gm-message-state:from:to:cc:subject:date:message-id:reply-to; bh=i3nrc6T5k5JnX38nul692sSnGxWV5f8uOVKPmaY4Lto=; b=J4GkK2AdKfHSJCrRDbSS7Q5smomjMn2D+zD7BFX7BCE2yglLXEQ5pGAqkyD87DPrIk 5Ga22Xx+JKPHBie8/j8DAzQhNAS++J1RB02w8jGVdwYISvFc2YOkH8EYyYiWJ+qylRoO MMSiY7m3BZolUF6FJnrdOdxFA2MBc9nO0y+xL8N/w1S7VejGa3n6BmsNfvZe94yArRG2 hiFLR6X/SRUwcv5eIawnSUFcKA8f2z1/olGy5YcS/uG08p6gar2lv5w/Qwb2jOJnJri4 zY/RXgS4+94/GNQOgYpFgqYAC3xaR5hRc9Q7LVRkeAVvMXsQtQ2q88WjL4u0Znx9Uwo9 L6VA== X-Gm-Message-State: AOJu0YwaswePJv2HjbPx7++J+9JDptLqgSctZFu3DRWeyUmFd5Y7752D PW5ooSs7dH1K00G0tGPrOYr2StsEIbIFQYXq5esRXQfHnV/ZnToBEkAFqJc9fXjU9DHW6J9FRAd ZAPQOASnIpkziY9A6YDPrCtkOHhdY+VSqqjOb5nWv0B+HhV/petLDumm/B1Si X-Gm-Gg: ASbGncvo+45eGUHR0yB7c6WLnCIVXvw6wU9vooD4B4kfPgPHMJDGYIEXQF4Dv01eenn tTtWRxDGUV3yVzg9Zta5kIruXZ2n552IC3S0FrlNqK8Bkwim1hktmWWdSW89sPZxJrPbegexsqh 7+sa84hZylt3N5CGnOh2bRgac+zsI8sX2/mSXeZ7bVrNXCe5KzzppmbJ2ew4fmJhN1L4tC0byzD 81r5b+KnIVmUeHBBsSzZFs6osF8Gwq72HppLi7n4t8leC0kQgS2EQxoUQfyFElq6ya23srqsiQr Ntr9j7y4+qNTo2skI/BHRRIVmRYT2q8Ql6emoJTGR4SPDr5sHqtBkORZDX3O0VMYEz0yhQxnv4H bZKl/fYIkE6nQ4bX+k6E= X-Google-Smtp-Source: AGHT+IGggRJaLW7ShFQ9SNUfwvovd88WZ17sOxqv7nnrjfWUPPPUlRy73Vwu83yDv4t+yk8wLwRph0Az48sw X-Received: by 2002:a05:6808:c28c:b0:450:bd1a:19b1 with SMTP id 5614622812f47-4511294e7b7mr87097b6e.7.1763675451162; Thu, 20 Nov 2025 13:50:51 -0800 (PST) Received: from postal.iol.unh.edu (postal.iol.unh.edu. [2606:4100:3880:1234::84]) by smtp-relay.gmail.com with ESMTPS id 586e51a60fabf-3ec9dc766b5sm344987fac.15.2025.11.20.13.50.51 (version=TLS1_2 cipher=ECDHE-ECDSA-AES128-GCM-SHA256 bits=128/128); Thu, 20 Nov 2025 13:50:51 -0800 (PST) X-Relaying-Domain: iol.unh.edu Date: Thu, 20 Nov 2025 13:50:51 -0800 (PST) Message-ID: <691f8d3b.050a0220.2ef60b.18a7SMTPIN_ADDED_MISSING@mx.google.com> Received: from [172.21.0.2] (unknown [172.18.0.240]) by postal.iol.unh.edu (Postfix) with ESMTP id C0566604D420; Thu, 20 Nov 2025 16:50:50 -0500 (EST) Subject: |SUCCESS| pw158936-158939 [PATCH] [v4,4/4] examples: enable format t From: dpdklab@iol.unh.edu To: Test Report Cc: dpdk-test-reports@iol.unh.edu, Chenbo Xia , Maxime Coquelin In-Reply-To: <20251120162327.78062-5-stephen@networkplumber.org> References: <20251120162327.78062-5-stephen@networkplumber.org> Content-Type: text/plain X-BeenThere: test-report@dpdk.org X-Mailman-Version: 2.1.29 Precedence: list List-Id: automatic DPDK test reports List-Unsubscribe: , List-Archive: List-Post: List-Help: List-Subscribe: , Errors-To: test-report-bounces@dpdk.org Test-Label: iol-compile-amd64-testing Test-Status: SUCCESS http://dpdk.org/patch/158939 _Testing PASS_ Submitter: Stephen Hemminger Date: Thursday, November 20 2025 16:22:02 DPDK git baseline: Repo:dpdk-next-virtio Branch: master CommitID:6b37c26a95388aa41bb5267c7c42f604fd571a38 158936-158939 --> testing pass Upstream job id: Windows-Compile-DPDK-Native#32543 Test environment and result as below: +-------------------------------+--------------------+------------------+-------------------+-------------------------+ | Environment | dpdk_meson_compile | dpdk_compile_ovs | dpdk_msvc_compile | dpdk_llvm_clang_compile | +===============================+====================+==================+===================+=========================+ | Ubuntu 20.04 | PASS | SKIPPED | SKIPPED | SKIPPED | +-------------------------------+--------------------+------------------+-------------------+-------------------------+ | FreeBSD 14.2 | PASS | SKIPPED | SKIPPED | SKIPPED | +-------------------------------+--------------------+------------------+-------------------+-------------------------+ | Debian GNU/Linux 12 | PASS | SKIPPED | SKIPPED | SKIPPED | +-------------------------------+--------------------+------------------+-------------------+-------------------------+ | CentOS Stream 9 | PASS | SKIPPED | SKIPPED | SKIPPED | +-------------------------------+--------------------+------------------+-------------------+-------------------------+ | CentOS Stream 10 | PASS | SKIPPED | SKIPPED | SKIPPED | +-------------------------------+--------------------+------------------+-------------------+-------------------------+ | Fedora Linux 42 | PASS | PASS | SKIPPED | SKIPPED | +-------------------------------+--------------------+------------------+-------------------+-------------------------+ | Red Hat Enterprise Linux 8.10 | PASS | SKIPPED | SKIPPED | SKIPPED | +-------------------------------+--------------------+------------------+-------------------+-------------------------+ | Ubuntu 24.04 | PASS | PASS | SKIPPED | SKIPPED | +-------------------------------+--------------------+------------------+-------------------+-------------------------+ | Alpine Linux 3.22.0 | PASS | SKIPPED | SKIPPED | SKIPPED | +-------------------------------+--------------------+------------------+-------------------+-------------------------+ | Ubuntu 22.04 | PASS | SKIPPED | SKIPPED | SKIPPED | +-------------------------------+--------------------+------------------+-------------------+-------------------------+ | Red Hat Enterprise Linux 9.5 | PASS | SKIPPED | SKIPPED | SKIPPED | +-------------------------------+--------------------+------------------+-------------------+-------------------------+ | openSUSE Leap 15.6 | PASS | SKIPPED | SKIPPED | SKIPPED | +-------------------------------+--------------------+------------------+-------------------+-------------------------+ | Windows Server 2022 | SKIPPED | SKIPPED | PASS | SKIPPED | +-------------------------------+--------------------+------------------+-------------------+-------------------------+ | Windows Server 2025 | SKIPPED | SKIPPED | SKIPPED | PASS | +-------------------------------+--------------------+------------------+-------------------+-------------------------+ Ubuntu 20.04 Kernel: 4.19 Compiler: gcc gcc (Ubuntu 9.4.0-1ubuntu1~20.04.2) 9.4.0 FreeBSD 14.2 Kernel: 14.2-RELEASE Compiler: clang 18.1.6 Debian GNU/Linux 12 Kernel: 5.15 Compiler: gcc gcc (Debian 12.2.0-14+deb12u1) 12.2.0 CentOS Stream 9 Kernel: 5.15 Compiler: gcc gcc (GCC) 11.5.0 20240719 (Red Hat 11.5.0-11) CentOS Stream 10 Kernel: 5.15 Compiler: gcc gcc (GCC) 14.2.1 20250110 (Red Hat 14.2.1-8) Fedora Linux 42 Kernel: 5.15 Compiler: clang gcc (GCC) 15.2.1 20250808 (Red Hat 15.2.1-1) Red Hat Enterprise Linux 8.10 Kernel: 5.15 Compiler: gcc gcc (GCC) 8.5.0 20210514 (Red Hat 8.5.0-22) Ubuntu 24.04 Kernel: 5.15 Compiler: gcc gcc (Ubuntu 13.3.0-6ubuntu2~24.04) 13.3.0 Alpine Linux 3.22.0 Kernel: 5.15 Compiler: gcc gcc (Alpine 14.2.0) 14.2.0 Ubuntu 22.04 Kernel: 5.15 Compiler: gcc gcc (Ubuntu 11.4.0-1ubuntu1~22.04) 11.4.0 Red Hat Enterprise Linux 9.5 Kernel: 5.15 Compiler: gcc gcc (GCC) 11.5.0 20240719 (Red Hat 11.5.0-2) openSUSE Leap 15.6 Kernel: 5.15 Compiler: gcc gcc (SUSE Linux) 7.5.0 Windows Server 2022 Kernel: 10.0.20348.2031 Compiler: clang 15.0.7, gcc 14.1.0 (MinGW), and MSVC VS 19.39.33521 Windows Server 2025 Kernel: 10.0.26100 Compiler: clang 15.0.7, gcc 14.1.0 (MinGW), and MSVC VS 19.39.33521 To view detailed results, visit: https://lab.dpdk.org/results/dashboard/patchsets/34646/ UNH-IOL DPDK Community Lab To manage your email subscriptions, visit: https://lab.dpdk.org/results/dashboard/preferences/subscriptions/