From mboxrd@z Thu Jan 1 00:00:00 1970 Return-Path: Received: from mails.dpdk.org (mails.dpdk.org [217.70.189.124]) by inbox.dpdk.org (Postfix) with ESMTP id A250348B5E for ; Thu, 20 Nov 2025 22:52:49 +0100 (CET) Received: from mails.dpdk.org (localhost [127.0.0.1]) by mails.dpdk.org (Postfix) with ESMTP id 879C040267; Thu, 20 Nov 2025 22:52:49 +0100 (CET) Received: from mail-pj1-f98.google.com (mail-pj1-f98.google.com [209.85.216.98]) by mails.dpdk.org (Postfix) with ESMTP id 9112C40267 for ; Thu, 20 Nov 2025 22:52:48 +0100 (CET) Received: by mail-pj1-f98.google.com with SMTP id 98e67ed59e1d1-3434700be69so1884547a91.1 for ; Thu, 20 Nov 2025 13:52:48 -0800 (PST) DKIM-Signature: v=1; a=rsa-sha256; c=relaxed/relaxed; d=iol.unh.edu; s=unh-iol; t=1763675568; x=1764280368; darn=dpdk.org; h=references:in-reply-to:cc:to:from:subject:message-id:date:from:to :cc:subject:date:message-id:reply-to; bh=FVYqaLwcB4NSJlIFoOKoXcTHkxx9X7nt1th/xVA+duU=; b=E/JX66kuImmEWHiPB7FKhox3XHG/ywRxoxcna+H9cFJqs/us1Q9xt2MiI+a1fMHNXX iBJCPAwGVRPfbD5YHatJqOVabqOHRbigc2OMAw6DOPkrpOje5DV2aA9f+76bvTTiPeNp TqClL+Sv1aGHzlthySUcJ3q3FxjuUGu66CCus= X-Google-DKIM-Signature: v=1; a=rsa-sha256; c=relaxed/relaxed; d=1e100.net; s=20230601; t=1763675568; x=1764280368; h=references:in-reply-to:cc:to:from:subject:message-id:date:x-gm-gg :x-gm-message-state:from:to:cc:subject:date:message-id:reply-to; bh=FVYqaLwcB4NSJlIFoOKoXcTHkxx9X7nt1th/xVA+duU=; b=FWFh5r/yQEjdD5xC2Y4GgYEnWJTSHf9OOaX79A/ORmhkWB/gkCnMLDfb9UjkLTgTaV 1hkPEUHGkFQbHuxKlB5PaOzVgRITaHLRy/eCtH+quc/G/vkaCFs/oqODZw2zN5q//hWG yMPzZS3Y2dRd5EoyUbFW84wb4OdwRvh7eMJ7THutNPYyrmEBepgMt51ukRMYaSXlMdP5 i9nEth3ilfsfrU/TEcRCHBH02fhQQcYASTzgYQp5YJb2GCamYYpgTpMfMQcf488uO6sa COB7TF2S+dESuHKfLEoFWDCHu4I5BBQM3FwWcnU3JOZrwxpOoXOPridJvVcHWU6IkaIs jZdQ== X-Gm-Message-State: AOJu0Yx593SADQo0n2HdpmB+atRqRwfdvQD1QS55GydBfoMAbs36+Fto uV0+R41/lXKMVlXZL7jn9K3yl8dyCZcZWehNjHCLdIJ5p35/X5auAvJxlwxIE6FqjOw+H2nCfmK 7Mf4oR3TjnGP/pPA+3na67pZFtlqYGOxp02uv5ab3Yrwt X-Gm-Gg: ASbGncsGD/khIDmS5drzSlxTFL0RnXk6T8zw5jI4NXCyxwJlDbWW7WeiRUELDv1MKyP kUyDJtzE84lJyWJ5IzBlXWmLSzttz1OqufniUX/elLIdoUr3xFlPJ7Kx3Wlf0Ut293ce+/2mIwY 9GV1CqtgxSAPUqvfMKrsoDP59amJNzgpzyV4geATQaTmAhVSEhyPuIOCZim6tDasrRjW+6wGEnH u4Vbj2woepY3iIk1y4kScUgz6gBynJPyk8V6wkUQcKeAic1FBswqtdMNwPMEARP/KkuzEiuz39A N2GLObYaG1qAM4EQjf4CHb7mTpM7m4noj9vn1oIl/mF4anPIH//ovVrC1lcDQTwajQCuH+l7dkC jricgbiOJ2yWDGi4dLGxoGhIagEPLhtm5SJ3M/0Zo1A== X-Google-Smtp-Source: AGHT+IFnHpW6Pu8xuyRqoqQIJY6cNXW1so8YUXkDb9sYv1HL8qwxWhZ96zQtQ9d+ZGainnIGQBuLMJOJzosN X-Received: by 2002:a17:90a:e70c:b0:33b:be31:8194 with SMTP id 98e67ed59e1d1-34727d6d858mr5534336a91.34.1763675567646; Thu, 20 Nov 2025 13:52:47 -0800 (PST) Received: from postal.iol.unh.edu (postal.iol.unh.edu. [132.177.123.84]) by smtp-relay.gmail.com with ESMTPS id d2e1a72fcca58-7c3eea87c90sm320280b3a.5.2025.11.20.13.52.47 (version=TLS1_2 cipher=ECDHE-ECDSA-AES128-GCM-SHA256 bits=128/128); Thu, 20 Nov 2025 13:52:47 -0800 (PST) X-Relaying-Domain: iol.unh.edu Date: Thu, 20 Nov 2025 13:52:47 -0800 (PST) Message-ID: <691f8daf.050a0220.15520f.fcb8SMTPIN_ADDED_MISSING@mx.google.com> Received: from [172.21.0.2] (unknown [172.18.0.240]) by postal.iol.unh.edu (Postfix) with ESMTP id BBD94604D420; Thu, 20 Nov 2025 16:52:46 -0500 (EST) Subject: |SUCCESS| pw158936-158939 [PATCH] [v4,4/4] examples: enable format t From: dpdklab@iol.unh.edu To: Test Report Cc: dpdk-test-reports@iol.unh.edu, Chenbo Xia , Maxime Coquelin In-Reply-To: <20251120162327.78062-5-stephen@networkplumber.org> References: <20251120162327.78062-5-stephen@networkplumber.org> Content-Type: text/plain X-BeenThere: test-report@dpdk.org X-Mailman-Version: 2.1.29 Precedence: list List-Id: automatic DPDK test reports List-Unsubscribe: , List-Archive: List-Post: List-Help: List-Subscribe: , Errors-To: test-report-bounces@dpdk.org Test-Label: iol-compile-amd64-testing Test-Status: SUCCESS http://dpdk.org/patch/158939 _Testing PASS_ Submitter: Stephen Hemminger Date: Thursday, November 20 2025 16:22:02 DPDK git baseline: Repo:dpdk-next-virtio Branch: master CommitID:6b37c26a95388aa41bb5267c7c42f604fd571a38 158936-158939 --> testing pass Upstream job id: Windows-Compile-DPDK-Native#32544 Test environment and result as below: +-------------------------------+--------------------+------------------+-------------------+-------------------------+----------------------+ | Environment | dpdk_meson_compile | dpdk_compile_ovs | dpdk_msvc_compile | dpdk_llvm_clang_compile | dpdk_mingw64_compile | +===============================+====================+==================+===================+=========================+======================+ | Ubuntu 20.04 | PASS | SKIPPED | SKIPPED | SKIPPED | SKIPPED | +-------------------------------+--------------------+------------------+-------------------+-------------------------+----------------------+ | FreeBSD 14.2 | PASS | SKIPPED | SKIPPED | SKIPPED | SKIPPED | +-------------------------------+--------------------+------------------+-------------------+-------------------------+----------------------+ | Debian GNU/Linux 12 | PASS | SKIPPED | SKIPPED | SKIPPED | SKIPPED | +-------------------------------+--------------------+------------------+-------------------+-------------------------+----------------------+ | CentOS Stream 9 | PASS | SKIPPED | SKIPPED | SKIPPED | SKIPPED | +-------------------------------+--------------------+------------------+-------------------+-------------------------+----------------------+ | CentOS Stream 10 | PASS | SKIPPED | SKIPPED | SKIPPED | SKIPPED | +-------------------------------+--------------------+------------------+-------------------+-------------------------+----------------------+ | Fedora Linux 42 | PASS | PASS | SKIPPED | SKIPPED | SKIPPED | +-------------------------------+--------------------+------------------+-------------------+-------------------------+----------------------+ | Red Hat Enterprise Linux 8.10 | PASS | SKIPPED | SKIPPED | SKIPPED | SKIPPED | +-------------------------------+--------------------+------------------+-------------------+-------------------------+----------------------+ | Ubuntu 24.04 | PASS | PASS | SKIPPED | SKIPPED | SKIPPED | +-------------------------------+--------------------+------------------+-------------------+-------------------------+----------------------+ | Alpine Linux 3.22.0 | PASS | SKIPPED | SKIPPED | SKIPPED | SKIPPED | +-------------------------------+--------------------+------------------+-------------------+-------------------------+----------------------+ | Ubuntu 22.04 | PASS | SKIPPED | SKIPPED | SKIPPED | SKIPPED | +-------------------------------+--------------------+------------------+-------------------+-------------------------+----------------------+ | Red Hat Enterprise Linux 9.5 | PASS | SKIPPED | SKIPPED | SKIPPED | SKIPPED | +-------------------------------+--------------------+------------------+-------------------+-------------------------+----------------------+ | openSUSE Leap 15.6 | PASS | SKIPPED | SKIPPED | SKIPPED | SKIPPED | +-------------------------------+--------------------+------------------+-------------------+-------------------------+----------------------+ | Windows Server 2022 | SKIPPED | SKIPPED | PASS | SKIPPED | PASS | +-------------------------------+--------------------+------------------+-------------------+-------------------------+----------------------+ | Windows Server 2025 | SKIPPED | SKIPPED | SKIPPED | PASS | SKIPPED | +-------------------------------+--------------------+------------------+-------------------+-------------------------+----------------------+ Ubuntu 20.04 Kernel: 4.19 Compiler: gcc gcc (Ubuntu 9.4.0-1ubuntu1~20.04.2) 9.4.0 FreeBSD 14.2 Kernel: 14.2-RELEASE Compiler: clang 18.1.6 Debian GNU/Linux 12 Kernel: 5.15 Compiler: gcc gcc (Debian 12.2.0-14+deb12u1) 12.2.0 CentOS Stream 9 Kernel: 5.15 Compiler: gcc gcc (GCC) 11.5.0 20240719 (Red Hat 11.5.0-11) CentOS Stream 10 Kernel: 5.15 Compiler: gcc gcc (GCC) 14.2.1 20250110 (Red Hat 14.2.1-8) Fedora Linux 42 Kernel: 5.15 Compiler: clang gcc (GCC) 15.2.1 20250808 (Red Hat 15.2.1-1) Red Hat Enterprise Linux 8.10 Kernel: 5.15 Compiler: gcc gcc (GCC) 8.5.0 20210514 (Red Hat 8.5.0-22) Ubuntu 24.04 Kernel: 5.15 Compiler: gcc gcc (Ubuntu 13.3.0-6ubuntu2~24.04) 13.3.0 Alpine Linux 3.22.0 Kernel: 5.15 Compiler: gcc gcc (Alpine 14.2.0) 14.2.0 Ubuntu 22.04 Kernel: 5.15 Compiler: gcc gcc (Ubuntu 11.4.0-1ubuntu1~22.04) 11.4.0 Red Hat Enterprise Linux 9.5 Kernel: 5.15 Compiler: gcc gcc (GCC) 11.5.0 20240719 (Red Hat 11.5.0-2) openSUSE Leap 15.6 Kernel: 5.15 Compiler: gcc gcc (SUSE Linux) 7.5.0 Windows Server 2022 Kernel: 10.0.20348.2031 Compiler: clang 15.0.7, gcc 14.1.0 (MinGW), and MSVC VS 19.39.33521 Windows Server 2025 Kernel: 10.0.26100 Compiler: clang 15.0.7, gcc 14.1.0 (MinGW), and MSVC VS 19.39.33521 To view detailed results, visit: https://lab.dpdk.org/results/dashboard/patchsets/34646/ UNH-IOL DPDK Community Lab To manage your email subscriptions, visit: https://lab.dpdk.org/results/dashboard/preferences/subscriptions/