From mboxrd@z Thu Jan 1 00:00:00 1970 Return-Path: Received: from mails.dpdk.org (mails.dpdk.org [217.70.189.124]) by inbox.dpdk.org (Postfix) with ESMTP id 9E3B548B5E for ; Thu, 20 Nov 2025 23:15:22 +0100 (CET) Received: from mails.dpdk.org (localhost [127.0.0.1]) by mails.dpdk.org (Postfix) with ESMTP id 7804240267; Thu, 20 Nov 2025 23:15:22 +0100 (CET) Received: from mail-il1-f226.google.com (mail-il1-f226.google.com [209.85.166.226]) by mails.dpdk.org (Postfix) with ESMTP id 838A840267 for ; Thu, 20 Nov 2025 23:15:21 +0100 (CET) Received: by mail-il1-f226.google.com with SMTP id e9e14a558f8ab-4330d2ea04eso5749065ab.3 for ; Thu, 20 Nov 2025 14:15:21 -0800 (PST) DKIM-Signature: v=1; a=rsa-sha256; c=relaxed/relaxed; d=iol.unh.edu; s=unh-iol; t=1763676921; x=1764281721; darn=dpdk.org; h=references:in-reply-to:cc:to:from:subject:message-id:date:from:to :cc:subject:date:message-id:reply-to; bh=6gI9/edhURSEjrj5CYtJGTFVMlMhJrBlSrriyVi4Im4=; b=cy4bvmtHb8gFLRThZX+39J5Fx7hceRUWEWZ+oZhQLxRA4VB50mV9ECeCqsTTUuvjsV 3qVXOidO9iBTQ/e38zVh/LsaAZzSeSkPqtgYxlijFHcZ1nTG44d0kWrCGXxqx0ADrE/o dOClvw8TQ6XBvOXe+JSHFi8rjKN1WuYDCJ+IA= X-Google-DKIM-Signature: v=1; a=rsa-sha256; c=relaxed/relaxed; d=1e100.net; s=20230601; t=1763676921; x=1764281721; h=references:in-reply-to:cc:to:from:subject:message-id:date:x-gm-gg :x-gm-message-state:from:to:cc:subject:date:message-id:reply-to; bh=6gI9/edhURSEjrj5CYtJGTFVMlMhJrBlSrriyVi4Im4=; b=S5FzuXISBbtD+aFKsgIUaB2g5uRYMmp3FLCGnpstzYJLAZtj7o5xUgLkVmSqtS/5bH fHZom4j1uaVNAxgN1eIxH7tMVLtBrLCZzseIws+FV57/lP3Z5f1kCYAgrrPEY20NUcmL sLP2QgjTq8Oo6cqeCWqAQk3uRBxlzzXum8AbUnMRPlLbBSHwib7i2FzU9hCHXPbJZKP/ NtW1kAfsSpJBwLthNWGk9w2dU9sAqHh3KbMzCdHiuDhqGGUjUJHtbE0IB+qAaspX3O/a X7wMNztz9ZUVupPDRHEXm4MwSSxI/npgwz04VZWMNGfkZccQYmWwxHJj+jf9biKDdDlH 6ECg== X-Gm-Message-State: AOJu0Yz+lzdba1MvRvutmNXdh+2DqLmA0i/n1UhNJk2jPM3fEB7u2gfM GxgInnDtCi6z02t3o4K8Shsfl6dq46iVnqnNqo6nJG4nB/Ko7Iwu4u2nLBVPOtKwFJPezDR+hIX 57ejMZ4Py3gFv2S1yjdLoQlyr/vsPdGVHPyo3sD9cSbpdF7I7Kny0iCq4WEqn X-Gm-Gg: ASbGncs7utuoYf6aw7eaZ1i12uez3WvNEupDxbCAc8QDJRWCGa9B9DZ83ZKgqU1F0xs 4MsZj5s4RoJDtcGlP6G31v7V+dKC2y/Dgr3Pcv9Bh/MYdkgrAXztLAM1s6KbJMCpxGQ1iyOMwvw zxH6mZJflzUbiHZNQrmBEIzo3P6edjC4mTfHqXG+HHPeOSv5BC3x5LIzC3ENn3cZPS6DDsIqSfE mEY5JuYBph/3GShUD0I5hbKy01yBM1feb+mx0zXAmQ50cui1xcMWNwc+b1pU9mTlTKusK/vG/hm ohuk/bBBP0BFfWGApaqT2pJycq7jV2CVzTWuUUQrvXFPrtjbh8lHUJZibqy9omQsK7i+DCehz3Q 2g/Ity4gcq51bqoWVgKE= X-Google-Smtp-Source: AGHT+IHROaAUZzH/ph+grHtVtxmeOiQDP4kboTOD3VGUbprBXd8ehSNFKQXOqzhkAtUmv0nlcRAPVBXKGxtS X-Received: by 2002:a05:6e02:2686:b0:433:29a9:32db with SMTP id e9e14a558f8ab-435b8e79e3emr2702595ab.24.1763676920760; Thu, 20 Nov 2025 14:15:20 -0800 (PST) Received: from postal.iol.unh.edu (postal.iol.unh.edu. [2606:4100:3880:1234::84]) by smtp-relay.gmail.com with ESMTPS id e9e14a558f8ab-435a9055183sm3185845ab.7.2025.11.20.14.15.20 (version=TLS1_2 cipher=ECDHE-ECDSA-AES128-GCM-SHA256 bits=128/128); Thu, 20 Nov 2025 14:15:20 -0800 (PST) X-Relaying-Domain: iol.unh.edu Date: Thu, 20 Nov 2025 14:15:20 -0800 (PST) Message-ID: <691f92f8.050a0220.1c5ba0.067aSMTPIN_ADDED_MISSING@mx.google.com> Received: from [172.21.0.3] (unknown [172.18.0.240]) by postal.iol.unh.edu (Postfix) with ESMTP id 541696051830; Thu, 20 Nov 2025 17:15:20 -0500 (EST) Subject: |SUCCESS| pw158935 [PATCH] eal/x86: reduce memcpy code duplication From: dpdklab@iol.unh.edu To: Test Report Cc: dpdk-test-reports@iol.unh.edu In-Reply-To: <20251120114554.950287-1-mb@smartsharesystems.com> References: <20251120114554.950287-1-mb@smartsharesystems.com> Content-Type: text/plain X-BeenThere: test-report@dpdk.org X-Mailman-Version: 2.1.29 Precedence: list List-Id: automatic DPDK test reports List-Unsubscribe: , List-Archive: List-Post: List-Help: List-Subscribe: , Errors-To: test-report-bounces@dpdk.org Test-Label: iol-unit-amd64-testing Test-Status: SUCCESS http://dpdk.org/patch/158935 _Testing PASS_ Submitter: Morten Brorup Date: Thursday, November 20 2025 11:45:54 DPDK git baseline: Repo:dpdk Branch: master CommitID:ef98b88455bf4a7c8b7aa3106a761c9e9270d6a3 158935 --> testing pass Upstream job id: Generic-VM-Unit-Test-DPDK#32710 Test environment and result as below: +-------------------------------+----------------+ | Environment | dpdk_unit_test | +===============================+================+ | Red Hat Enterprise Linux 9.5 | PASS | +-------------------------------+----------------+ | Ubuntu 22.04 | PASS | +-------------------------------+----------------+ | Fedora Linux 42 | PASS | +-------------------------------+----------------+ | CentOS Stream 9 | PASS | +-------------------------------+----------------+ | Ubuntu 24.04 | PASS | +-------------------------------+----------------+ | Debian GNU/Linux 12 | PASS | +-------------------------------+----------------+ | CentOS Stream 10 | PASS | +-------------------------------+----------------+ | Fedora Linux 40 | PASS | +-------------------------------+----------------+ | Ubuntu 20.04 | PASS | +-------------------------------+----------------+ | Fedora Linux 41 | PASS | +-------------------------------+----------------+ | Red Hat Enterprise Linux 8.10 | PASS | +-------------------------------+----------------+ | Windows Server 2022 | PASS | +-------------------------------+----------------+ Red Hat Enterprise Linux 9.5 Kernel: 5.15 Compiler: gcc gcc (GCC) 11.5.0 20240719 (Red Hat 11.5.0-2) Ubuntu 22.04 Kernel: 5.15 Compiler: gcc gcc (Ubuntu 11.4.0-1ubuntu1~22.04) 11.4.0 Fedora Linux 42 Kernel: 5.15 Compiler: gcc gcc (GCC) 15.2.1 20250808 (Red Hat 15.2.1-1) CentOS Stream 9 Kernel: 5.15 Compiler: gcc gcc (GCC) 11.5.0 20240719 (Red Hat 11.5.0-11) Ubuntu 24.04 Kernel: 5.15 Compiler: gcc gcc (Ubuntu 13.3.0-6ubuntu2~24.04) 13.3.0 Debian GNU/Linux 12 Kernel: 5.15 Compiler: gcc gcc (Debian 12.2.0-14+deb12u1) 12.2.0 CentOS Stream 10 Kernel: 5.15 Compiler: gcc gcc (GCC) 14.2.1 20250110 (Red Hat 14.2.1-8) Fedora Linux 40 Kernel: 5.15 Compiler: clang gcc (GCC) 14.2.1 20240912 (Red Hat 14.2.1-3) Ubuntu 20.04 Kernel: 5.15 Compiler: gcc gcc (Ubuntu 9.4.0-1ubuntu1~20.04.2) 9.4.0 Fedora Linux 41 Kernel: 5.15 Compiler: clang gcc (GCC) 14.3.1 20250523 (Red Hat 14.3.1-1) Red Hat Enterprise Linux 8.10 Kernel: 5.15 Compiler: gcc gcc (GCC) 8.5.0 20210514 (Red Hat 8.5.0-22) Windows Server 2022 Kernel: 10.0.20348.2031 Compiler: clang 15.0.7, gcc 14.1.0 (MinGW), and MSVC VS 19.39.33521 To view detailed results, visit: https://lab.dpdk.org/results/dashboard/patchsets/34645/ UNH-IOL DPDK Community Lab To manage your email subscriptions, visit: https://lab.dpdk.org/results/dashboard/preferences/subscriptions/