From mboxrd@z Thu Jan 1 00:00:00 1970 Return-Path: Received: from mails.dpdk.org (mails.dpdk.org [217.70.189.124]) by inbox.dpdk.org (Postfix) with ESMTP id 8CE3048B5E for ; Thu, 20 Nov 2025 23:50:21 +0100 (CET) Received: from mails.dpdk.org (localhost [127.0.0.1]) by mails.dpdk.org (Postfix) with ESMTP id 86FC640267; Thu, 20 Nov 2025 23:50:21 +0100 (CET) Received: from mail-pg1-f227.google.com (mail-pg1-f227.google.com [209.85.215.227]) by mails.dpdk.org (Postfix) with ESMTP id 2229740267 for ; Thu, 20 Nov 2025 23:50:20 +0100 (CET) Received: by mail-pg1-f227.google.com with SMTP id 41be03b00d2f7-b9f1d0126e6so603691a12.1 for ; Thu, 20 Nov 2025 14:50:20 -0800 (PST) DKIM-Signature: v=1; a=rsa-sha256; c=relaxed/relaxed; d=iol.unh.edu; s=unh-iol; t=1763679019; x=1764283819; darn=dpdk.org; h=references:in-reply-to:cc:to:from:subject:message-id:date:from:to :cc:subject:date:message-id:reply-to; bh=KoCz3aJY5Vibvw/LggYUHGFmeu5hPN0OGnoqFx8AqJk=; b=Ja2+z6ett1nDamX/4baXY74IbgzTVAaCzSQEsjpnspC/W3gi3JO7Z4aiAKuEmcVdeY XT7uYDh4K7hUDssLXUsAuSjF/VGBWvtSqemGFec9uyXNuDKj4Y45ZKvDIr+XYhjMQuf3 N80vfx5KNQ/nPqRFaA2kx4yHPaMvPkNxTM604= X-Google-DKIM-Signature: v=1; a=rsa-sha256; c=relaxed/relaxed; d=1e100.net; s=20230601; t=1763679019; x=1764283819; h=references:in-reply-to:cc:to:from:subject:message-id:date:x-gm-gg :x-gm-message-state:from:to:cc:subject:date:message-id:reply-to; bh=KoCz3aJY5Vibvw/LggYUHGFmeu5hPN0OGnoqFx8AqJk=; b=BcKnuCbszD4KltngpsX3iMjdvPdwA4FVh5in5dkCrmNEz8fFeylhQcpIeY7Tslpv0A j5KlHu86JzJ4R2LoI3r3ra9fk4w35ECevyDjDlP21lToIRmYuBfTE/bGe/NQedZmk18z Bo5ZMuosptkRHlxym+1Nzq+u88glxqtilCQtc/XI1untUtum6jcCOT1HoHOFkGD4jRKL aNk9icBdEA/KhcL+CiYfEqKuhujfIsl/Mn/TBXHoIKDZrjytS2UOUJwnHcUfPVV3Y1m7 1m396k0jrMvSkn0UB6j4hZim5ka5PWmRTYODr2GthldgzpEQREcAK4otLz3Hz4o5HUGk Re4Q== X-Gm-Message-State: AOJu0YzPqrBpmncDQH6MbkJIyOU3GUOsPBr68lJoKdm0FeP+w/l563ag xXKrsRXS8D/iUJzvAFqbe3qy9igHoyem2aDovaUYX2wIVNtzcxDzo0KcITobiEewFYcpRUPqVmI icAnCvET4qTIrBNgiHSLF0RwGmbgOrwYHFNsQlVZPo5qg X-Gm-Gg: ASbGncubi65ceJe7fgij7i79IamalCjcCnKXzVmFC7c3t7V7xrONBV/6VnFO1ve/Ly3 NuygM0IOnG0eq51qcEuicVLGWbBjWZBuKic1YvBL5JvVUZ5bHLD3S3yhAz8LNBqeyMxrUeH2RuY sgEfVXjFJEz5dyMUD5pYZCQEFWfBuwlLxUX7bVG6DQrdcnT0tjSCz0PQa4CI/g9hAnrxPIA3eXt 1cwEFQwI/cACEKMxasFKVt49YMH6UTAm2lKCHf8HO1i17obl9SDV7XYpfl55EhsUYzsQLeVML/H Br1Q8lLhcJWGk32oGxd3TKvzt8f/iAZYOutMx8/oYwDJf9u7gEMhiodYzwRC5RAf59aeNDgnTST 9razExdUrxMxPwHKq56TrFYkDPszfESQwFQyWAmf2CQ== X-Google-Smtp-Source: AGHT+IGbwe5XOmmlX2L+OaYzykoYIMuPWWwDZvMjlUbr1i/ILKkSxo4nXIcRf5VJT27EsCNEBnC4lsRaQ4GK X-Received: by 2002:a17:90b:3f0c:b0:343:6a63:85d5 with SMTP id 98e67ed59e1d1-3473345cc3cmr277768a91.16.1763679019091; Thu, 20 Nov 2025 14:50:19 -0800 (PST) Received: from postal.iol.unh.edu (postal.iol.unh.edu. [132.177.123.84]) by smtp-relay.gmail.com with ESMTPS id d9443c01a7336-29b5b10791csm4114335ad.2.2025.11.20.14.50.18 (version=TLS1_2 cipher=ECDHE-ECDSA-AES128-GCM-SHA256 bits=128/128); Thu, 20 Nov 2025 14:50:19 -0800 (PST) X-Relaying-Domain: iol.unh.edu Date: Thu, 20 Nov 2025 14:50:19 -0800 (PST) Message-ID: <691f9b2b.170a0220.1b858b.5ffeSMTPIN_ADDED_MISSING@mx.google.com> Received: from [172.21.0.2] (unknown [172.18.0.240]) by postal.iol.unh.edu (Postfix) with ESMTP id 82BBD6050A61; Thu, 20 Nov 2025 17:50:18 -0500 (EST) Subject: |SUCCESS| pw158936-158939 [PATCH] [v4,4/4] examples: enable format t From: dpdklab@iol.unh.edu To: Test Report Cc: dpdk-test-reports@iol.unh.edu, Chenbo Xia , Maxime Coquelin In-Reply-To: <20251120162327.78062-5-stephen@networkplumber.org> References: <20251120162327.78062-5-stephen@networkplumber.org> Content-Type: text/plain X-BeenThere: test-report@dpdk.org X-Mailman-Version: 2.1.29 Precedence: list List-Id: automatic DPDK test reports List-Unsubscribe: , List-Archive: List-Post: List-Help: List-Subscribe: , Errors-To: test-report-bounces@dpdk.org Test-Label: iol-unit-amd64-testing Test-Status: SUCCESS http://dpdk.org/patch/158939 _Testing PASS_ Submitter: Stephen Hemminger Date: Thursday, November 20 2025 16:22:02 DPDK git baseline: Repo:dpdk-next-virtio Branch: master CommitID:6b37c26a95388aa41bb5267c7c42f604fd571a38 158936-158939 --> testing pass Upstream job id: Generic-VM-Unit-Test-DPDK#32712 Test environment and result as below: +-------------------------------+----------------+ | Environment | dpdk_unit_test | +===============================+================+ | CentOS Stream 10 | PASS | +-------------------------------+----------------+ | Red Hat Enterprise Linux 9.5 | PASS | +-------------------------------+----------------+ | CentOS Stream 9 | PASS | +-------------------------------+----------------+ | Fedora Linux 40 | PASS | +-------------------------------+----------------+ | Debian GNU/Linux 12 | PASS | +-------------------------------+----------------+ | Red Hat Enterprise Linux 8.10 | PASS | +-------------------------------+----------------+ | Fedora Linux 41 | PASS | +-------------------------------+----------------+ | Ubuntu 20.04 | PASS | +-------------------------------+----------------+ | Fedora Linux 42 | PASS | +-------------------------------+----------------+ | Ubuntu 22.04 | PASS | +-------------------------------+----------------+ | Ubuntu 24.04 | PASS | +-------------------------------+----------------+ | Windows Server 2022 | PASS | +-------------------------------+----------------+ CentOS Stream 10 Kernel: 5.15 Compiler: gcc gcc (GCC) 14.2.1 20250110 (Red Hat 14.2.1-8) Red Hat Enterprise Linux 9.5 Kernel: 5.15 Compiler: gcc gcc (GCC) 11.5.0 20240719 (Red Hat 11.5.0-2) CentOS Stream 9 Kernel: 5.15 Compiler: gcc gcc (GCC) 11.5.0 20240719 (Red Hat 11.5.0-11) Fedora Linux 40 Kernel: 5.15 Compiler: clang gcc (GCC) 14.2.1 20240912 (Red Hat 14.2.1-3) Debian GNU/Linux 12 Kernel: 5.15 Compiler: gcc gcc (Debian 12.2.0-14+deb12u1) 12.2.0 Red Hat Enterprise Linux 8.10 Kernel: 5.15 Compiler: gcc gcc (GCC) 8.5.0 20210514 (Red Hat 8.5.0-22) Fedora Linux 41 Kernel: 5.15 Compiler: gcc gcc (GCC) 14.3.1 20250523 (Red Hat 14.3.1-1) Ubuntu 20.04 Kernel: 5.15 Compiler: gcc gcc (Ubuntu 9.4.0-1ubuntu1~20.04.2) 9.4.0 Fedora Linux 42 Kernel: 5.15 Compiler: clang gcc (GCC) 15.2.1 20250808 (Red Hat 15.2.1-1) Ubuntu 22.04 Kernel: 5.15 Compiler: gcc gcc (Ubuntu 11.4.0-1ubuntu1~22.04) 11.4.0 Ubuntu 24.04 Kernel: 5.15 Compiler: gcc gcc (Ubuntu 13.3.0-6ubuntu2~24.04) 13.3.0 Windows Server 2022 Kernel: 10.0.20348.2031 Compiler: clang 15.0.7, gcc 14.1.0 (MinGW), and MSVC VS 19.39.33521 To view detailed results, visit: https://lab.dpdk.org/results/dashboard/patchsets/34646/ UNH-IOL DPDK Community Lab To manage your email subscriptions, visit: https://lab.dpdk.org/results/dashboard/preferences/subscriptions/