From mboxrd@z Thu Jan 1 00:00:00 1970 Return-Path: Received: from mails.dpdk.org (mails.dpdk.org [217.70.189.124]) by inbox.dpdk.org (Postfix) with ESMTP id EE75848B5E for ; Fri, 21 Nov 2025 00:54:59 +0100 (CET) Received: from mails.dpdk.org (localhost [127.0.0.1]) by mails.dpdk.org (Postfix) with ESMTP id C61CD400EF; Fri, 21 Nov 2025 00:54:59 +0100 (CET) Received: from mail-qv1-f98.google.com (mail-qv1-f98.google.com [209.85.219.98]) by mails.dpdk.org (Postfix) with ESMTP id EFF91400EF for ; Fri, 21 Nov 2025 00:54:58 +0100 (CET) Received: by mail-qv1-f98.google.com with SMTP id 6a1803df08f44-8824888ce97so19538526d6.2 for ; Thu, 20 Nov 2025 15:54:58 -0800 (PST) DKIM-Signature: v=1; a=rsa-sha256; c=relaxed/relaxed; d=iol.unh.edu; s=unh-iol; t=1763682898; x=1764287698; darn=dpdk.org; h=references:in-reply-to:cc:to:from:subject:message-id:date:from:to :cc:subject:date:message-id:reply-to; bh=hfJt2iHZDzmYbg928O3S3g2K0yUL6oKZM5aGNB/OGbM=; b=ijsKp7i1HJh2cll+8CDvU18b7scXcWGsQ6DdnRP+e1LeezVRzigZ4biDplMtN3VD7L jj5VvB/lp1f7lQI+TNdU42+GbWbGVyZPIZIJ9EyK+HG1gEDeZ3bTlf3HzrQPZATymDG5 aL96o2rHd36Vs7QOQuev3bPSkAQHslH8hUMQ0= X-Google-DKIM-Signature: v=1; a=rsa-sha256; c=relaxed/relaxed; d=1e100.net; s=20230601; t=1763682898; x=1764287698; h=references:in-reply-to:cc:to:from:subject:message-id:date:x-gm-gg :x-gm-message-state:from:to:cc:subject:date:message-id:reply-to; bh=hfJt2iHZDzmYbg928O3S3g2K0yUL6oKZM5aGNB/OGbM=; b=JDG9eVfLW7Xazx0Blzm0iYKB0ep3yq3FflAnYcSRw/5Xf8K0Q+XFtxoGgb3NaL87aI mzh0U0y9jI3EiJkJ5wqKX3ubK6LgGCHntD4igAHhHTJIIsu35lCvXqd+Qz7nj26+ul1Q WcpX31giA43sMRejyeUhzHTZQyY0CCbeRma4+34RQ5ZTx9TSLY9t02xHxnN4lSlIbq6k AldiCJ2tu3xyfG8oi//+xvaKMglx04LIOi4t+7PXI5O1uo4153DW6K8d4aSZ1YTTF6Mj IIXZ7OfxcpCcwB+Q4QmUb5ibrLYnGycs+LVV8N6+CvzeqSfpGz2Tm7iuiS+PF26wKKuy XAyg== X-Gm-Message-State: AOJu0Yycjrt9nugD0HQihYiy48MRpF7LiPsUgsPgWjALE3hLsCT/hISA meMcNdcL0C1N0ZODEXd1aqen3Zgm6rDbBRUAIJ++6etXTKs80l4HIWKFegdkc1P5yFrRiyUHU4a LXusoQ95t2ZRSmILNFG5ZKJCZLBA5ekd9pawqJI4Z7izI X-Gm-Gg: ASbGnctYCztj2fzl3VwkLCBFNcrvTr4He1iViiUg1FfgP6l15A120kgf8g+FJdEeUdD sl3hl30G8Iecsl2BBqhMhCXoRdEx+ODbb8c8U2UbwxcNkR5Fyfn+AnGLojgkfIwYJFXR/F6NmIG gXKlFM5z/2VXAklpGI98LHnWp/p7ppgnSyt5QBU86LZB8i86kItaoy+nl5VEuJpCz9j6JNWnuM9 iHg3bh0qTw/j2JREuv1rQOi8EpxXU1sCqltf83tWIFy3u9Nc3IREN0QppIf8dTvQnWSKKlACFS0 Bzo5+wH3AdUKylvKXThxQL46+5XcbxNTZwuTdZOtIe8XbSHi4aLaSXNhP9iAdhNaVlnkoCsiPof UGuqO9tbMWkLYwmpM8EeF8rcsUW6dmf3NF6MGZp9neQ== X-Google-Smtp-Source: AGHT+IF5/1fPvIasFBjkatXdZ6d6MPvWuxHLhPiCsyjcmvGVGaeFPZkHKzhXsChr13R/yXiXkj/bg2kXi0dP X-Received: by 2002:a05:6214:20cc:b0:880:264b:7c5c with SMTP id 6a1803df08f44-8847c545e49mr5997426d6.61.1763682898241; Thu, 20 Nov 2025 15:54:58 -0800 (PST) Received: from postal.iol.unh.edu (postal.iol.unh.edu. [132.177.123.84]) by smtp-relay.gmail.com with ESMTPS id 6a1803df08f44-8846e57624esm4227416d6.16.2025.11.20.15.54.58 (version=TLS1_2 cipher=ECDHE-ECDSA-AES128-GCM-SHA256 bits=128/128); Thu, 20 Nov 2025 15:54:58 -0800 (PST) X-Relaying-Domain: iol.unh.edu Date: Thu, 20 Nov 2025 15:54:58 -0800 (PST) Message-ID: <691faa52.050a0220.311ae9.517dSMTPIN_ADDED_MISSING@mx.google.com> Received: from [172.21.0.4] (unknown [172.18.0.240]) by postal.iol.unh.edu (Postfix) with ESMTP id BC06B604D420; Thu, 20 Nov 2025 18:54:57 -0500 (EST) Subject: |SUCCESS| pw158936-158939 [PATCH] [v4,4/4] examples: enable format t From: dpdklab@iol.unh.edu To: Test Report Cc: dpdk-test-reports@iol.unh.edu, Chenbo Xia , Maxime Coquelin In-Reply-To: <20251120162327.78062-5-stephen@networkplumber.org> References: <20251120162327.78062-5-stephen@networkplumber.org> Content-Type: text/plain X-BeenThere: test-report@dpdk.org X-Mailman-Version: 2.1.29 Precedence: list List-Id: automatic DPDK test reports List-Unsubscribe: , List-Archive: List-Post: List-Help: List-Subscribe: , Errors-To: test-report-bounces@dpdk.org Test-Label: iol-compile-arm64-testing Test-Status: SUCCESS http://dpdk.org/patch/158939 _Testing PASS_ Submitter: Stephen Hemminger Date: Thursday, November 20 2025 16:22:02 DPDK git baseline: Repo:dpdk-next-virtio Branch: master CommitID:6b37c26a95388aa41bb5267c7c42f604fd571a38 158936-158939 --> testing pass Upstream job id: Generic-DPDK-Compile-Meson#446311 Test environment and result as below: +------------------------------+--------------------+ | Environment | dpdk_meson_compile | +==============================+====================+ | Ubuntu 20.04 | PASS | +------------------------------+--------------------+ | Red Hat Enterprise Linux 9.5 | PASS | +------------------------------+--------------------+ | Fedora Linux 42 | PASS | +------------------------------+--------------------+ | Debian GNU/Linux 12 | PASS | +------------------------------+--------------------+ | Ubuntu 22.04 | PASS | +------------------------------+--------------------+ | Ubuntu 24.04 | PASS | +------------------------------+--------------------+ | CentOS Stream 9 | PASS | +------------------------------+--------------------+ | CentOS Stream 10 | PASS | +------------------------------+--------------------+ Ubuntu 20.04 Kernel: 5.15 Compiler: aarch64-linux-gnu-gcc gcc (Ubuntu 9.4.0-1ubuntu1~20.04.2) 9.4.0 Red Hat Enterprise Linux 9.5 Kernel: 5.4 Compiler: gcc gcc (GCC) 11.5.0 20240719 (Red Hat 11.5.0-2) Fedora Linux 42 Kernel: 5.4 Compiler: gcc gcc (GCC) 15.2.1 20250808 (Red Hat 15.2.1-1) Debian GNU/Linux 12 Kernel: 5.4 Compiler: gcc gcc (Debian 12.2.0-14+deb12u1) 12.2.0 Ubuntu 22.04 Kernel: 5.4 Compiler: gcc gcc (Ubuntu 11.4.0-1ubuntu1~22.04) 11.4.0 Ubuntu 24.04 Kernel: 5.4 Compiler: gcc gcc (Ubuntu 13.3.0-6ubuntu2~24.04) 13.3.0 CentOS Stream 9 Kernel: 5.4 Compiler: gcc gcc (GCC) 11.5.0 20240719 (Red Hat 11.5.0-11) CentOS Stream 10 Kernel: 5.4 Compiler: gcc gcc (GCC) 14.2.1 20250110 (Red Hat 14.2.1-8) To view detailed results, visit: https://lab.dpdk.org/results/dashboard/patchsets/34646/ UNH-IOL DPDK Community Lab To manage your email subscriptions, visit: https://lab.dpdk.org/results/dashboard/preferences/subscriptions/