From mboxrd@z Thu Jan 1 00:00:00 1970 Return-Path: Received: from mails.dpdk.org (mails.dpdk.org [217.70.189.124]) by inbox.dpdk.org (Postfix) with ESMTP id 05CF548B5E for ; Fri, 21 Nov 2025 00:56:30 +0100 (CET) Received: from mails.dpdk.org (localhost [127.0.0.1]) by mails.dpdk.org (Postfix) with ESMTP id F09EC400EF; Fri, 21 Nov 2025 00:56:29 +0100 (CET) Received: from mail-pj1-f99.google.com (mail-pj1-f99.google.com [209.85.216.99]) by mails.dpdk.org (Postfix) with ESMTP id D4A8D400EF for ; Fri, 21 Nov 2025 00:56:28 +0100 (CET) Received: by mail-pj1-f99.google.com with SMTP id 98e67ed59e1d1-340bb1cb9ddso1070181a91.2 for ; Thu, 20 Nov 2025 15:56:28 -0800 (PST) DKIM-Signature: v=1; a=rsa-sha256; c=relaxed/relaxed; d=iol.unh.edu; s=unh-iol; t=1763682988; x=1764287788; darn=dpdk.org; h=references:in-reply-to:cc:to:from:subject:message-id:date:from:to :cc:subject:date:message-id:reply-to; bh=L7mi/LXvBE+org8uESaYfs6N06ambw4tRAMvG6EiUvA=; b=IzW6zYfbyLwDjrPbXCzgqivkbv5csXInG/42Z5+wpGlIyb8CGfw4tXGv1q+Ow32nVt icQvF88145FHy/H0ZX5RI7frKPWKTQMZPh1kcHx3BTSwGmxYWC3HFdKFVTBTSpThBqfa vc2myVW6LcHRE/208XKiG/kpFdn2XUMtg+Dv4= X-Google-DKIM-Signature: v=1; a=rsa-sha256; c=relaxed/relaxed; d=1e100.net; s=20230601; t=1763682988; x=1764287788; h=references:in-reply-to:cc:to:from:subject:message-id:date:x-gm-gg :x-gm-message-state:from:to:cc:subject:date:message-id:reply-to; bh=L7mi/LXvBE+org8uESaYfs6N06ambw4tRAMvG6EiUvA=; b=HtbqpvrSxd2Aho+SLPynemMjXWn0/FGGuWpf0vg4LaANp5rUX0rnfS9WjQUQpLgj+T Eafhhr7cxHwIHMO04NrwVBGFM4YKzUBrqth4AinbzDBEL5WTlIcy7meiSlQujhBGs0W5 wDP3Mpi/+zcw6ZGLvopmQBgUhouFG0r57Zj/vaTCiBPC99Dbhh5Ua1TxQo23ROBOWg/z jFtuUFRWKL9sqNACg24c2bFMbiirlOQvA98qWuck7taA/8sRNmE8Hb2JlTmWxGeMY1+A UPiNQNIZjwWWdA55igkeRhUa4wJGRitLWldpls+2NlB25yWz40dkKP6Fb5bBFGISUi+R BlaA== X-Gm-Message-State: AOJu0YwzesYRpjBYu8x2ztU3BKYh/RYrsddriBqgck1Tyg45G42pOWkP PDmzqljVF5/1HKEHm+8bnKqN4wwG6OECqBAGmNIdvnl3nvGoMN5B+KoIVM/vFa5K+9oY6Bk8uFw omuNhPwchkrD8DJW8CSLrypgngk0tc3POuuVv/oeoEffM X-Gm-Gg: ASbGncuGj5enzk+bg6wrRZA7H0kmvCMSRfMaR1y7oCnFVriK5saY/dmjgCGcaNAPrmk TT4Vq2d7qjt2uL6utN/nBTfsi8BSbCR5hWuz27ufbKgEVxaiS3pNFCI6t3R4wSySn20CrFmSdRP pErjZrNg5L4fsxT5470Rw4R64tovm6zZUlV5MiN5WvOJ3EI/BsGQl8DRGMG6PlM7NW/Tuq7odaW k5sXw+8P6FslVuquORslddw0JR++7WZaIs8In5KiCpkott7JMZ4WccsVCYWmEg3KpTMuATRSWAr 20bdPrJfYuSSvbghGLRF+gqKFxExWAUEpzo02XIYviVnZmwqf3Ch13eaiZDquxGh5wSMreO/i4Q AHknqk54BsEKnst6ObTh84unsJepoQYBSsP/Kg+GsAw== X-Google-Smtp-Source: AGHT+IGHOvu7qq6qrtDfpdhWw00LhtQ+fgelgk2lNYWik21G5PRBTBznoqT1TPCxGcg8XVyiTo1//ajalpm/ X-Received: by 2002:a17:90b:1a88:b0:32e:7bbc:bf13 with SMTP id 98e67ed59e1d1-34733f4f8a7mr307322a91.34.1763682987834; Thu, 20 Nov 2025 15:56:27 -0800 (PST) Received: from postal.iol.unh.edu (postal.iol.unh.edu. [132.177.123.84]) by smtp-relay.gmail.com with ESMTPS id 98e67ed59e1d1-3472678e0cesm304783a91.1.2025.11.20.15.56.27 (version=TLS1_2 cipher=ECDHE-ECDSA-AES128-GCM-SHA256 bits=128/128); Thu, 20 Nov 2025 15:56:27 -0800 (PST) X-Relaying-Domain: iol.unh.edu Date: Thu, 20 Nov 2025 15:56:27 -0800 (PST) Message-ID: <691faaab.170a0220.f5a2c.f54aSMTPIN_ADDED_MISSING@mx.google.com> Received: from [172.21.0.3] (unknown [172.18.0.240]) by postal.iol.unh.edu (Postfix) with ESMTP id 1C48D604D420; Thu, 20 Nov 2025 18:56:27 -0500 (EST) Subject: |SUCCESS| pw158936-158939 [PATCH] [v4,4/4] examples: enable format t From: dpdklab@iol.unh.edu To: Test Report Cc: dpdk-test-reports@iol.unh.edu, Chenbo Xia , Maxime Coquelin In-Reply-To: <20251120162327.78062-5-stephen@networkplumber.org> References: <20251120162327.78062-5-stephen@networkplumber.org> Content-Type: text/plain X-BeenThere: test-report@dpdk.org X-Mailman-Version: 2.1.29 Precedence: list List-Id: automatic DPDK test reports List-Unsubscribe: , List-Archive: List-Post: List-Help: List-Subscribe: , Errors-To: test-report-bounces@dpdk.org Test-Label: iol-unit-arm64-testing Test-Status: SUCCESS http://dpdk.org/patch/158939 _Testing PASS_ Submitter: Stephen Hemminger Date: Thursday, November 20 2025 16:22:02 DPDK git baseline: Repo:dpdk-next-virtio Branch: master CommitID:6b37c26a95388aa41bb5267c7c42f604fd571a38 158936-158939 --> testing pass Upstream job id: Generic-Unit-Test-DPDK#394701 Test environment and result as below: +------------------------------+------------------------------+--------------+---------------------------+----------------+ | Environment | cryptodev_sw_snow3g_autotest | lpm_autotest | cryptodev_sw_zuc_autotest | dpdk_unit_test | +==============================+==============================+==============+===========================+================+ | Debian 12 (arm) | PASS | SKIPPED | PASS | SKIPPED | +------------------------------+------------------------------+--------------+---------------------------+----------------+ | Ubuntu 20.04 | SKIPPED | PASS | SKIPPED | PASS | +------------------------------+------------------------------+--------------+---------------------------+----------------+ | Ubuntu 22.04 | SKIPPED | SKIPPED | SKIPPED | PASS | +------------------------------+------------------------------+--------------+---------------------------+----------------+ | Red Hat Enterprise Linux 9.5 | SKIPPED | SKIPPED | SKIPPED | PASS | +------------------------------+------------------------------+--------------+---------------------------+----------------+ | CentOS Stream 10 | SKIPPED | SKIPPED | SKIPPED | PASS | +------------------------------+------------------------------+--------------+---------------------------+----------------+ | CentOS Stream 9 | SKIPPED | SKIPPED | SKIPPED | PASS | +------------------------------+------------------------------+--------------+---------------------------+----------------+ | Ubuntu 24.04 | SKIPPED | SKIPPED | SKIPPED | PASS | +------------------------------+------------------------------+--------------+---------------------------+----------------+ | Fedora Linux 42 | SKIPPED | SKIPPED | SKIPPED | PASS | +------------------------------+------------------------------+--------------+---------------------------+----------------+ | Fedora Linux 41 | SKIPPED | SKIPPED | SKIPPED | PASS | +------------------------------+------------------------------+--------------+---------------------------+----------------+ | Fedora Linux 40 | SKIPPED | SKIPPED | SKIPPED | PASS | +------------------------------+------------------------------+--------------+---------------------------+----------------+ | Debian GNU/Linux 12 | SKIPPED | SKIPPED | SKIPPED | PASS | +------------------------------+------------------------------+--------------+---------------------------+----------------+ Debian 12 (arm) Kernel: Depends on container host Compiler: gcc (Debian 12.2.0-14) 12.2.0 Ubuntu 20.04 Kernel: 5.4 Compiler: gcc gcc (Ubuntu 9.4.0-1ubuntu1~20.04.2) 9.4.0 Ubuntu 22.04 Kernel: 5.15 Compiler: gcc gcc (Ubuntu 11.4.0-1ubuntu1~22.04.2) 11.4.0 Red Hat Enterprise Linux 9.5 Kernel: 5.4 Compiler: gcc gcc (GCC) 11.5.0 20240719 (Red Hat 11.5.0-2) CentOS Stream 10 Kernel: 5.4 Compiler: gcc gcc (GCC) 14.2.1 20250110 (Red Hat 14.2.1-8) CentOS Stream 9 Kernel: 5.4 Compiler: gcc gcc (GCC) 11.5.0 20240719 (Red Hat 11.5.0-11) Ubuntu 24.04 Kernel: 5.4 Compiler: gcc gcc (Ubuntu 13.3.0-6ubuntu2~24.04) 13.3.0 Fedora Linux 42 Kernel: 5.4 Compiler: clang gcc (GCC) 15.2.1 20250808 (Red Hat 15.2.1-1) Fedora Linux 41 Kernel: 5.4 Compiler: gcc gcc (GCC) 14.3.1 20250523 (Red Hat 14.3.1-1) Fedora Linux 40 Kernel: 5.4 Compiler: gcc gcc (GCC) 14.2.1 20240912 (Red Hat 14.2.1-3) Debian GNU/Linux 12 Kernel: 5.4 Compiler: gcc gcc (Debian 12.2.0-14+deb12u1) 12.2.0 To view detailed results, visit: https://lab.dpdk.org/results/dashboard/patchsets/34646/ UNH-IOL DPDK Community Lab To manage your email subscriptions, visit: https://lab.dpdk.org/results/dashboard/preferences/subscriptions/