From mboxrd@z Thu Jan 1 00:00:00 1970 Return-Path: Received: from mails.dpdk.org (mails.dpdk.org [217.70.189.124]) by inbox.dpdk.org (Postfix) with ESMTP id 1335048B64 for ; Fri, 21 Nov 2025 07:53:39 +0100 (CET) Received: from mails.dpdk.org (localhost [127.0.0.1]) by mails.dpdk.org (Postfix) with ESMTP id E3285400EF; Fri, 21 Nov 2025 07:53:38 +0100 (CET) Received: from mail-yx1-f100.google.com (mail-yx1-f100.google.com [74.125.224.100]) by mails.dpdk.org (Postfix) with ESMTP id BE002400EF for ; Fri, 21 Nov 2025 07:53:37 +0100 (CET) Received: by mail-yx1-f100.google.com with SMTP id 956f58d0204a3-642f3bab0c8so1151932d50.0 for ; Thu, 20 Nov 2025 22:53:37 -0800 (PST) DKIM-Signature: v=1; a=rsa-sha256; c=relaxed/relaxed; d=iol.unh.edu; s=unh-iol; t=1763708017; x=1764312817; darn=dpdk.org; h=cc:to:from:subject:message-id:date:from:to:cc:subject:date :message-id:reply-to; bh=amIx/N+oq5stqzbYlOJYHilBBamK5etZqI/NHL0ekBg=; b=Tn0x0HK1P1I8iVp+CjqB4PEBdbNiJtf9cjKdEZg1fNTOH1wIVD17a7RhUtNHBM1nxI QQHAi98n5reW4r0UM5q0DJxoC9BA0TPPZ52xO3TI5tLf7sjYlnJWVZrztI7gWU5KWifo B0D99JtxGNqY2qXIYe+oQpNepSqJ+ms5Hvoig= X-Google-DKIM-Signature: v=1; a=rsa-sha256; c=relaxed/relaxed; d=1e100.net; s=20230601; t=1763708017; x=1764312817; h=cc:to:from:subject:message-id:date:x-gm-gg:x-gm-message-state:from :to:cc:subject:date:message-id:reply-to; bh=amIx/N+oq5stqzbYlOJYHilBBamK5etZqI/NHL0ekBg=; b=MqujJPtcghYCSrhaFdN1QPdmjB3DgcTGLCIDvhgb2EEIocbUcf5johOeMNqvRlztmn hyuyPHzyFh6/Aca7ZaiSJVD2R2u0HJB4dvNalTipKXtVBiLdp3GXPuekr+9CIa81c1bE +iX9cNJgcBkDPdVKpksfWK+DBMdQmSf5brzXJ9MIJLwNbbX4mYYnSFgW8MFtS+Zzg3To SOo0V0LGu9t+CePHaJHrCb8ttZyc8z4Tt7rGtBMykuWrTHiCQTR/bEod498Cxi+1xYMb JRnQkDx5Lfcde8Elqlo6tUXqN8t7DrTmFzjm+zSUF1OQbFdvjxrpdfmHeOvrpcm5UGlC +Faw== X-Gm-Message-State: AOJu0YwEpCqY+hWnCxVTa7e2/CXostf5HB+RSzSOU+jtJwZxlIT9kXMm 79TJeiS1r1Fj9jko5FiQLJcN/G9lIQ/QtVanBC7nnoxgdJIzkusSRqMS2vU1P6aO64XzivabAbz sqPmt7GkAXgpRG4NjBbRpVz0geyHbW02eGEJo156AfTHfH6sEnWEX X-Gm-Gg: ASbGncuM7Va9M/SURc0PwKoV4yDS3KAuYpPm0Yn0uoiXS1yfcQYc9v14blcx0JG7Cnj 6OJCFXvd+yJavrmrLBie6e9WVigKEBxUmrOkWBiDkxn1ifwWcXXfkBZHzHUf5W/0RsZ87Q2D63Y 5qwQbO8C8TIi1PrtYDWktC4C7Gu+nwipCDTdBPwpKMcfG0KKy1a5mS94uXpd3LTFmExlX8FWh+p +5LXoK3IsOIXd0Ey1Boc/t+Qao6bLvLOh5480TSdfYi7ttLWHQmth1T8A+W5lk0OwiDd7mrwpSA avlogDW4xk9pSySLofk1vfKCZxNoB2BWIJCVlfUv0bLd9Q14NZCu/t1C7T89jRilMnL47/DaC1f EeQ4Gv0KMjyLe0WnsXbQ= X-Google-Smtp-Source: AGHT+IELys7PdEpAerrrvLL0NC6/0UCooqw51pWcxHEme9EUeHrlwnSP/JE99UKNRI4vNpz/H8BixOiONFov X-Received: by 2002:a05:690e:2506:20b0:641:f5bc:6971 with SMTP id 956f58d0204a3-64302af9f63mr560073d50.77.1763708017030; Thu, 20 Nov 2025 22:53:37 -0800 (PST) Received: from postal.iol.unh.edu (postal.iol.unh.edu. [2606:4100:3880:1234::84]) by smtp-relay.gmail.com with ESMTPS id 956f58d0204a3-642f7188142sm327947d50.9.2025.11.20.22.53.36 (version=TLS1_2 cipher=ECDHE-ECDSA-AES128-GCM-SHA256 bits=128/128); Thu, 20 Nov 2025 22:53:37 -0800 (PST) X-Relaying-Domain: iol.unh.edu Date: Thu, 20 Nov 2025 22:53:37 -0800 (PST) Message-ID: <69200c71.050a0220.203653.ff9dSMTPIN_ADDED_MISSING@mx.google.com> Received: from [172.21.0.2] (unknown [172.18.0.240]) by postal.iol.unh.edu (Postfix) with ESMTP id 805C96051830; Fri, 21 Nov 2025 01:53:36 -0500 (EST) Subject: |SUCCESS| [GIT MASTER] 0bd935abcb823f581ce53986986aa54eaf6f8140 From: dpdklab@iol.unh.edu To: Test Report Cc: dpdk-test-reports@iol.unh.edu, Xueming Li , Kevin Traynor , Luca Boccassi Content-Type: text/plain X-BeenThere: test-report@dpdk.org X-Mailman-Version: 2.1.29 Precedence: list List-Id: automatic DPDK test reports List-Unsubscribe: , List-Archive: List-Post: List-Help: List-Subscribe: , Errors-To: test-report-bounces@dpdk.org _Testing PASS_ Branch: tags/v24.11 0bd935abcb823f581ce53986986aa54eaf6f8140 --> testing pass Upstream job id: Generic-Unit-Test-DPDK#394782 Test environment and result as below: +-------------------------------+----------------+ | Environment | dpdk_unit_test | +===============================+================+ | CentOS Stream 10 | PASS | +-------------------------------+----------------+ | Ubuntu 24.04 | PASS | +-------------------------------+----------------+ | Red Hat Enterprise Linux 9.5 | PASS | +-------------------------------+----------------+ | CentOS Stream 9 | PASS | +-------------------------------+----------------+ | Fedora Linux 41 | PASS | +-------------------------------+----------------+ | Ubuntu 20.04 | PASS | +-------------------------------+----------------+ | Ubuntu 22.04 | PASS | +-------------------------------+----------------+ | Fedora Linux 42 | PASS | +-------------------------------+----------------+ | Fedora Linux 40 | PASS | +-------------------------------+----------------+ | Red Hat Enterprise Linux 8.10 | PASS | +-------------------------------+----------------+ | Debian GNU/Linux 12 | PASS | +-------------------------------+----------------+ | Windows Server 2022 | PASS | +-------------------------------+----------------+ CentOS Stream 10 Kernel: 5.15 Compiler: gcc gcc (GCC) 14.2.1 20250110 (Red Hat 14.2.1-8) Ubuntu 24.04 Kernel: 5.15 Compiler: gcc gcc (Ubuntu 13.3.0-6ubuntu2~24.04) 13.3.0 Red Hat Enterprise Linux 9.5 Kernel: 5.15 Compiler: gcc gcc (GCC) 11.5.0 20240719 (Red Hat 11.5.0-2) CentOS Stream 9 Kernel: 5.15 Compiler: gcc gcc (GCC) 11.5.0 20240719 (Red Hat 11.5.0-11) Fedora Linux 41 Kernel: 5.15 Compiler: gcc gcc (GCC) 14.3.1 20250523 (Red Hat 14.3.1-1) Ubuntu 20.04 Kernel: 5.15 Compiler: gcc gcc (Ubuntu 9.4.0-1ubuntu1~20.04.2) 9.4.0 Ubuntu 22.04 Kernel: 5.15 Compiler: gcc gcc (Ubuntu 11.4.0-1ubuntu1~22.04) 11.4.0 Fedora Linux 42 Kernel: 5.15 Compiler: gcc gcc (GCC) 15.2.1 20250808 (Red Hat 15.2.1-1) Fedora Linux 40 Kernel: 5.15 Compiler: clang gcc (GCC) 14.2.1 20240912 (Red Hat 14.2.1-3) Red Hat Enterprise Linux 8.10 Kernel: 5.15 Compiler: gcc gcc (GCC) 8.5.0 20210514 (Red Hat 8.5.0-22) Debian GNU/Linux 12 Kernel: 5.15 Compiler: gcc gcc (Debian 12.2.0-14+deb12u1) 12.2.0 Windows Server 2022 Kernel: 10.0.20348.2031 Compiler: clang 15.0.7, gcc 14.1.0 (MinGW), and MSVC VS 19.39.33521 To view detailed results, visit: https://lab.dpdk.org/results/dashboard/tarballs/35668/ UNH-IOL DPDK Community Lab To manage your email subscriptions, visit: https://lab.dpdk.org/results/dashboard/preferences/subscriptions/