From mboxrd@z Thu Jan 1 00:00:00 1970 Return-Path: Received: from mails.dpdk.org (mails.dpdk.org [217.70.189.124]) by inbox.dpdk.org (Postfix) with ESMTP id A442848B66 for ; Fri, 21 Nov 2025 08:12:10 +0100 (CET) Received: from mails.dpdk.org (localhost [127.0.0.1]) by mails.dpdk.org (Postfix) with ESMTP id 7C7D4400EF; Fri, 21 Nov 2025 08:12:10 +0100 (CET) Received: from mail-qv1-f100.google.com (mail-qv1-f100.google.com [209.85.219.100]) by mails.dpdk.org (Postfix) with ESMTP id 27215400EF for ; Fri, 21 Nov 2025 08:12:09 +0100 (CET) Received: by mail-qv1-f100.google.com with SMTP id 6a1803df08f44-8804650ca32so15686076d6.0 for ; Thu, 20 Nov 2025 23:12:09 -0800 (PST) DKIM-Signature: v=1; a=rsa-sha256; c=relaxed/relaxed; d=iol.unh.edu; s=unh-iol; t=1763709128; x=1764313928; darn=dpdk.org; h=cc:to:from:subject:message-id:date:from:to:cc:subject:date :message-id:reply-to; bh=iOmqFVP94kIXKBm8sHM9e85HYOQWFZW/Vq74PNtxfdA=; b=dzcJNAUe8NNRRIOgcA1UUexqfGxjO1X9L3yb/OgfitdRgLyxtX5MdRlilBHqWD/5Mh qJwR7aMS9RDzhS19uDqKtTk84vD7kf7xYNQIIiKMe47Z80ykIIqzbW+rjjVB0y1anAcF XfPZNQ1kIs8FxXXo5WViRTpq498mKJUfhVI2k= X-Google-DKIM-Signature: v=1; a=rsa-sha256; c=relaxed/relaxed; d=1e100.net; s=20230601; t=1763709128; x=1764313928; h=cc:to:from:subject:message-id:date:x-gm-gg:x-gm-message-state:from :to:cc:subject:date:message-id:reply-to; bh=iOmqFVP94kIXKBm8sHM9e85HYOQWFZW/Vq74PNtxfdA=; b=l7CTy3PUGbb8wqIDq69KN1RxYBISBsFC5MLYNyYp8g/7VWWcC0TNi4l90Hi0cLLQU/ eA+pJ+yKrzZ1LDx+bbSNrh8DWJ9pcnfMnd9WLj8DvBgdlDKjpQ7RqdSSyX70bHggy9V4 xc8NtUaJE9dQN2mOQxRDXgb+3Tn9qejFHtU+yr8Q3JrMmp4Xe90tXo+G/nLYkYHeIBED 6QN3KO94di2xWLymJPqt0ZXWn37RCrKl/Gd0XyhDcreQU3A158Evz0OJuYPl/8aCnzoK EYUkNLhC94HWl1IceP3fUEv6wVbt/shc3q1mLaL2bm/nUzLzGXe6qn1tL2l/WIeveEoI fDQg== X-Gm-Message-State: AOJu0YyRiWXyeKaLCnqtOrdsZQk+MSBCwh2TCsi/nI4spTiLyLldG2j0 3W0mgURF1YxgUzmO7Q0ShzcRVvUJAXvcYPzsDhrEXKCOqKQVStjBOYNE05zVEG+5HO86UBqH0cR uEZhIkJwZqy9gc+RIYiO9WzTyQqUCk2p8+V/k X-Gm-Gg: ASbGncsoZTZtX36KeFw1m9LfI+L+eF05jsDN3WKPjp2N+Isgqje17R3pWIaPtm8GvZX zgci+yuW0otp3UZ0Z4UyDTSLRXpQaGFqbjUwrqJTIPV/i3a0NR9Iv2Db9gvGzZ9uX5KDcyjcNO+ 5Ju92D92qdqEXRmK5Wze/ZVOAy7o16r2DDEGo+aBVhxDeEEAAtd1ESHsPpQtvpu3MvTROr9MZ0h I20sQksXbG2em63AdoZgJ0nJqeNWXUzfvgGjh0y0O+rZvLA4Z7gPVlunxofILzxm6JuVkZCM5ii XGdI8zpvuLNd5RT7c2Au1OeFvxNfxrYH3vS5kmfkZc7dOzcTRVxB3ijDjEL7iX77bYAUr1ileEs Grvzzh432+j44pqLORwpCBeZDXtjNG+CpoCGpoorgyw== X-Google-Smtp-Source: AGHT+IGMykFF96QOT8vQxqKhGOKv+kT+9c7+kNsUOFLfwcKTKgHi7dyZxfmqaw8LVl4ryLJgRc3ziIT0+7Jv X-Received: by 2002:a05:6214:2f87:b0:880:2cec:3f8b with SMTP id 6a1803df08f44-8847c534282mr21996876d6.59.1763709128506; Thu, 20 Nov 2025 23:12:08 -0800 (PST) Received: from postal.iol.unh.edu (postal.iol.unh.edu. [132.177.123.84]) by smtp-relay.gmail.com with ESMTPS id 6a1803df08f44-8846e311241sm5117416d6.0.2025.11.20.23.12.08 (version=TLS1_2 cipher=ECDHE-ECDSA-AES128-GCM-SHA256 bits=128/128); Thu, 20 Nov 2025 23:12:08 -0800 (PST) X-Relaying-Domain: iol.unh.edu Date: Thu, 20 Nov 2025 23:12:08 -0800 (PST) Message-ID: <692010c8.050a0220.27917e.8c35SMTPIN_ADDED_MISSING@mx.google.com> Received: from [172.21.0.3] (unknown [172.18.0.240]) by postal.iol.unh.edu (Postfix) with ESMTP id 3C58E6051830; Fri, 21 Nov 2025 02:12:08 -0500 (EST) Subject: |SUCCESS| [GIT MASTER] 0bd935abcb823f581ce53986986aa54eaf6f8140 From: dpdklab@iol.unh.edu To: Test Report Cc: dpdk-test-reports@iol.unh.edu, Xueming Li , Kevin Traynor , Luca Boccassi Content-Type: text/plain X-BeenThere: test-report@dpdk.org X-Mailman-Version: 2.1.29 Precedence: list List-Id: automatic DPDK test reports List-Unsubscribe: , List-Archive: List-Post: List-Help: List-Subscribe: , Errors-To: test-report-bounces@dpdk.org _Testing PASS_ Branch: tags/v24.11 0bd935abcb823f581ce53986986aa54eaf6f8140 --> testing pass Upstream job id: Generic-DPDK-Compile-Meson#446389 Test environment and result as below: +-------------------------------+--------------------+------------------+-------------------+-------------------------+----------------------+ | Environment | dpdk_meson_compile | dpdk_compile_ovs | dpdk_msvc_compile | dpdk_llvm_clang_compile | dpdk_mingw64_compile | +===============================+====================+==================+===================+=========================+======================+ | FreeBSD 14.2 | PASS | SKIPPED | SKIPPED | SKIPPED | SKIPPED | +-------------------------------+--------------------+------------------+-------------------+-------------------------+----------------------+ | Ubuntu 20.04 | PASS | SKIPPED | SKIPPED | SKIPPED | SKIPPED | +-------------------------------+--------------------+------------------+-------------------+-------------------------+----------------------+ | CentOS Stream 9 | PASS | SKIPPED | SKIPPED | SKIPPED | SKIPPED | +-------------------------------+--------------------+------------------+-------------------+-------------------------+----------------------+ | CentOS Stream 10 | PASS | SKIPPED | SKIPPED | SKIPPED | SKIPPED | +-------------------------------+--------------------+------------------+-------------------+-------------------------+----------------------+ | Red Hat Enterprise Linux 8.10 | PASS | SKIPPED | SKIPPED | SKIPPED | SKIPPED | +-------------------------------+--------------------+------------------+-------------------+-------------------------+----------------------+ | Debian GNU/Linux 12 | PASS | SKIPPED | SKIPPED | SKIPPED | SKIPPED | +-------------------------------+--------------------+------------------+-------------------+-------------------------+----------------------+ | Fedora Linux 42 | PASS | PASS | SKIPPED | SKIPPED | SKIPPED | +-------------------------------+--------------------+------------------+-------------------+-------------------------+----------------------+ | Red Hat Enterprise Linux 9.5 | PASS | SKIPPED | SKIPPED | SKIPPED | SKIPPED | +-------------------------------+--------------------+------------------+-------------------+-------------------------+----------------------+ | openSUSE Leap 15.6 | PASS | SKIPPED | SKIPPED | SKIPPED | SKIPPED | +-------------------------------+--------------------+------------------+-------------------+-------------------------+----------------------+ | Alpine Linux 3.22.0 | PASS | SKIPPED | SKIPPED | SKIPPED | SKIPPED | +-------------------------------+--------------------+------------------+-------------------+-------------------------+----------------------+ | Ubuntu 24.04 | PASS | PASS | SKIPPED | SKIPPED | SKIPPED | +-------------------------------+--------------------+------------------+-------------------+-------------------------+----------------------+ | Ubuntu 22.04 | PASS | SKIPPED | SKIPPED | SKIPPED | SKIPPED | +-------------------------------+--------------------+------------------+-------------------+-------------------------+----------------------+ | Windows Server 2022 | SKIPPED | SKIPPED | PASS | SKIPPED | PASS | +-------------------------------+--------------------+------------------+-------------------+-------------------------+----------------------+ | Windows Server 2025 | SKIPPED | SKIPPED | SKIPPED | PASS | SKIPPED | +-------------------------------+--------------------+------------------+-------------------+-------------------------+----------------------+ FreeBSD 14.2 Kernel: 14.2-RELEASE Compiler: clang 18.1.6 Ubuntu 20.04 Kernel: 4.19 Compiler: gcc gcc (Ubuntu 9.4.0-1ubuntu1~20.04.2) 9.4.0 CentOS Stream 9 Kernel: 5.15 Compiler: gcc gcc (GCC) 11.5.0 20240719 (Red Hat 11.5.0-11) CentOS Stream 10 Kernel: 5.15 Compiler: gcc gcc (GCC) 14.2.1 20250110 (Red Hat 14.2.1-8) Red Hat Enterprise Linux 8.10 Kernel: 5.15 Compiler: gcc gcc (GCC) 8.5.0 20210514 (Red Hat 8.5.0-22) Debian GNU/Linux 12 Kernel: 5.15 Compiler: gcc gcc (Debian 12.2.0-14+deb12u1) 12.2.0 Fedora Linux 42 Kernel: 5.15 Compiler: gcc gcc (GCC) 15.2.1 20250808 (Red Hat 15.2.1-1) Red Hat Enterprise Linux 9.5 Kernel: 5.15 Compiler: gcc gcc (GCC) 11.5.0 20240719 (Red Hat 11.5.0-2) openSUSE Leap 15.6 Kernel: 5.15 Compiler: gcc gcc (SUSE Linux) 7.5.0 Alpine Linux 3.22.0 Kernel: 5.15 Compiler: gcc gcc (Alpine 14.2.0) 14.2.0 Ubuntu 24.04 Kernel: 5.15 Compiler: gcc gcc (Ubuntu 13.3.0-6ubuntu2~24.04) 13.3.0 Ubuntu 22.04 Kernel: 5.15 Compiler: gcc gcc (Ubuntu 11.4.0-1ubuntu1~22.04) 11.4.0 Windows Server 2022 Kernel: 10.0.20348.2031 Compiler: clang 15.0.7, gcc 14.1.0 (MinGW), and MSVC VS 19.39.33521 Windows Server 2025 Kernel: 10.0.26100 Compiler: clang 15.0.7, gcc 14.1.0 (MinGW), and MSVC VS 19.39.33521 To view detailed results, visit: https://lab.dpdk.org/results/dashboard/tarballs/35668/ UNH-IOL DPDK Community Lab To manage your email subscriptions, visit: https://lab.dpdk.org/results/dashboard/preferences/subscriptions/