From mboxrd@z Thu Jan 1 00:00:00 1970 Return-Path: Received: from mails.dpdk.org (mails.dpdk.org [217.70.189.124]) by inbox.dpdk.org (Postfix) with ESMTP id 675BC48B66 for ; Fri, 21 Nov 2025 08:32:19 +0100 (CET) Received: from mails.dpdk.org (localhost [127.0.0.1]) by mails.dpdk.org (Postfix) with ESMTP id 5F9B8400EF; Fri, 21 Nov 2025 08:32:19 +0100 (CET) Received: from mail-pl1-f225.google.com (mail-pl1-f225.google.com [209.85.214.225]) by mails.dpdk.org (Postfix) with ESMTP id 3C109400EF for ; Fri, 21 Nov 2025 08:32:18 +0100 (CET) Received: by mail-pl1-f225.google.com with SMTP id d9443c01a7336-298145fe27eso26366435ad.1 for ; Thu, 20 Nov 2025 23:32:18 -0800 (PST) DKIM-Signature: v=1; a=rsa-sha256; c=relaxed/relaxed; d=iol.unh.edu; s=unh-iol; t=1763710337; x=1764315137; darn=dpdk.org; h=cc:to:from:subject:message-id:date:from:to:cc:subject:date :message-id:reply-to; bh=wZS20M/+cVGtkftia+t2xaVaeI5JPfFmHWwxjRK62B4=; b=IWSmM2FIGLSD9zxgatSW4fKBUkx87ArK5LtGlTZyMlnjwf8LQjWDgfuqnQwaadSsD+ 30+wi4kG+WfMm7ct/MRDUORo3tbPQsTQ93blBMJT2Kkgoyv4PehnCW2GV8CiygWmdxf6 1rIbvoPUAlKVVVAi2uE9E1tSdFYUeDhCLZqNw= X-Google-DKIM-Signature: v=1; a=rsa-sha256; c=relaxed/relaxed; d=1e100.net; s=20230601; t=1763710337; x=1764315137; h=cc:to:from:subject:message-id:date:x-gm-gg:x-gm-message-state:from :to:cc:subject:date:message-id:reply-to; bh=wZS20M/+cVGtkftia+t2xaVaeI5JPfFmHWwxjRK62B4=; b=LHV3Ud2L48q6U+7FXFBq/VuzIsE7+C46uaHYpqHZaDNL7yVi/nh9cpI4k3KaiwDMfm HUZq/Oa4VvivHCO4YuSWpfexiJcRQN7qBsgAnDWUluQOCGxAQOP8f3QyOHTnn20xtU5i z0+p5QYPRKF8Le5DRtvq2UCiqMECxJvcikFFHdP+sBP4+T/f1/fc+dG6ETW9I8ykiALw eccrSWEHIVLHuTUGn7jEWrtWrnbkcMFw8GW1Ga6RU7rWRBhFiikQqs+B1Qw8F0O7rCDE DRzs2+4zBQr6YNOVqt5MLCuJrRWvxxfnuQrrf9S/Q5CsBCd+l832Kbgmv/p7e5e1a0ow 363g== X-Gm-Message-State: AOJu0Yz5tasrfGe6EbKPCAyyP0Dv7+c2tTdKseMoK5C5KU3jlAKWOo68 U6JbErOsk7w1uzLSP7+gxLlPBE0OUAS43Lcq//6tMNSdqGUFRfA2vYiVkCH2xRGZXddl6ew6AXY +v8r4r2zW6xI+18CP6hjPG0xbdFoCH3qvXniJGFjay4CWFoQpw0fX X-Gm-Gg: ASbGncuc8FtVyDDwFHZQLBGS8qCKPVqa7dJ5qB21YzvoLnOH97iPxVfOTslObwSHYm9 h6rZK0Xz5I+zYnHRUCooD9MSVSlSDoU7f3XFSogAanwJdkI+Uex3uPlvRFITmJhm44OZLTO4xuC C7S+B/+B7AGCYkQeF9AkTairTkwJmQGy7UVgyoWMCycz6EOipCvqHCxse7jXfWQuJ5HQU9WnSCF yrs4Wb6kd6Fr/R3553145JpCTFMTluEvOuLRdj0LNbES5PhayQHvYuNeaXAPIhRsqi5wc7S3h3B e1L6RnCEI0EfX3xKKjv4KgLrpNpAzzQymYCsTdzDv+6X0Av/WyHKi/brUeR9FnQOU4oD4+cbDZa 5waAv5eM6JNvhw4hbRyg= X-Google-Smtp-Source: AGHT+IGFzSAgBO1aMrQunorQlsdptPK0ub2nsP+lZasLLiT4l7BdZ4tBG3IJwwI7sZk7DCpHLS0CS135pKBt X-Received: by 2002:a17:902:e950:b0:295:96bc:8699 with SMTP id d9443c01a7336-29b6bea56bamr22512145ad.20.1763710337271; Thu, 20 Nov 2025 23:32:17 -0800 (PST) Received: from postal.iol.unh.edu (postal.iol.unh.edu. [2606:4100:3880:1234::84]) by smtp-relay.gmail.com with ESMTPS id d9443c01a7336-29b5b10791csm5337545ad.2.2025.11.20.23.32.17 (version=TLS1_2 cipher=ECDHE-ECDSA-AES128-GCM-SHA256 bits=128/128); Thu, 20 Nov 2025 23:32:17 -0800 (PST) X-Relaying-Domain: iol.unh.edu Date: Thu, 20 Nov 2025 23:32:17 -0800 (PST) Message-ID: <69201581.170a0220.1b858b.be23SMTPIN_ADDED_MISSING@mx.google.com> Received: from [172.21.0.3] (unknown [172.18.0.240]) by postal.iol.unh.edu (Postfix) with ESMTP id 80A6E6051830; Fri, 21 Nov 2025 02:32:16 -0500 (EST) Subject: |SUCCESS| [GIT MASTER] d297bb24650efb7040a66a3270e01c94fc8ee4f5 From: dpdklab@iol.unh.edu To: Test Report Cc: dpdk-test-reports@iol.unh.edu, Xueming Li , Kevin Traynor , Luca Boccassi Content-Type: text/plain X-BeenThere: test-report@dpdk.org X-Mailman-Version: 2.1.29 Precedence: list List-Id: automatic DPDK test reports List-Unsubscribe: , List-Archive: List-Post: List-Help: List-Subscribe: , Errors-To: test-report-bounces@dpdk.org _Testing PASS_ Branch: tags/v22.11 d297bb24650efb7040a66a3270e01c94fc8ee4f5 --> testing pass Upstream job id: Generic-DPDK-Compile-Meson#446417 Test environment and result as below: +-------------------------------+--------------------+-------------------------+----------------------+ | Environment | dpdk_meson_compile | dpdk_llvm_clang_compile | dpdk_mingw64_compile | +===============================+====================+=========================+======================+ | Red Hat Enterprise Linux 8.10 | PASS | SKIPPED | SKIPPED | +-------------------------------+--------------------+-------------------------+----------------------+ | Fedora Linux 42 | PASS | SKIPPED | SKIPPED | +-------------------------------+--------------------+-------------------------+----------------------+ | Ubuntu 22.04 | PASS | SKIPPED | SKIPPED | +-------------------------------+--------------------+-------------------------+----------------------+ | Ubuntu 24.04 | PASS | SKIPPED | SKIPPED | +-------------------------------+--------------------+-------------------------+----------------------+ | openSUSE Leap 15.6 | PASS | SKIPPED | SKIPPED | +-------------------------------+--------------------+-------------------------+----------------------+ | CentOS Stream 9 | PASS | SKIPPED | SKIPPED | +-------------------------------+--------------------+-------------------------+----------------------+ | Ubuntu 20.04 | PASS | SKIPPED | SKIPPED | +-------------------------------+--------------------+-------------------------+----------------------+ | Red Hat Enterprise Linux 9.5 | PASS | SKIPPED | SKIPPED | +-------------------------------+--------------------+-------------------------+----------------------+ | CentOS Stream 10 | PASS | SKIPPED | SKIPPED | +-------------------------------+--------------------+-------------------------+----------------------+ | Debian GNU/Linux 12 | PASS | SKIPPED | SKIPPED | +-------------------------------+--------------------+-------------------------+----------------------+ | FreeBSD 14.2 | PASS | SKIPPED | SKIPPED | +-------------------------------+--------------------+-------------------------+----------------------+ | Windows Server 2025 | SKIPPED | PASS | SKIPPED | +-------------------------------+--------------------+-------------------------+----------------------+ | Windows Server 2022 | SKIPPED | SKIPPED | PASS | +-------------------------------+--------------------+-------------------------+----------------------+ Red Hat Enterprise Linux 8.10 Kernel: 5.15 Compiler: gcc gcc (GCC) 8.5.0 20210514 (Red Hat 8.5.0-22) Fedora Linux 42 Kernel: 5.15 Compiler: clang gcc (GCC) 15.2.1 20250808 (Red Hat 15.2.1-1) Ubuntu 22.04 Kernel: 5.15 Compiler: gcc gcc (Ubuntu 11.4.0-1ubuntu1~22.04) 11.4.0 Ubuntu 24.04 Kernel: 5.15 Compiler: gcc gcc (Ubuntu 13.3.0-6ubuntu2~24.04) 13.3.0 openSUSE Leap 15.6 Kernel: 5.15 Compiler: gcc gcc (SUSE Linux) 7.5.0 CentOS Stream 9 Kernel: 5.15 Compiler: gcc gcc (GCC) 11.5.0 20240719 (Red Hat 11.5.0-11) Ubuntu 20.04 Kernel: 4.19 Compiler: gcc gcc (Ubuntu 9.4.0-1ubuntu1~20.04.2) 9.4.0 Red Hat Enterprise Linux 9.5 Kernel: 5.15 Compiler: gcc gcc (GCC) 11.5.0 20240719 (Red Hat 11.5.0-2) CentOS Stream 10 Kernel: 5.15 Compiler: gcc gcc (GCC) 14.2.1 20250110 (Red Hat 14.2.1-8) Debian GNU/Linux 12 Kernel: 5.15 Compiler: gcc gcc (Debian 12.2.0-14+deb12u1) 12.2.0 FreeBSD 14.2 Kernel: 14.2-RELEASE Compiler: clang 18.1.6 Windows Server 2025 Kernel: 10.0.26100 Compiler: clang 15.0.7, gcc 14.1.0 (MinGW), and MSVC VS 19.39.33521 Windows Server 2022 Kernel: 10.0.20348.2031 Compiler: clang 15.0.7, gcc 14.1.0 (MinGW), and MSVC VS 19.39.33521 To view detailed results, visit: https://lab.dpdk.org/results/dashboard/tarballs/35669/ UNH-IOL DPDK Community Lab To manage your email subscriptions, visit: https://lab.dpdk.org/results/dashboard/preferences/subscriptions/