From mboxrd@z Thu Jan 1 00:00:00 1970 Return-Path: Received: from mails.dpdk.org (mails.dpdk.org [217.70.189.124]) by inbox.dpdk.org (Postfix) with ESMTP id CE41348B66 for ; Fri, 21 Nov 2025 09:59:58 +0100 (CET) Received: from mails.dpdk.org (localhost [127.0.0.1]) by mails.dpdk.org (Postfix) with ESMTP id A25EF400EF; Fri, 21 Nov 2025 09:59:58 +0100 (CET) Received: from mail-yx1-f98.google.com (mail-yx1-f98.google.com [74.125.224.98]) by mails.dpdk.org (Postfix) with ESMTP id 6A4B040267 for ; Fri, 21 Nov 2025 09:59:57 +0100 (CET) Received: by mail-yx1-f98.google.com with SMTP id 956f58d0204a3-64306a32ed2so13133d50.2 for ; Fri, 21 Nov 2025 00:59:57 -0800 (PST) DKIM-Signature: v=1; a=rsa-sha256; c=relaxed/relaxed; d=iol.unh.edu; s=unh-iol; t=1763715596; x=1764320396; darn=dpdk.org; h=cc:to:from:subject:message-id:date:from:to:cc:subject:date :message-id:reply-to; bh=nbRuB5V+RRgo/Tnkxp4EUSRY8Wn/bnYdODzj1322pLg=; b=YEBssvCcNJYsJYebnjeedJFx63ibIA6Z9+E22z0rrHhkVkACbSg4e1UgP2M1UWF+af m8CxbMwUwC22kEwYm0R7VUWsj5Vw2xfplO0k/rU9zqg8DVWEDtm7VVeyZJiyqhjxH+DM UoMq+rISaok/JQOL6d9SpaoGxXXnQfJ2lV0ts= X-Google-DKIM-Signature: v=1; a=rsa-sha256; c=relaxed/relaxed; d=1e100.net; s=20230601; t=1763715596; x=1764320396; h=cc:to:from:subject:message-id:date:x-gm-gg:x-gm-message-state:from :to:cc:subject:date:message-id:reply-to; bh=nbRuB5V+RRgo/Tnkxp4EUSRY8Wn/bnYdODzj1322pLg=; b=nrEpz9qnGGoCQR6gx5TFkWvoOt9tgO4Mp9rd8uNJNO9qybnymibN43X2PSoRYIY8Eq VDmb6HSollI8xf9rAAjysFCu3P0b4e7gp34W3Mkxa8LwqFq+Ny/hxUgn49NcPWgYJs2S 5oThTVy/+zxSiio1X4hcoXVvTcg0tAyPMkWF2pEXVJOlERuwHTsdk2LLEF6FMXve/swt +yNfGCuJ/y+pVgLuTQDmNUiHizodBQ7rLvPFk5twI5kIVgMLzEQDtMvY2flYRnYyl750 bY79coJgARQU6Fjl+Ltu9tQOSw2VkhDNKmx321CPeNaTD0fgmF048THjgG6m+u2fTU0X pHMQ== X-Gm-Message-State: AOJu0Yzp4b9UYn9XCoFltOWY/TP9CUq/GrfMdHvUE7CQiCl3vzkHTaXf Mp0pCOBBQ4c6FPr6thTBh192QYxaRRxizxR7PME7XYr9RAmi0QpUMc7UncHVsag57ZRY4zjcspe fEbReANwAUi5J2cJIB7lZei3965PNWosO66vq X-Gm-Gg: ASbGncvR5wJqiacIu6QQtB+1q36JQgJFcuQKJWSaGQqtbffqk1mM44XKJYnODF9QEgX DmbmgT+Ik6gfaItMxi4Q0ncPJuojLXhKZ0ZtKEnORHj4kJPAEc/PkF0nwtiYOvxvj1XzgJmNbYU Hl9idpqUjHc+OwYjGUQpwdDywoWtgVd2AZKmNFlfNAGfLEQpBd2mCwc6hZmZ4GKR5AqgQvVZo2y f384RSe5fhZvSPPpk4D4VfuNX6VRzgvTDV9oCJ9tboAkpSk29rT8sD4Sk/wrjO0oAThi5Y3Jxt7 La6J/LxeYZsJ6HRxnS9koWQM9mRUKyfFY8eGyP2xkikfjcK1dyqjFVkl3hbm7tch2Q0nJzDGMJg l+E8ZeBIbahpQABxxO0AHrSXGiN+jfXFHDt6c0+WGJA== X-Google-Smtp-Source: AGHT+IHxlXHJPuEGjM7gCi3cVMYyCymRjBzOZfxCu5Eju7u33nPVTWwAov6GqM4acEGzzRASRg8siZTEZNym X-Received: by 2002:a53:d049:0:10b0:63f:b922:eda7 with SMTP id 956f58d0204a3-64302a3f214mr822988d50.23.1763715596453; Fri, 21 Nov 2025 00:59:56 -0800 (PST) Received: from postal.iol.unh.edu (postal.iol.unh.edu. [132.177.123.84]) by smtp-relay.gmail.com with ESMTPS id 956f58d0204a3-642f7188142sm350501d50.9.2025.11.21.00.59.56 (version=TLS1_2 cipher=ECDHE-ECDSA-AES128-GCM-SHA256 bits=128/128); Fri, 21 Nov 2025 00:59:56 -0800 (PST) X-Relaying-Domain: iol.unh.edu Date: Fri, 21 Nov 2025 00:59:56 -0800 (PST) Message-ID: <69202a0c.050a0220.203653.0f5fSMTPIN_ADDED_MISSING@mx.google.com> Received: from [172.21.0.2] (unknown [172.18.0.240]) by postal.iol.unh.edu (Postfix) with ESMTP id 21E276051830; Fri, 21 Nov 2025 03:59:56 -0500 (EST) Subject: |SUCCESS| [GIT MASTER] d297bb24650efb7040a66a3270e01c94fc8ee4f5 From: dpdklab@iol.unh.edu To: Test Report Cc: dpdk-test-reports@iol.unh.edu, Xueming Li , Kevin Traynor , Luca Boccassi Content-Type: text/plain X-BeenThere: test-report@dpdk.org X-Mailman-Version: 2.1.29 Precedence: list List-Id: automatic DPDK test reports List-Unsubscribe: , List-Archive: List-Post: List-Help: List-Subscribe: , Errors-To: test-report-bounces@dpdk.org _Testing PASS_ Branch: tags/v22.11 d297bb24650efb7040a66a3270e01c94fc8ee4f5 --> testing pass Upstream job id: Generic-Unit-Test-DPDK#394803 Test environment and result as below: +-----------------+------------------------------+--------------+---------------------------+----------------+ | Environment | cryptodev_sw_snow3g_autotest | lpm_autotest | cryptodev_sw_zuc_autotest | dpdk_unit_test | +=================+==============================+==============+===========================+================+ | Debian 12 (arm) | PASS | SKIPPED | PASS | SKIPPED | +-----------------+------------------------------+--------------+---------------------------+----------------+ | Ubuntu 20.04 | SKIPPED | PASS | SKIPPED | SKIPPED | +-----------------+------------------------------+--------------+---------------------------+----------------+ | Ubuntu 22.04 | SKIPPED | SKIPPED | SKIPPED | PASS | +-----------------+------------------------------+--------------+---------------------------+----------------+ Debian 12 (arm) Kernel: Depends on container host Compiler: gcc (Debian 12.2.0-14) 12.2.0 Ubuntu 20.04 Kernel: 5.4 Compiler: gcc gcc (Ubuntu 9.4.0-1ubuntu1~20.04.2) 9.4.0 Ubuntu 22.04 Kernel: 5.15 Compiler: gcc gcc (Ubuntu 11.4.0-1ubuntu1~22.04.2) 11.4.0 To view detailed results, visit: https://lab.dpdk.org/results/dashboard/tarballs/35669/ UNH-IOL DPDK Community Lab To manage your email subscriptions, visit: https://lab.dpdk.org/results/dashboard/preferences/subscriptions/