From mboxrd@z Thu Jan 1 00:00:00 1970 Return-Path: Received: from mails.dpdk.org (mails.dpdk.org [217.70.189.124]) by inbox.dpdk.org (Postfix) with ESMTP id 66E6A48B68 for ; Fri, 21 Nov 2025 10:58:26 +0100 (CET) Received: from mails.dpdk.org (localhost [127.0.0.1]) by mails.dpdk.org (Postfix) with ESMTP id 4320B400EF; Fri, 21 Nov 2025 10:58:26 +0100 (CET) Received: from mail-dl1-f97.google.com (mail-dl1-f97.google.com [74.125.82.97]) by mails.dpdk.org (Postfix) with ESMTP id 70B57400EF for ; Fri, 21 Nov 2025 10:58:24 +0100 (CET) Received: by mail-dl1-f97.google.com with SMTP id a92af1059eb24-11b6bc976d6so2665668c88.0 for ; Fri, 21 Nov 2025 01:58:24 -0800 (PST) DKIM-Signature: v=1; a=rsa-sha256; c=relaxed/relaxed; d=iol.unh.edu; s=unh-iol; t=1763719103; x=1764323903; darn=dpdk.org; h=cc:to:from:subject:message-id:date:from:to:cc:subject:date :message-id:reply-to; bh=PPW2oFi6gIjmbAzM+qzsTwGXxHNj/HBBCD2+5m4jUKE=; b=Q1dX5rn5EW9zuwgOeyn3cULj3WzJzAX9wCmqYKe1f3hf9syhsS3KzYk4MDkckUfJNq yHJpk2gzSAEy4CZTsYazmGHEwepwaVFH7/zwlAESDCPyWPZCA5b3HQRgtzlXheXQ00Xz ufStwzEcjQsEJwCSiCBCB1YNj8ViJIQTZsJr0= X-Google-DKIM-Signature: v=1; a=rsa-sha256; c=relaxed/relaxed; d=1e100.net; s=20230601; t=1763719103; x=1764323903; h=cc:to:from:subject:message-id:date:x-gm-gg:x-gm-message-state:from :to:cc:subject:date:message-id:reply-to; bh=PPW2oFi6gIjmbAzM+qzsTwGXxHNj/HBBCD2+5m4jUKE=; b=JrSKfqVuwZ1ZxuTQygwro/G/kZTWqRDgL5Sli4+dCcBT6us1onABRnK4B1SovCsfpI FbPhpz+/l11id6ZTue/MVJGX9h8Ho/UkMEz0sjUszafUlVEKNM7uYn/OqjUG9S4Mj8hz Xio3rV33d0CfvhNc4kNTWPrBQmfl3IB88VKtBxvOvqTlmKzeIl5QsDWiCh1L9PtS75vO ZA2yvThXUYzL7nYHcW/Tx5lYvrdb1nOrBYC2zUAH9jPvFougXFZvT1/Dlj5reDj9K3DJ Mwrq9atXsIefrBjgSECiGZGtrhYSiH8de57jvfRkFWeV8YkRX3z2AZkQptTnvB34TKhY 9+fA== X-Gm-Message-State: AOJu0YwePeHQno7Wi1f9dkyOJWBodbO1rjiEcRaeZ6UoAE0F6zgg3L/L abs7GkI4yNeGmfyBE1vanXmGHWZbs2ZqJpSjqVkVKbBBpgrbXb1DZbse8VCdBLxj8c8PtXU3IOQ meZd5U48TqzqgIa7I3qJzxGVW6GSi0115PqgC X-Gm-Gg: ASbGncvBp2IfITliMyDsCXiI38ZrRbO3wxrBUz+zZeqAvQSxE9YIyh0aQCjtjsdsOWq K6fpMA+NOST42RA2xrtmDqxKeTq8a5TNDoRkIWm5ccXzhP9j0ml6xH12//LF+e7z0D0sWchnQML pX+t4oAkOglH05BuBptRc7vI1wywciAeG0mhqoyTpGRa8c0bK6g7gyXb7DDWMZJdXU/zCUDUhRS s3Yl+C89KO9jXjcqJXes56m/+T1hlpqq6Lx0gC1nSq34hqX38OKxyyaNOBawkHCSB6kDXs3b+zb It1JoXmNrBjeVPZ1RtLLAf/FoQmEu721lbgRlc8H5XO+RpkNrORv/8n6jQE8IrILnVQiz9B2Epz NIRRePn1AEMVhsex75AJipSxels8vUGwG/SJpcq/5zw== X-Google-Smtp-Source: AGHT+IEG29mK/Wk4mbmMq9EhfouRapEg2W+R62RzG086+8+n79pklFc1y9WNzTb9BaiDP/02YJ2h9/vGORNM X-Received: by 2002:a05:7022:e25:b0:11a:515c:e891 with SMTP id a92af1059eb24-11c94a4db03mr2036107c88.0.1763719103395; Fri, 21 Nov 2025 01:58:23 -0800 (PST) Received: from postal.iol.unh.edu (postal.iol.unh.edu. [132.177.123.84]) by smtp-relay.gmail.com with ESMTPS id a92af1059eb24-11c93daa4fdsm546142c88.1.2025.11.21.01.58.23 (version=TLS1_2 cipher=ECDHE-ECDSA-AES128-GCM-SHA256 bits=128/128); Fri, 21 Nov 2025 01:58:23 -0800 (PST) X-Relaying-Domain: iol.unh.edu Date: Fri, 21 Nov 2025 01:58:23 -0800 (PST) Message-ID: <692037bf.050a0220.3b62d7.a61aSMTPIN_ADDED_MISSING@mx.google.com> Received: from [172.21.0.2] (unknown [172.18.0.240]) by postal.iol.unh.edu (Postfix) with ESMTP id 3F7EF60003F7; Fri, 21 Nov 2025 04:58:22 -0500 (EST) Subject: |SUCCESS| [GIT MASTER] d297bb24650efb7040a66a3270e01c94fc8ee4f5 From: dpdklab@iol.unh.edu To: Test Report Cc: dpdk-test-reports@iol.unh.edu, Xueming Li , Kevin Traynor , Luca Boccassi Content-Type: text/plain X-BeenThere: test-report@dpdk.org X-Mailman-Version: 2.1.29 Precedence: list List-Id: automatic DPDK test reports List-Unsubscribe: , List-Archive: List-Post: List-Help: List-Subscribe: , Errors-To: test-report-bounces@dpdk.org _Testing PASS_ Branch: tags/v22.11 d297bb24650efb7040a66a3270e01c94fc8ee4f5 --> testing pass Upstream job id: Generic-DPDK-Compile-Meson#446414 Test environment and result as below: +------------------------------+--------------------+ | Environment | dpdk_meson_compile | +==============================+====================+ | Ubuntu 20.04 | PASS | +------------------------------+--------------------+ | Red Hat Enterprise Linux 9.5 | PASS | +------------------------------+--------------------+ | Debian GNU/Linux 12 | PASS | +------------------------------+--------------------+ | Fedora Linux 42 | PASS | +------------------------------+--------------------+ | Ubuntu 22.04 | PASS | +------------------------------+--------------------+ | CentOS Stream 10 | PASS | +------------------------------+--------------------+ | Ubuntu 24.04 | PASS | +------------------------------+--------------------+ | CentOS Stream 9 | PASS | +------------------------------+--------------------+ Ubuntu 20.04 Kernel: 5.15 Compiler: aarch64-linux-gnu-gcc gcc (Ubuntu 9.4.0-1ubuntu1~20.04.2) 9.4.0 Red Hat Enterprise Linux 9.5 Kernel: 5.4 Compiler: gcc gcc (GCC) 11.5.0 20240719 (Red Hat 11.5.0-2) Debian GNU/Linux 12 Kernel: 5.4 Compiler: gcc gcc (Debian 12.2.0-14+deb12u1) 12.2.0 Fedora Linux 42 Kernel: 5.4 Compiler: clang gcc (GCC) 15.2.1 20250808 (Red Hat 15.2.1-1) Ubuntu 22.04 Kernel: 5.4 Compiler: gcc gcc (Ubuntu 11.4.0-1ubuntu1~22.04) 11.4.0 CentOS Stream 10 Kernel: 5.4 Compiler: gcc gcc (GCC) 14.2.1 20250110 (Red Hat 14.2.1-8) Ubuntu 24.04 Kernel: 5.4 Compiler: gcc gcc (Ubuntu 13.3.0-6ubuntu2~24.04) 13.3.0 CentOS Stream 9 Kernel: 5.4 Compiler: gcc gcc (GCC) 11.5.0 20240719 (Red Hat 11.5.0-11) To view detailed results, visit: https://lab.dpdk.org/results/dashboard/tarballs/35669/ UNH-IOL DPDK Community Lab To manage your email subscriptions, visit: https://lab.dpdk.org/results/dashboard/preferences/subscriptions/